Workbook
Name Names: 'Player Search'!$A$3:$A$123

Sheet Player Search
C2: B. Bazell
A3: B. Bazell
A4: C. Beardall | C4: Bowling | N4: Batting
A5: H. Beardall
A6: R. Beardall | D6: Summary | O6: Summary
A7: S. Beardall | D7: Total Innings | E7: Overs Bowled | F7: Runs Conceded | G7: Maidens | H7: Wickets | I7: Average | J7: Economy | K7: Strike Rate | O7: Total Innings | P7: Total Runs | Q7: High Score | R7: Not Outs | S7: Average | T7: 100s | U7: 50s
A8: A. Bignell | C8: All | D8: Unknown | E8: =SUM(E12:E22) -> 5 | F8: =SUM(F12:F22) -> 25 | G8: =SUM(G12:G22) -> 1 | H8: =SUM(H12:H22) -> 3 | I8: =IF(ISNUMBER(F8/H8)=TRUE,F8/H8,"") -> 8.3333333 | J8: =IF(ISNUMBER(F8/E8)=TRUE,F8/E8,"") -> 5 | K8: =IF(ISNUMBER(E8*6/H8)=TRUE,E8*6/H8,"") -> 10 | N8: All | O8: =SUM(O12:O22) -> 79 | P8: =SUM(P12:P22) -> 1085 | Q8: =MAX(Q12:Q22) -> 113 | R8: =SUM(R12:R22) -> 34 | S8: =IF(ISNUMBER(P8/(O8-R8))=TRUE,P8/(O8-R8),"") -> 24.111111 | T8: =SUM(T12:T22) -> 1 | U8: =SUM(U12:U22) -> 3
A9: B. Boddington
A10: D. Bradman | D10: By Year | O10: By Season
A11: O. Brett | C11: Year | D11: Total Innings | E11: Overs Bowled | F11: Runs Conceded | G11: Maidens | H11: Wickets | I11: Average | J11: Economy | K11: Strike Rate | N11: Year | O11: Total Innings | P11: Total Runs | Q11: High Score | R11: Not Outs | S11: Average | T11: 100s | U11: 50s
A12: W. Brett | C12: 2013 | D12: =IF(ISNUMBER(VLOOKUP($C$2,Bowling!V:AA,2,0))=TRUE,VLOOKUP($C$2,Bowling!V:AA,2,0),"") | E12: =IF(ISNUMBER(VLOOKUP($C$2,Bowling!V:AA,3,0))=TRUE,VLOOKUP($C$2,Bowling!V:AA,3,0),"") | F12: =IF(ISNUMBER(VLOOKUP($C$2,Bowling!V:AA,6,0))=TRUE,VLOOKUP($C$2,Bowling!V:AA,6,0),"") | G12: =IF(ISNUMBER(VLOOKUP($C$2,Bowling!V:AA,4,0))=TRUE,VLOOKUP($C$2,Bowling!V:AA,4,0),"") | H12: =IF(ISNUMBER(VLOOKUP($C$2,Bowling!V:AA,5,0))=TRUE,VLOOKUP($C$2,Bowling!V:AA,5,0),"") | I12: =IF(ISNUMBER(F12/H12)=TRUE,F12/H12,"") | J12: =IF(ISNUMBER(F12/E12)=TRUE,F12/E12,"") | K12: =IF(ISNUMBER(E12*6/H12)=TRUE,E12*6/H12,"") | N12: 2013 | O12: =IF(ISNUMBER(VLOOKUP($C$2,Batting!Y:AE,2,0))=TRUE,VLOOKUP($C$2,Batting!Y:AE,2,0),"") -> 4 | P12: =IF(ISNUMBER(VLOOKUP($C$2,Batting!Y:AE,3,0))=TRUE,VLOOKUP($C$2,Batting!Y:AE,3,0),"") -> 15 | Q12: =IF(ISNUMBER(VLOOKUP($C$2,Batting!Y:AE,4,0))=TRUE,VLOOKUP($C$2,Batting!Y:AE,4,0),"") -> 9 | R12: =IF(ISNUMBER(O12-VLOOKUP($C$2,Batting!Y:AE,5,0))=TRUE,O12-VLOOKUP($C$2,Batting!Y:AE,5,0),"") -> 2 | S12: =IF(ISNUMBER(P12/(O12-R12))=TRUE,P12/(O12-R12),"") -> 7.5 | T12: =IF(ISNUMBER(VLOOKUP($C$2,Batting!Y:AE,6,0))=TRUE,VLOOKUP($C$2,Batting!Y:AE,6,0),"") -> 0 | U12: =IF(ISNUMBER(VLOOKUP($C$2,Batting!Y:AE,7,0))=TRUE,VLOOKUP($C$2,Batting!Y:AE,7,0),"") -> 0
A13: P. Briffett | C13: 2012 | D13: =IF(ISNUMBER(VLOOKUP($C$2,Bowling!H:M,2,0))=TRUE,VLOOKUP($C$2,Bowling!H:M,2,0),"") | E13: =IF(ISNUMBER(VLOOKUP($C$2,Bowling!H:M,3,0))=TRUE,VLOOKUP($C$2,Bowling!H:M,3,0),"") | F13: =IF(ISNUMBER(VLOOKUP($C$2,Bowling!H:M,6,0))=TRUE,VLOOKUP($C$2,Bowling!H:M,6,0),"") | G13: =IF(ISNUMBER(VLOOKUP($C$2,Bowling!H:M,4,0))=TRUE,VLOOKUP($C$2,Bowling!H:M,4,0),"") | H13: =IF(ISNUMBER(VLOOKUP($C$2,Bowling!H:M,5,0))=TRUE,VLOOKUP($C$2,Bowling!H:M,5,0),"") | I13: =IF(ISNUMBER(F13/H13)=TRUE,F13/H13,"") | J13: =IF(ISNUMBER(F13/E13)=TRUE,F13/E13,"") | K13: =IF(ISNUMBER(E13*6/H13)=TRUE,E13*6/H13,"") | N13: 2012 | O13: =IF(ISNUMBER(VLOOKUP($C$2,Batting!Q:W,2,0))=TRUE,VLOOKUP($C$2,Batting!Q:W,2,0),"") -> 3 | P13: =IF(ISNUMBER(VLOOKUP($C$2,Batting!Q:W,3,0))=TRUE,VLOOKUP($C$2,Batting!Q:W,3,0),"") -> 22 | Q13: =IF(ISNUMBER(VLOOKUP($C$2,Batting!Q:W,4,0))=TRUE,VLOOKUP($C$2,Batting!Q:W,4,0),"") -> 9 | R13: =IF(ISNUMBER(O13-VLOOKUP($C$2,Batting!Q:W,5,0))=TRUE,O13-VLOOKUP($C$2,Batting!Q:W,5,0),"") -> 1 | S13: =IF(ISNUMBER(P13/(O13-R13))=TRUE,P13/(O13-R13),"") -> 11 | T13: =IF(ISNUMBER(VLOOKUP($C$2,Batting!Q:W,6,0))=TRUE,VLOOKUP($C$2,Batting!Q:W,6,0),"") -> 0 | U13: =IF(ISNUMBER(VLOOKUP($C$2,Batting!Q:W,7,0))=TRUE,VLOOKUP($C$2,Batting!Q:W,7,0),"") -> 0
A14: B. Bucknill | C14: 2011 | D14: =IF(ISNUMBER(VLOOKUP($C$2,Bowling!O:T,2,0))=TRUE,VLOOKUP($C$2,Bowling!O:T,2,0),"") -> 1 | E14: =IF(ISNUMBER(VLOOKUP($C$2,Bowling!O:T,3,0))=TRUE,VLOOKUP($C$2,Bowling!O:T,3,0),"") -> 1 | F14: =IF(ISNUMBER(VLOOKUP($C$2,Bowling!O:T,6,0))=TRUE,VLOOKUP($C$2,Bowling!O:T,6,0),"") -> 3 | G14: =IF(ISNUMBER(VLOOKUP($C$2,Bowling!O:T,4,0))=TRUE,VLOOKUP($C$2,Bowling!O:T,4,0),"") -> 0 | H14: =IF(ISNUMBER(VLOOKUP($C$2,Bowling!O:T,5,0))=TRUE,VLOOKUP($C$2,Bowling!O:T,5,0),"") -> 1 | I14: =IF(ISNUMBER(F14/H14)=TRUE,F14/H14,"") -> 3 | J14: =IF(ISNUMBER(F14/E14)=TRUE,F14/E14,"") -> 3 | K14: =IF(ISNUMBER(E14*6/H14)=TRUE,E14*6/H14,"") -> 6 | N14: 2011 | O14: =IF(ISNUMBER(VLOOKUP($C$2,Batting!I:O,2,0))=TRUE,VLOOKUP($C$2,Batting!I:O,2,0),"") -> 7 | P14: =IF(ISNUMBER(VLOOKUP($C$2,Batting!I:O,3,0))=TRUE,VLOOKUP($C$2,Batting!I:O,3,0),"") -> 127 | Q14: =IF(ISNUMBER(VLOOKUP($C$2,Batting!I:O,4,0))=TRUE,VLOOKUP($C$2,Batting!I:O,4,0),"") -> 61 | R14: =IF(ISNUMBER(O14-VLOOKUP($C$2,Batting!I:O,5,0))=TRUE,O14-VLOOKUP($C$2,Batting!I:O,5,0),"") -> 4 | S14: =IF(ISNUMBER(P14/(O14-R14))=TRUE,P14/(O14-R14),"") -> 42.333333 | T14: =IF(ISNUMBER(VLOOKUP($C$2,Batting!I:O,6,0))=TRUE,VLOOKUP($C$2,Batting!I:O,6,0),"") -> 0 | U14: =IF(ISNUMBER(VLOOKUP($C$2,Batting!I:O,7,0))=TRUE,VLOOKUP($C$2,Batting!I:O,7,0),"") -> 1
A15: S. Bucknill | C15: 2010 | D15: Unknown | E15: =IF(ISNUMBER(VLOOKUP($C$2,'2010'!$K$3:$O$41,2,0))=TRUE,VLOOKUP($C$2,'2010'!$K$3:$O$41,2,0),"") | F15: =IF(ISNUMBER(VLOOKUP($C$2,'2010'!$K$3:$O$41,3,0))=TRUE,VLOOKUP($C$2,'2010'!$K$3:$O$41,3,0),"") | G15: =IF(ISNUMBER(VLOOKUP($C$2,'2010'!$K$3:$O$41,4,0))=TRUE,VLOOKUP($C$2,'2010'!$K$3:$O$41,4,0),"") | H15: =IF(ISNUMBER(VLOOKUP($C$2,'2010'!$K$3:$O$41,5,0))=TRUE,VLOOKUP($C$2,'2010'!$K$3:$O$41,5,0),"") | I15: =IF(ISNUMBER(F15/H15)=TRUE,F15/H15,"") | J15: =IF(ISNUMBER(F15/E15)=TRUE,F15/E15,"") | K15: =IF(ISNUMBER(E15*6/H15)=TRUE,E15*6/H15,"") | N15: 2010 | O15: =IF(ISNUMBER(VLOOKUP($C$2,'2010'!$A$3:$H$60,2,0))=TRUE,VLOOKUP($C$2,'2010'!$A$3:$H$60,2,0),"") -> 9 | P15: =IF(ISNUMBER(VLOOKUP($C$2,'2010'!$A$3:$H$60,3,0))=TRUE,VLOOKUP($C$2,'2010'!$A$3:$H$60,3,0),"") -> 74 | Q15: =IF(ISNUMBER(VLOOKUP($C$2,'2010'!$A$3:$H$60,4,0))=TRUE,VLOOKUP($C$2,'2010'!$A$3:$H$60,4,0),"") -> 21 | R15: =IF(ISNUMBER(VLOOKUP($C$2,'2010'!$A$3:$H$60,5,0))=TRUE,VLOOKUP($C$2,'2010'!$A$3:$H$60,5,0),"") -> 4 | S15: =IF(ISNUMBER(P15/(O15-R15))=TRUE,P15/(O15-R15),"") -> 14.8 | T15: =IF(ISNUMBER(VLOOKUP($C$2,'2010'!$A$3:$H$60,7,0))=TRUE,VLOOKUP($C$2,'2010'!$A$3:$H$60,7,0),"") -> 0 | U15: =IF(ISNUMBER(VLOOKUP($C$2,'2010'!$A$3:$H$60,8,0))=TRUE,VLOOKUP($C$2,'2010'!$A$3:$H$60,8,0),"") -> 0
A16: T. Buys | C16: 2009 | D16: Unknown | E16: =IF(ISNUMBER(VLOOKUP($C$2,'2009'!$K$3:$O$43,2,0))=TRUE,VLOOKUP($C$2,'2009'!$K$3:$O$43,2,0),"") | F16: =IF(ISNUMBER(VLOOKUP($C$2,'2009'!$K$3:$O$43,3,0))=TRUE,VLOOKUP($C$2,'2009'!$K$3:$O$43,3,0),"") | G16: =IF(ISNUMBER(VLOOKUP($C$2,'2009'!$K$3:$O$43,4,0))=TRUE,VLOOKUP($C$2,'2009'!$K$3:$O$43,4,0),"") | H16: =IF(ISNUMBER(VLOOKUP($C$2,'2009'!$K$3:$O$43,5,0))=TRUE,VLOOKUP($C$2,'2009'!$K$3:$O$43,5,0),"") | I16: =IF(ISNUMBER(F16/H16)=TRUE,F16/H16,"") | J16: =IF(ISNUMBER(F16/E16)=TRUE,F16/E16,"") | K16: =IF(ISNUMBER(E16*6/H16)=TRUE,E16*6/H16,"") | N16: 2009 | O16: =IF(ISNUMBER(VLOOKUP($C$2,'2009'!$A$3:$H$60,2,0))=TRUE,VLOOKUP($C$2,'2009'!$A$3:$H$60,2,0),"") -> 10 | P16: =IF(ISNUMBER(VLOOKUP($C$2,'2009'!$A$3:$H$60,3,0))=TRUE,VLOOKUP($C$2,'2009'!$A$3:$H$60,3,0),"") -> 138 | Q16: =IF(ISNUMBER(VLOOKUP($C$2,'2009'!$A$3:$H$60,4,0))=TRUE,VLOOKUP($C$2,'2009'!$A$3:$H$60,4,0),"") -> 26 | R16: =IF(ISNUMBER(VLOOKUP($C$2,'2009'!$A$3:$H$60,5,0))=TRUE,VLOOKUP($C$2,'2009'!$A$3:$H$60,5,0),"") -> 5 | S16: =IF(ISNUMBER(P16/(O16-R16))=TRUE,P16/(O16-R16),"") -> 27.6 | T16: =IF(ISNUMBER(VLOOKUP($C$2,'2009'!$A$3:$H$60,7,0))=TRUE,VLOOKUP($C$2,'2009'!$A$3:$H$60,7,0),"") -> 0 | U16: =IF(ISNUMBER(VLOOKUP($C$2,'2009'!$A$3:$H$60,8,0))=TRUE,VLOOKUP($C$2,'2009'!$A$3:$H$60,8,0),"") -> 0
A17: G. Calenbourne | C17: 2008 | D17: Unknown | E17: =IF(ISNUMBER(VLOOKUP($C$2,'2008'!$K$3:$O$40,2,0))=TRUE,VLOOKUP($C$2,'2008'!$K$3:$O$40,2,0),"") | F17: =IF(ISNUMBER(VLOOKUP($C$2,'2008'!$K$3:$O$40,3,0))=TRUE,VLOOKUP($C$2,'2008'!$K$3:$O$40,3,0),"") | G17: =IF(ISNUMBER(VLOOKUP($C$2,'2008'!$K$3:$O$40,4,0))=TRUE,VLOOKUP($C$2,'2008'!$K$3:$O$40,4,0),"") | H17: =IF(ISNUMBER(VLOOKUP($C$2,'2008'!$K$3:$O$40,5,0))=TRUE,VLOOKUP($C$2,'2008'!$K$3:$O$40,5,0),"") | I17: =IF(ISNUMBER(F17/H17)=TRUE,F17/H17,"") | J17: =IF(ISNUMBER(F17/E17)=TRUE,F17/E17,"") | K17: =IF(ISNUMBER(E17*6/H17)=TRUE,E17*6/H17,"") | N17: 2008 | O17: =IF(ISNUMBER(VLOOKUP($C$2,'2008'!$A$3:$H$60,2,0))=TRUE,VLOOKUP($C$2,'2008'!$A$3:$H$60,2,0),"") -> 9 | P17: =IF(ISNUMBER(VLOOKUP($C$2,'2008'!$A$3:$H$60,3,0))=TRUE,VLOOKUP($C$2,'2008'!$A$3:$H$60,3,0),"") -> 80 | Q17: =IF(ISNUMBER(VLOOKUP($C$2,'2008'!$A$3:$H$60,4,0))=TRUE,VLOOKUP($C$2,'2008'!$A$3:$H$60,4,0),"") -> 25 | R17: =IF(ISNUMBER(VLOOKUP($C$2,'2008'!$A$3:$H$60,5,0))=TRUE,VLOOKUP($C$2,'2008'!$A$3:$H$60,5,0),"") -> 4 | S17: =IF(ISNUMBER(P17/(O17-R17))=TRUE,P17/(O17-R17),"") -> 16 | T17: =IF(ISNUMBER(VLOOKUP($C$2,'2008'!$A$3:$H$60,7,0))=TRUE,VLOOKUP($C$2,'2008'!$A$3:$H$60,7,0),"") -> 0 | U17: =IF(ISNUMBER(VLOOKUP($C$2,'2008'!$A$3:$H$60,8,0))=TRUE,VLOOKUP($C$2,'2008'!$A$3:$H$60,8,0),"") -> 0
A18: C. Carne | C18: 2007 | D18: Unknown | E18: =IF(ISNUMBER(VLOOKUP($C$2,'2007'!$K$3:$O$35,2,0))=TRUE,VLOOKUP($C$2,'2007'!$K$3:$O$35,2,0),"") | F18: =IF(ISNUMBER(VLOOKUP($C$2,'2007'!$K$3:$O$35,3,0))=TRUE,VLOOKUP($C$2,'2007'!$K$3:$O$35,3,0),"") | G18: =IF(ISNUMBER(VLOOKUP($C$2,'2007'!$K$3:$O$35,4,0))=TRUE,VLOOKUP($C$2,'2007'!$K$3:$O$35,4,0),"") | H18: =IF(ISNUMBER(VLOOKUP($C$2,'2007'!$K$3:$O$35,5,0))=TRUE,VLOOKUP($C$2,'2007'!$K$3:$O$35,5,0),"") | I18: =IF(ISNUMBER(F18/H18)=TRUE,F18/H18,"") | J18: =IF(ISNUMBER(F18/E18)=TRUE,F18/E18,"") | K18: =IF(ISNUMBER(E18*6/H18)=TRUE,E18*6/H18,"") | N18: 2007 | O18: =IF(ISNUMBER(VLOOKUP($C$2,'2007'!$A$3:$H$60,2,0))=TRUE,VLOOKUP($C$2,'2007'!$A$3:$H$60,2,0),"") -> 6 | P18: =IF(ISNUMBER(VLOOKUP($C$2,'2007'!$A$3:$H$60,3,0))=TRUE,VLOOKUP($C$2,'2007'!$A$3:$H$60,3,0),"") -> 40 | Q18: =IF(ISNUMBER(VLOOKUP($C$2,'2007'!$A$3:$H$60,4,0))=TRUE,VLOOKUP($C$2,'2007'!$A$3:$H$60,4,0),"") -> 16 | R18: =IF(ISNUMBER(VLOOKUP($C$2,'2007'!$A$3:$H$60,5,0))=TRUE,VLOOKUP($C$2,'2007'!$A$3:$H$60,5,0),"") -> 5 | S18: =IF(ISNUMBER(P18/(O18-R18))=TRUE,P18/(O18-R18),"") -> 40 | T18: =IF(ISNUMBER(VLOOKUP($C$2,'2007'!$A$3:$H$60,7,0))=TRUE,VLOOKUP($C$2,'2007'!$A$3:$H$60,7,0),"") -> 0 | U18: =IF(ISNUMBER(VLOOKUP($C$2,'2007'!$A$3:$H$60,8,0))=TRUE,VLOOKUP($C$2,'2007'!$A$3:$H$60,8,0),"") -> 0
A19: J. Crook | C19: 2006 | D19: Unknown | E19: =IF(ISNUMBER(VLOOKUP($C$2,'2006'!$K$3:$O$40,2,0))=TRUE,VLOOKUP($C$2,'2006'!$K$3:$O$40,2,0),"") -> 4 | F19: =IF(ISNUMBER(VLOOKUP($C$2,'2006'!$K$3:$O$40,3,0))=TRUE,VLOOKUP($C$2,'2006'!$K$3:$O$40,3,0),"") -> 22 | G19: =IF(ISNUMBER(VLOOKUP($C$2,'2006'!$K$3:$O$40,4,0))=TRUE,VLOOKUP($C$2,'2006'!$K$3:$O$40,4,0),"") -> 1 | H19: =IF(ISNUMBER(VLOOKUP($C$2,'2006'!$K$3:$O$40,5,0))=TRUE,VLOOKUP($C$2,'2006'!$K$3:$O$40,5,0),"") -> 2 | I19: =IF(ISNUMBER(F19/H19)=TRUE,F19/H19,"") -> 11 | J19: =IF(ISNUMBER(F19/E19)=TRUE,F19/E19,"") -> 5.5 | K19: =IF(ISNUMBER(E19*6/H19)=TRUE,E19*6/H19,"") -> 12 | N19: 2006 | O19: =IF(ISNUMBER(VLOOKUP($C$2,'2006'!$A$3:$H$60,2,0))=TRUE,VLOOKUP($C$2,'2006'!$A$3:$H$60,2,0),"") -> 6 | P19: =IF(ISNUMBER(VLOOKUP($C$2,'2006'!$A$3:$H$60,3,0))=TRUE,VLOOKUP($C$2,'2006'!$A$3:$H$60,3,0),"") -> 53 | Q19: =IF(ISNUMBER(VLOOKUP($C$2,'2006'!$A$3:$H$60,4,0))=TRUE,VLOOKUP($C$2,'2006'!$A$3:$H$60,4,0),"") -> 25 | R19: =IF(ISNUMBER(VLOOKUP($C$2,'2006'!$A$3:$H$60,5,0))=TRUE,VLOOKUP($C$2,'2006'!$A$3:$H$60,5,0),"") -> 2 | S19: =IF(ISNUMBER(P19/(O19-R19))=TRUE,P19/(O19-R19),"") -> 13.25 | T19: =IF(ISNUMBER(VLOOKUP($C$2,'2006'!$A$3:$H$60,7,0))=TRUE,VLOOKUP($C$2,'2006'!$A$3:$H$60,7,0),"") -> 0 | U19: =IF(ISNUMBER(VLOOKUP($C$2,'2006'!$A$3:$H$60,8,0))=TRUE,VLOOKUP($C$2,'2006'!$A$3:$H$60,8,0),"") -> 0
A20: H. De Zulueta | C20: 2005 | D20: Unknown | E20: =IF(ISNUMBER(VLOOKUP($C$2,'2005'!$K$3:$O$39,2,0))=TRUE,VLOOKUP($C$2,'2005'!$K$3:$O$39,2,0),"") | F20: =IF(ISNUMBER(VLOOKUP($C$2,'2005'!$K$3:$O$39,3,0))=TRUE,VLOOKUP($C$2,'2005'!$K$3:$O$39,3,0),"") | G20: =IF(ISNUMBER(VLOOKUP($C$2,'2005'!$K$3:$O$39,4,0))=TRUE,VLOOKUP($C$2,'2005'!$K$3:$O$39,4,0),"") | H20: =IF(ISNUMBER(VLOOKUP($C$2,'2005'!$K$3:$O$39,5,0))=TRUE,VLOOKUP($C$2,'2005'!$K$3:$O$39,5,0),"") | I20: =IF(ISNUMBER(F20/H20)=TRUE,F20/H20,"") | J20: =IF(ISNUMBER(F20/E20)=TRUE,F20/E20,"") | K20: =IF(ISNUMBER(E20*6/H20)=TRUE,E20*6/H20,"") | N20: 2005 | O20: =IF(ISNUMBER(VLOOKUP($C$2,'2005'!$A$3:$H$60,2,0))=TRUE,VLOOKUP($C$2,'2005'!$A$3:$H$60,2,0),"") -> 3 | P20: =IF(ISNUMBER(VLOOKUP($C$2,'2005'!$A$3:$H$60,3,0))=TRUE,VLOOKUP($C$2,'2005'!$A$3:$H$60,3,0),"") -> 15 | Q20: =IF(ISNUMBER(VLOOKUP($C$2,'2005'!$A$3:$H$60,4,0))=TRUE,VLOOKUP($C$2,'2005'!$A$3:$H$60,4,0),"") -> 10 | R20: =IF(ISNUMBER(VLOOKUP($C$2,'2005'!$A$3:$H$60,5,0))=TRUE,VLOOKUP($C$2,'2005'!$A$3:$H$60,5,0),"") -> 2 | S20: =IF(ISNUMBER(P20/(O20-R20))=TRUE,P20/(O20-R20),"") -> 15 | T20: =IF(ISNUMBER(VLOOKUP($C$2,'2005'!$A$3:$H$60,7,0))=TRUE,VLOOKUP($C$2,'2005'!$A$3:$H$60,7,0),"") -> 0 | U20: =IF(ISNUMBER(VLOOKUP($C$2,'2005'!$A$3:$H$60,8,0))=TRUE,VLOOKUP($C$2,'2005'!$A$3:$H$60,8,0),"") -> 0
A21: P. De Zulueta | C21: 2004 | D21: Unknown | E21: =IF(ISNUMBER(VLOOKUP($C$2,'2004'!$K$3:$O$39,2,0))=TRUE,VLOOKUP($C$2,'2004'!$K$3:$O$39,2,0),"") | F21: =IF(ISNUMBER(VLOOKUP($C$2,'2004'!$K$3:$O$39,3,0))=TRUE,VLOOKUP($C$2,'2004'!$K$3:$O$39,3,0),"") | G21: =IF(ISNUMBER(VLOOKUP($C$2,'2004'!$K$3:$O$39,4,0))=TRUE,VLOOKUP($C$2,'2004'!$K$3:$O$39,4,0),"") | H21: =IF(ISNUMBER(VLOOKUP($C$2,'2004'!$K$3:$O$39,5,0))=TRUE,VLOOKUP($C$2,'2004'!$K$3:$O$39,5,0),"") | I21: =IF(ISNUMBER(F21/H21)=TRUE,F21/H21,"") | J21: =IF(ISNUMBER(F21/E21)=TRUE,F21/E21,"") | K21: =IF(ISNUMBER(E21*6/H21)=TRUE,E21*6/H21,"") | N21: 2004 | O21: =IF(ISNUMBER(VLOOKUP($C$2,'2004'!$A$3:$H$60,2,0))=TRUE,VLOOKUP($C$2,'2004'!$A$3:$H$60,2,0),"") -> 11 | P21: =IF(ISNUMBER(VLOOKUP($C$2,'2004'!$A$3:$H$60,3,0))=TRUE,VLOOKUP($C$2,'2004'!$A$3:$H$60,3,0),"") -> 122 | Q21: =IF(ISNUMBER(VLOOKUP($C$2,'2004'!$A$3:$H$60,4,0))=TRUE,VLOOKUP($C$2,'2004'!$A$3:$H$60,4,0),"") -> 37 | R21: =IF(ISNUMBER(VLOOKUP($C$2,'2004'!$A$3:$H$60,5,0))=TRUE,VLOOKUP($C$2,'2004'!$A$3:$H$60,5,0),"") -> 2 | S21: =IF(ISNUMBER(P21/(O21-R21))=TRUE,P21/(O21-R21),"") -> 13.555556 | T21: =IF(ISNUMBER(VLOOKUP($C$2,'2004'!$A$3:$H$60,7,0))=TRUE,VLOOKUP($C$2,'2004'!$A$3:$H$60,7,0),"") -> 0 | U21: =IF(ISNUMBER(VLOOKUP($C$2,'2004'!$A$3:$H$60,8,0))=TRUE,VLOOKUP($C$2,'2004'!$A$3:$H$60,8,0),"") -> 0
A22: Ra. Dickie | C22: 2003 | D22: Unknown | E22: =IF(ISNUMBER(VLOOKUP($C$2,'2003'!$K$3:$O$22,2,0))=TRUE,VLOOKUP($C$2,'2003'!$K$3:$O$22,2,0),"") | F22: =IF(ISNUMBER(VLOOKUP($C$2,'2003'!$K$3:$O$22,3,0))=TRUE,VLOOKUP($C$2,'2003'!$K$3:$O$22,3,0),"") | G22: =IF(ISNUMBER(VLOOKUP($C$2,'2003'!$K$3:$O$22,4,0))=TRUE,VLOOKUP($C$2,'2003'!$K$3:$O$22,4,0),"") | H22: =IF(ISNUMBER(VLOOKUP($C$2,'2003'!$K$3:$O$22,5,0))=TRUE,VLOOKUP($C$2,'2003'!$K$3:$O$22,5,0),"") | I22: =IF(ISNUMBER(F22/H22)=TRUE,F22/H22,"") | J22: =IF(ISNUMBER(F22/E22)=TRUE,F22/E22,"") | K22: =IF(ISNUMBER(E22*6/H22)=TRUE,E22*6/H22,"") | N22: 2003 | O22: =IF(ISNUMBER(VLOOKUP($C$2,'2003'!$A$3:$H$60,2,0))=TRUE,VLOOKUP($C$2,'2003'!$A$3:$H$60,2,0),"") -> 11 | P22: =IF(ISNUMBER(VLOOKUP($C$2,'2003'!$A$3:$H$60,3,0))=TRUE,VLOOKUP($C$2,'2003'!$A$3:$H$60,3,0),"") -> 399 | Q22: =IF(ISNUMBER(VLOOKUP($C$2,'2003'!$A$3:$H$60,4,0))=TRUE,VLOOKUP($C$2,'2003'!$A$3:$H$60,4,0),"") -> 113 | R22: =IF(ISNUMBER(VLOOKUP($C$2,'2003'!$A$3:$H$60,5,0))=TRUE,VLOOKUP($C$2,'2003'!$A$3:$H$60,5,0),"") -> 3 | S22: =IF(ISNUMBER(P22/(O22-R22))=TRUE,P22/(O22-R22),"") -> 49.875 | T22: =IF(ISNUMBER(VLOOKUP($C$2,'2003'!$A$3:$H$60,7,0))=TRUE,VLOOKUP($C$2,'2003'!$A$3:$H$60,7,0),"") -> 1 | U22: =IF(ISNUMBER(VLOOKUP($C$2,'2003'!$A$3:$H$60,8,0))=TRUE,VLOOKUP($C$2,'2003'!$A$3:$H$60,8,0),"") -> 2
A23: Ro. Dickie
A24: A. Eykyn | C24: 2011 (Inclusive) Onwards
A25: T. Farley
A26: S. Flakelar | D26: By Location | O26: By Location
A27: T. Foot | C27: Location | D27: Total Innings | E27: Overs Bowled | F27: Runs Conceded | G27: Maidens | H27: Wickets | I27: Average | J27: Economy | K27: Strike Rate | N27: Location | O27: Total Innings | P27: Total Runs | Q27: High Score | R27: Not Outs | S27: Average | T27: 100s | U27: 50s
A28: T. Fost | C28: Home | D28: =IF(ISNUMBER(VLOOKUP($C$2,Bowling!AD:AI,2,0))=TRUE,VLOOKUP($C$2,Bowling!AD:AI,2,0),"") | E28: =IF(ISNUMBER(VLOOKUP($C$2,Bowling!AD:AI,3,0))=TRUE,VLOOKUP($C$2,Bowling!AD:AI,3,0),"") | F28: =IF(ISNUMBER(VLOOKUP($C$2,Bowling!AD:AI,6,0))=TRUE,VLOOKUP($C$2,Bowling!AD:AI,6,0),"") | G28: =IF(ISNUMBER(VLOOKUP($C$2,Bowling!AD:AI,4,0))=TRUE,VLOOKUP($C$2,Bowling!AD:AI,4,0),"") | H28: =IF(ISNUMBER(VLOOKUP($C$2,Bowling!AD:AI,5,0))=TRUE,VLOOKUP($C$2,Bowling!AD:AI,5,0),"") | I28: =IF(ISNUMBER(F28/H28)=TRUE,F28/H28,"") | J28: =IF(ISNUMBER(F28/E28)=TRUE,F28/E28,"") | K28: =IF(ISNUMBER(E28*6/H28)=TRUE,E28*6/H28,"") | N28: Home | O28: =IF(ISNUMBER(VLOOKUP($C$2,Batting!AG:AM,2,0))=TRUE,VLOOKUP($C$2,Batting!AG:AM,2,0),"") -> 5 | P28: =IF(ISNUMBER(VLOOKUP($C$2,Batting!AG:AM,3,0))=TRUE,VLOOKUP($C$2,Batting!AG:AM,3,0),"") -> 39 | Q28: =IF(ISNUMBER(VLOOKUP($C$2,Batting!AG:AM,4,0))=TRUE,VLOOKUP($C$2,Batting!AG:AM,4,0),"") -> 20 | R28: =IF(ISNUMBER(O28-VLOOKUP($C$2,Batting!AG:AM,5,0))=TRUE,O28-VLOOKUP($C$2,Batting!AG:AM,5,0),"") -> 3 | S28: =IF(ISNUMBER(P28/(O28-R28))=TRUE,P28/(O28-R28),"") -> 19.5 | T28: =IF(ISNUMBER(VLOOKUP($C$2,Batting!AG:AM,6,0))=TRUE,VLOOKUP($C$2,Batting!AG:AM,6,0),"") -> 0 | U28: =IF(ISNUMBER(VLOOKUP($C$2,Batting!AG:AM,7,0))=TRUE,VLOOKUP($C$2,Batting!AG:AM,7,0),"") -> 0
A29: N. Fox | C29: Away | D29: =IF(ISNUMBER(VLOOKUP($C$2,Bowling!AK:AP,2,0))=TRUE,VLOOKUP($C$2,Bowling!AK:AP,2,0),"") | E29: =IF(ISNUMBER(VLOOKUP($C$2,Bowling!AK:AP,3,0))=TRUE,VLOOKUP($C$2,Bowling!AK:AP,3,0),"") | F29: =IF(ISNUMBER(VLOOKUP($C$2,Bowling!AK:AP,6,0))=TRUE,VLOOKUP($C$2,Bowling!AK:AP,6,0),"") | G29: =IF(ISNUMBER(VLOOKUP($C$2,Bowling!AK:AP,4,0))=TRUE,VLOOKUP($C$2,Bowling!AK:AP,4,0),"") | H29: =IF(ISNUMBER(VLOOKUP($C$2,Bowling!AK:AP,5,0))=TRUE,VLOOKUP($C$2,Bowling!AK:AP,5,0),"") | I29: =IF(ISNUMBER(F29/H29)=TRUE,F29/H29,"") | J29: =IF(ISNUMBER(F29/E29)=TRUE,F29/E29,"") | K29: =IF(ISNUMBER(E29*6/H29)=TRUE,E29*6/H29,"") | N29: Away | O29: =IF(ISNUMBER(VLOOKUP($C$2,Batting!AO:AU,2,0))=TRUE,VLOOKUP($C$2,Batting!AO:AU,2,0),"") -> 7 | P29: =IF(ISNUMBER(VLOOKUP($C$2,Batting!AO:AU,3,0))=TRUE,VLOOKUP($C$2,Batting!AO:AU,3,0),"") -> 92 | Q29: =IF(ISNUMBER(VLOOKUP($C$2,Batting!AO:AU,4,0))=TRUE,VLOOKUP($C$2,Batting!AO:AU,4,0),"") -> 61 | R29: =IF(ISNUMBER(O29-VLOOKUP($C$2,Batting!AO:AU,5,0))=TRUE,O29-VLOOKUP($C$2,Batting!AO:AU,5,0),"") -> 3 | S29: =IF(ISNUMBER(P29/(O29-R29))=TRUE,P29/(O29-R29),"") -> 23 | T29: =IF(ISNUMBER(VLOOKUP($C$2,Batting!AO:AU,6,0))=TRUE,VLOOKUP($C$2,Batting!AO:AU,6,0),"") -> 0 | U29: =IF(ISNUMBER(VLOOKUP($C$2,Batting!AO:AU,7,0))=TRUE,VLOOKUP($C$2,Batting!AO:AU,7,0),"") -> 1
A30: P. Girdler | C30: Tour | D30: =IF(ISNUMBER(VLOOKUP($C$2,Bowling!AR:AW,2,0))=TRUE,VLOOKUP($C$2,Bowling!AR:AW,2,0),"") -> 1 | E30: =IF(ISNUMBER(VLOOKUP($C$2,Bowling!AR:AW,3,0))=TRUE,VLOOKUP($C$2,Bowling!AR:AW,3,0),"") -> 1 | F30: =IF(ISNUMBER(VLOOKUP($C$2,Bowling!AR:AW,6,0))=TRUE,VLOOKUP($C$2,Bowling!AR:AW,6,0),"") -> 3 | G30: =IF(ISNUMBER(VLOOKUP($C$2,Bowling!AR:AW,4,0))=TRUE,VLOOKUP($C$2,Bowling!AR:AW,4,0),"") -> 0 | H30: =IF(ISNUMBER(VLOOKUP($C$2,Bowling!AR:AW,5,0))=TRUE,VLOOKUP($C$2,Bowling!AR:AW,5,0),"") -> 1 | I30: =IF(ISNUMBER(F30/H30)=TRUE,F30/H30,"") -> 3 | J30: =IF(ISNUMBER(F30/E30)=TRUE,F30/E30,"") -> 3 | K30: =IF(ISNUMBER(E30*6/H30)=TRUE,E30*6/H30,"") -> 6 | N30: Tour | O30: =IF(ISNUMBER(VLOOKUP($C$2,Batting!AW:BC,2,0))=TRUE,VLOOKUP($C$2,Batting!AW:BC,2,0),"") -> 2 | P30: =IF(ISNUMBER(VLOOKUP($C$2,Batting!AW:BC,3,0))=TRUE,VLOOKUP($C$2,Batting!AW:BC,3,0),"") -> 33 | Q30: =IF(ISNUMBER(VLOOKUP($C$2,Batting!AW:BC,4,0))=TRUE,VLOOKUP($C$2,Batting!AW:BC,4,0),"") -> 24 | R30: =IF(ISNUMBER(O30-VLOOKUP($C$2,Batting!AW:BC,5,0))=TRUE,O30-VLOOKUP($C$2,Batting!AW:BC,5,0),"") -> 1 | S30: =IF(ISNUMBER(P30/(O30-R30))=TRUE,P30/(O30-R30),"") -> 33 | T30: =IF(ISNUMBER(VLOOKUP($C$2,Batting!AW:BC,6,0))=TRUE,VLOOKUP($C$2,Batting!AW:BC,6,0),"") -> 0 | U30: =IF(ISNUMBER(VLOOKUP($C$2,Batting!AW:BC,7,0))=TRUE,VLOOKUP($C$2,Batting!AW:BC,7,0),"") -> 0
A31: T. Greenwood
A32: R. Gunn | D32: By Innings | O32: By Innings
A33: K. Haig | C33: Innings | D33: Total Innings | E33: Overs Bowled | F33: Runs Conceded | G33: Maidens | H33: Wickets | I33: Average | J33: Economy | K33: Strike Rate | N33: Innings | O33: Total Innings | P33: Total Runs | Q33: High Score | R33: Not Outs | S33: Average | T33: 100s | U33: 50s
A34: V. Haig | C34: Bowling First | D34: =IF(ISNUMBER(VLOOKUP($C$2,Bowling!AY:BD,2,0))=TRUE,VLOOKUP($C$2,Bowling!AY:BD,2,0),"") -> 1 | E34: =IF(ISNUMBER(VLOOKUP($C$2,Bowling!AY:BD,3,0))=TRUE,VLOOKUP($C$2,Bowling!AY:BD,3,0),"") -> 1 | F34: =IF(ISNUMBER(VLOOKUP($C$2,Bowling!AY:BD,6,0))=TRUE,VLOOKUP($C$2,Bowling!AY:BD,6,0),"") -> 3 | G34: =IF(ISNUMBER(VLOOKUP($C$2,Bowling!AY:BD,4,0))=TRUE,VLOOKUP($C$2,Bowling!AY:BD,4,0),"") -> 0 | H34: =IF(ISNUMBER(VLOOKUP($C$2,Bowling!AY:BD,5,0))=TRUE,VLOOKUP($C$2,Bowling!AY:BD,5,0),"") -> 1 | I34: =IF(ISNUMBER(F34/H34)=TRUE,F34/H34,"") -> 3 | J34: =IF(ISNUMBER(F34/E34)=TRUE,F34/E34,"") -> 3 | K34: =IF(ISNUMBER(E34*6/H34)=TRUE,E34*6/H34,"") -> 6 | N34: Batting First | O34: =IF(ISNUMBER(VLOOKUP($C$2,Batting!BE:BK,2,0))=TRUE,VLOOKUP($C$2,Batting!BE:BK,2,0),"") -> 5 | P34: =IF(ISNUMBER(VLOOKUP($C$2,Batting!BE:BK,3,0))=TRUE,VLOOKUP($C$2,Batting!BE:BK,3,0),"") -> 23 | Q34: =IF(ISNUMBER(VLOOKUP($C$2,Batting!BE:BK,4,0))=TRUE,VLOOKUP($C$2,Batting!BE:BK,4,0),"") -> 9 | R34: =IF(ISNUMBER(O34-VLOOKUP($C$2,Batting!BE:BK,5,0))=TRUE,O34-VLOOKUP($C$2,Batting!BE:BK,5,0),"") -> 2 | S34: =IF(ISNUMBER(P34/(O34-R34))=TRUE,P34/(O34-R34),"") -> 7.6666667 | T34: =IF(ISNUMBER(VLOOKUP($C$2,Batting!BE:BK,6,0))=TRUE,VLOOKUP($C$2,Batting!BE:BK,6,0),"") -> 0 | U34: =IF(ISNUMBER(VLOOKUP($C$2,Batting!BE:BK,7,0))=TRUE,VLOOKUP($C$2,Batting!BE:BK,7,0),"") -> 0
A35: W. Hale | C35: Bowling Second | D35: =IF(ISNUMBER(VLOOKUP($C$2,Bowling!BF:BK,2,0))=TRUE,VLOOKUP($C$2,Bowling!BF:BK,2,0),"") | E35: =IF(ISNUMBER(VLOOKUP($C$2,Bowling!BF:BK,3,0))=TRUE,VLOOKUP($C$2,Bowling!BF:BK,3,0),"") | F35: =IF(ISNUMBER(VLOOKUP($C$2,Bowling!BF:BK,6,0))=TRUE,VLOOKUP($C$2,Bowling!BF:BK,6,0),"") | G35: =IF(ISNUMBER(VLOOKUP($C$2,Bowling!BF:BK,4,0))=TRUE,VLOOKUP($C$2,Bowling!BF:BK,4,0),"") | H35: =IF(ISNUMBER(VLOOKUP($C$2,Bowling!BF:BK,5,0))=TRUE,VLOOKUP($C$2,Bowling!BF:BK,5,0),"") | I35: =IF(ISNUMBER(F35/H35)=TRUE,F35/H35,"") | J35: =IF(ISNUMBER(F35/E35)=TRUE,F35/E35,"") | K35: =IF(ISNUMBER(E35*6/H35)=TRUE,E35*6/H35,"") | N35: Batting Second | O35: =IF(ISNUMBER(VLOOKUP($C$2,Batting!BM:BS,2,0))=TRUE,VLOOKUP($C$2,Batting!BM:BS,2,0),"") -> 9 | P35: =IF(ISNUMBER(VLOOKUP($C$2,Batting!BM:BS,3,0))=TRUE,VLOOKUP($C$2,Batting!BM:BS,3,0),"") -> 141 | Q35: =IF(ISNUMBER(VLOOKUP($C$2,Batting!BM:BS,4,0))=TRUE,VLOOKUP($C$2,Batting!BM:BS,4,0),"") -> 61 | R35: =IF(ISNUMBER(O35-VLOOKUP($C$2,Batting!BM:BS,5,0))=TRUE,O35-VLOOKUP($C$2,Batting!BM:BS,5,0),"") -> 5 | S35: =IF(ISNUMBER(P35/(O35-R35))=TRUE,P35/(O35-R35),"") -> 35.25 | T35: =IF(ISNUMBER(VLOOKUP($C$2,Batting!BM:BS,6,0))=TRUE,VLOOKUP($C$2,Batting!BM:BS,6,0),"") -> 0 | U35: =IF(ISNUMBER(VLOOKUP($C$2,Batting!BM:BS,7,0))=TRUE,VLOOKUP($C$2,Batting!BM:BS,7,0),"") -> 1
A36: S. Halfhead
A37: J. Hancock | D37: By Result | O37: By Result
A38: A. Harvey-Thompson | C38: Match Result | D38: Total Innings | E38: Overs Bowled | F38: Runs Conceded | G38: Maidens | H38: Wickets | I38: Average | J38: Economy | K38: Strike Rate | N38: Match Result | O38: Total Innings | P38: Total Runs | Q38: High Score | R38: Not Outs | S38: Average | T38: 100s | U38: 50s
A39: C. Henry | C39: Win | D39: =IF(ISNUMBER(VLOOKUP($C$2,Bowling!BM:BR,2,0))=TRUE,VLOOKUP($C$2,Bowling!BM:BR,2,0),"") -> 1 | E39: =IF(ISNUMBER(VLOOKUP($C$2,Bowling!BM:BR,3,0))=TRUE,VLOOKUP($C$2,Bowling!BM:BR,3,0),"") -> 1 | F39: =IF(ISNUMBER(VLOOKUP($C$2,Bowling!BM:BR,6,0))=TRUE,VLOOKUP($C$2,Bowling!BM:BR,6,0),"") -> 3 | G39: =IF(ISNUMBER(VLOOKUP($C$2,Bowling!BM:BR,4,0))=TRUE,VLOOKUP($C$2,Bowling!BM:BR,4,0),"") -> 0 | H39: =IF(ISNUMBER(VLOOKUP($C$2,Bowling!BM:BR,5,0))=TRUE,VLOOKUP($C$2,Bowling!BM:BR,5,0),"") -> 1 | I39: =IF(ISNUMBER(F39/H39)=TRUE,F39/H39,"") -> 3 | J39: =IF(ISNUMBER(F39/E39)=TRUE,F39/E39,"") -> 3 | K39: =IF(ISNUMBER(E39*6/H39)=TRUE,E39*6/H39,"") -> 6 | N39: Win | O39: =IF(ISNUMBER(VLOOKUP($C$2,Batting!BU:CA,2,0))=TRUE,VLOOKUP($C$2,Batting!BU:CA,2,0),"") -> 4 | P39: =IF(ISNUMBER(VLOOKUP($C$2,Batting!BU:CA,3,0))=TRUE,VLOOKUP($C$2,Batting!BU:CA,3,0),"") -> 50 | Q39: =IF(ISNUMBER(VLOOKUP($C$2,Batting!BU:CA,4,0))=TRUE,VLOOKUP($C$2,Batting!BU:CA,4,0),"") -> 24 | R39: =IF(ISNUMBER(O39-VLOOKUP($C$2,Batting!BU:CA,5,0))=TRUE,O39-VLOOKUP($C$2,Batting!BU:CA,5,0),"") -> 1 | S39: =IF(ISNUMBER(P39/(O39-R39))=TRUE,P39/(O39-R39),"") -> 16.666667 | T39: =IF(ISNUMBER(VLOOKUP($C$2,Batting!BU:CA,6,0))=TRUE,VLOOKUP($C$2,Batting!BU:CA,6,0),"") -> 0 | U39: =IF(ISNUMBER(VLOOKUP($C$2,Batting!BU:CA,7,0))=TRUE,VLOOKUP($C$2,Batting!BU:CA,7,0),"") -> 0
A40: N. Henry | C40: Loss | D40: =IF(ISNUMBER(VLOOKUP($C$2,Bowling!BT:BY,2,0))=TRUE,VLOOKUP($C$2,Bowling!BT:BY,2,0),"") | E40: =IF(ISNUMBER(VLOOKUP($C$2,Bowling!BT:BY,3,0))=TRUE,VLOOKUP($C$2,Bowling!BT:BY,3,0),"") | F40: =IF(ISNUMBER(VLOOKUP($C$2,Bowling!BT:BY,6,0))=TRUE,VLOOKUP($C$2,Bowling!BT:BY,6,0),"") | G40: =IF(ISNUMBER(VLOOKUP($C$2,Bowling!BT:BY,4,0))=TRUE,VLOOKUP($C$2,Bowling!BT:BY,4,0),"") | H40: =IF(ISNUMBER(VLOOKUP($C$2,Bowling!BT:BY,5,0))=TRUE,VLOOKUP($C$2,Bowling!BT:BY,5,0),"") | I40: =IF(ISNUMBER(F40/H40)=TRUE,F40/H40,"") | J40: =IF(ISNUMBER(F40/E40)=TRUE,F40/E40,"") | K40: =IF(ISNUMBER(E40*6/H40)=TRUE,E40*6/H40,"") | N40: Loss | O40: =IF(ISNUMBER(VLOOKUP($C$2,Batting!CC:CI,2,0))=TRUE,VLOOKUP($C$2,Batting!CC:CI,2,0),"") -> 5 | P40: =IF(ISNUMBER(VLOOKUP($C$2,Batting!CC:CI,3,0))=TRUE,VLOOKUP($C$2,Batting!CC:CI,3,0),"") -> 27 | Q40: =IF(ISNUMBER(VLOOKUP($C$2,Batting!CC:CI,4,0))=TRUE,VLOOKUP($C$2,Batting!CC:CI,4,0),"") -> 20 | R40: =IF(ISNUMBER(O40-VLOOKUP($C$2,Batting!CC:CI,5,0))=TRUE,O40-VLOOKUP($C$2,Batting!CC:CI,5,0),"") -> 2 | S40: =IF(ISNUMBER(P40/(O40-R40))=TRUE,P40/(O40-R40),"") -> 9 | T40: =IF(ISNUMBER(VLOOKUP($C$2,Batting!CC:CI,6,0))=TRUE,VLOOKUP($C$2,Batting!CC:CI,6,0),"") -> 0 | U40: =IF(ISNUMBER(VLOOKUP($C$2,Batting!CC:CI,7,0))=TRUE,VLOOKUP($C$2,Batting!CC:CI,7,0),"") -> 0
A41: S. Hopes | C41: Draw | D41: =IF(ISNUMBER(VLOOKUP($C$2,Bowling!CA:CF,2,0))=TRUE,VLOOKUP($C$2,Bowling!CA:CF,2,0),"") | E41: =IF(ISNUMBER(VLOOKUP($C$2,Bowling!CA:CF,3,0))=TRUE,VLOOKUP($C$2,Bowling!CA:CF,3,0),"") | F41: =IF(ISNUMBER(VLOOKUP($C$2,Bowling!CA:CF,6,0))=TRUE,VLOOKUP($C$2,Bowling!CA:CF,6,0),"") | G41: =IF(ISNUMBER(VLOOKUP($C$2,Bowling!CA:CF,4,0))=TRUE,VLOOKUP($C$2,Bowling!CA:CF,4,0),"") | H41: =IF(ISNUMBER(VLOOKUP($C$2,Bowling!CA:CF,5,0))=TRUE,VLOOKUP($C$2,Bowling!CA:CF,5,0),"") | I41: =IF(ISNUMBER(F41/H41)=TRUE,F41/H41,"") | J41: =IF(ISNUMBER(F41/E41)=TRUE,F41/E41,"") | K41: =IF(ISNUMBER(E41*6/H41)=TRUE,E41*6/H41,"") | N41: Draw | O41: =IF(ISNUMBER(VLOOKUP($C$2,Batting!CK:CQ,2,0))=TRUE,VLOOKUP($C$2,Batting!CK:CQ,2,0),"") -> 5 | P41: =IF(ISNUMBER(VLOOKUP($C$2,Batting!CK:CQ,3,0))=TRUE,VLOOKUP($C$2,Batting!CK:CQ,3,0),"") -> 87 | Q41: =IF(ISNUMBER(VLOOKUP($C$2,Batting!CK:CQ,4,0))=TRUE,VLOOKUP($C$2,Batting!CK:CQ,4,0),"") -> 61 | R41: =IF(ISNUMBER(O41-VLOOKUP($C$2,Batting!CK:CQ,5,0))=TRUE,O41-VLOOKUP($C$2,Batting!CK:CQ,5,0),"") -> 4 | S41: =IF(ISNUMBER(P41/(O41-R41))=TRUE,P41/(O41-R41),"") -> 87 | T41: =IF(ISNUMBER(VLOOKUP($C$2,Batting!CK:CQ,6,0))=TRUE,VLOOKUP($C$2,Batting!CK:CQ,6,0),"") -> 0 | U41: =IF(ISNUMBER(VLOOKUP($C$2,Batting!CK:CQ,7,0))=TRUE,VLOOKUP($C$2,Batting!CK:CQ,7,0),"") -> 1
A42: J. Hunt
A43: R. Hunt | O43: By Position
A44: D. Hyman | N44: Batting Position | O44: Total Innings | P44: Total Runs | Q44: High Score | R44: Not Outs | S44: Average | T44: 100s | U44: 50s
A45: B. Johnson | N45: 1 | O45: =IF(ISNUMBER(VLOOKUP($C$2,Batting!CS:CY,2,0))=TRUE,VLOOKUP($C$2,Batting!CS:CY,2,0),"") -> 1 | P45: =IF(ISNUMBER(VLOOKUP($C$2,Batting!CS:CY,3,0))=TRUE,VLOOKUP($C$2,Batting!CS:CY,3,0),"") -> 24 | Q45: =IF(ISNUMBER(VLOOKUP($C$2,Batting!CS:CY,4,0))=TRUE,VLOOKUP($C$2,Batting!CS:CY,4,0),"") -> 24 | R45: =IF(ISNUMBER(O45-VLOOKUP($C$2,Batting!CS:CY,5,0))=TRUE,O45-VLOOKUP($C$2,Batting!CS:CY,5,0),"") -> 1 | S45: =IF(ISNUMBER(P45/(O45-R45))=TRUE,P45/(O45-R45),"") | T45: =IF(ISNUMBER(VLOOKUP($C$2,Batting!CS:CY,6,0))=TRUE,VLOOKUP($C$2,Batting!CS:CY,6,0),"") -> 0 | U45: =IF(ISNUMBER(VLOOKUP($C$2,Batting!CS:CY,7,0))=TRUE,VLOOKUP($C$2,Batting!CS:CY,7,0),"") -> 0
A46: S. Johnston | N46: 2 | O46: =IF(ISNUMBER(VLOOKUP($C$2,Batting!DA:DG,2,0))=TRUE,VLOOKUP($C$2,Batting!DA:DG,2,0),"") | P46: =IF(ISNUMBER(VLOOKUP($C$2,Batting!DA:DG,3,0))=TRUE,VLOOKUP($C$2,Batting!DA:DG,3,0),"") | Q46: =IF(ISNUMBER(VLOOKUP($C$2,Batting!DA:DG,4,0))=TRUE,VLOOKUP($C$2,Batting!DA:DGY,4,0),"") | R46: =IF(ISNUMBER(O46-VLOOKUP($C$2,Batting!DA:DG,5,0))=TRUE,O46-VLOOKUP($C$2,Batting!DA:DG,5,0),"") | S46: =IF(ISNUMBER(P46/(O46-R46))=TRUE,P46/(O46-R46),"") | T46: =IF(ISNUMBER(VLOOKUP($C$2,Batting!DA:DG,6,0))=TRUE,VLOOKUP($C$2,Batting!DA:DG,6,0),"") | U46: =IF(ISNUMBER(VLOOKUP($C$2,Batting!DA:DG,7,0))=TRUE,VLOOKUP($C$2,Batting!DA:DG,7,0),"")
A47: T. Keehner | N47: 3 | O47: =IF(ISNUMBER(VLOOKUP($C$2,Batting!DI:DO,2,0))=TRUE,VLOOKUP($C$2,Batting!DI:DO,2,0),"") | P47: =IF(ISNUMBER(VLOOKUP($C$2,Batting!DI:DO,3,0))=TRUE,VLOOKUP($C$2,Batting!DI:DO,3,0),"") | Q47: =IF(ISNUMBER(VLOOKUP($C$2,Batting!DI:DO,4,0))=TRUE,VLOOKUP($C$2,Batting!DI:DO,4,0),"") | R47: =IF(ISNUMBER(O47-VLOOKUP($C$2,Batting!DI:DO,5,0))=TRUE,O47-VLOOKUP($C$2,Batting!DI:DO,5,0),"") | S47: =IF(ISNUMBER(P47/(O47-R47))=TRUE,P47/(O47-R47),"") | T47: =IF(ISNUMBER(VLOOKUP($C$2,Batting!DI:DO,6,0))=TRUE,VLOOKUP($C$2,Batting!DI:DO,6,0),"") | U47: =IF(ISNUMBER(VLOOKUP($C$2,Batting!DI:DO,7,0))=TRUE,VLOOKUP($C$2,Batting!DI:DO,7,0),"")
A48: M. Kemp | N48: 4 | O48: =IF(ISNUMBER(VLOOKUP($C$2,Batting!DQ:DW,2,0))=TRUE,VLOOKUP($C$2,Batting!DQ:DW,2,0),"") | P48: =IF(ISNUMBER(VLOOKUP($C$2,Batting!DQ:DW,3,0))=TRUE,VLOOKUP($C$2,Batting!DQ:DW,3,0),"") | Q48: =IF(ISNUMBER(VLOOKUP($C$2,Batting!DQ:DW,4,0))=TRUE,VLOOKUP($C$2,Batting!DQ:DW,4,0),"") | R48: =IF(ISNUMBER(O48-VLOOKUP($C$2,Batting!DQ:DW,5,0))=TRUE,O48-VLOOKUP($C$2,Batting!DQ:DW,5,0),"") | S48: =IF(ISNUMBER(P48/(O48-R48))=TRUE,P48/(O48-R48),"") | T48: =IF(ISNUMBER(VLOOKUP($C$2,Batting!DQ:DW,6,0))=TRUE,VLOOKUP($C$2,Batting!DQ:DW,6,0),"") | U48: =IF(ISNUMBER(VLOOKUP($C$2,Batting!DQ:DW,7,0))=TRUE,VLOOKUP($C$2,Batting!DQ:DW,7,0),"")
A49: M. Kiernan | N49: 5 | O49: =IF(ISNUMBER(VLOOKUP($C$2,Batting!DY:EE,2,0))=TRUE,VLOOKUP($C$2,Batting!DY:EE,2,0),"") | P49: =IF(ISNUMBER(VLOOKUP($C$2,Batting!DY:EE,3,0))=TRUE,VLOOKUP($C$2,Batting!DY:EE,3,0),"") | Q49: =IF(ISNUMBER(VLOOKUP($C$2,Batting!DY:EE,4,0))=TRUE,VLOOKUP($C$2,Batting!DY:EE,4,0),"") | R49: =IF(ISNUMBER(O49-VLOOKUP($C$2,Batting!DY:EE,5,0))=TRUE,O49-VLOOKUP($C$2,Batting!DY:EE,5,0),"") | S49: =IF(ISNUMBER(P49/(O49-R49))=TRUE,P49/(O49-R49),"") | T49: =IF(ISNUMBER(VLOOKUP($C$2,Batting!DY:EE,6,0))=TRUE,VLOOKUP($C$2,Batting!DY:EE,6,0),"") | U49: =IF(ISNUMBER(VLOOKUP($C$2,Batting!DY:EE,7,0))=TRUE,VLOOKUP($C$2,Batting!DY:EE,7,0),"")
A50: J. Kleiner-Mann | N50: 6 | O50: =IF(ISNUMBER(VLOOKUP($C$2,Batting!EG:EM,2,0))=TRUE,VLOOKUP($C$2,Batting!EG:EM,2,0),"") -> 2 | P50: =IF(ISNUMBER(VLOOKUP($C$2,Batting!EG:EM,3,0))=TRUE,VLOOKUP($C$2,Batting!EG:EM,3,0),"") -> 70 | Q50: =IF(ISNUMBER(VLOOKUP($C$2,Batting!EG:EM,4,0))=TRUE,VLOOKUP($C$2,Batting!EG:EM,4,0),"") -> 61 | R50: =IF(ISNUMBER(O50-VLOOKUP($C$2,Batting!EG:EM,5,0))=TRUE,O50-VLOOKUP($C$2,Batting!EG:EM,5,0),"") -> 0 | S50: =IF(ISNUMBER(P50/(O50-R50))=TRUE,P50/(O50-R50),"") -> 35 | T50: =IF(ISNUMBER(VLOOKUP($C$2,Batting!EG:EM,6,0))=TRUE,VLOOKUP($C$2,Batting!EG:EM,6,0),"") -> 0 | U50: =IF(ISNUMBER(VLOOKUP($C$2,Batting!EG:EM,7,0))=TRUE,VLOOKUP($C$2,Batting!EG:EM,7,0),"") -> 1
A51: J. Leefe | N51: 7 | O51: =IF(ISNUMBER(VLOOKUP($C$2,Batting!EO:EU,2,0))=TRUE,VLOOKUP($C$2,Batting!EO:EU,2,0),"") -> 2 | P51: =IF(ISNUMBER(VLOOKUP($C$2,Batting!EO:EU,3,0))=TRUE,VLOOKUP($C$2,Batting!EO:EU,3,0),"") -> 25 | Q51: =IF(ISNUMBER(VLOOKUP($C$2,Batting!EO:EU,4,0))=TRUE,VLOOKUP($C$2,Batting!EO:EU,4,0),"") -> 20 | R51: =IF(ISNUMBER(O51-VLOOKUP($C$2,Batting!EO:EU,5,0))=TRUE,O51-VLOOKUP($C$2,Batting!EO:EU,5,0),"") -> 2 | S51: =IF(ISNUMBER(P51/(O51-R51))=TRUE,P51/(O51-R51),"") | T51: =IF(ISNUMBER(VLOOKUP($C$2,Batting!EO:EU,6,0))=TRUE,VLOOKUP($C$2,Batting!EO:EU,6,0),"") -> 0 | U51: =IF(ISNUMBER(VLOOKUP($C$2,Batting!EO:EU,7,0))=TRUE,VLOOKUP($C$2,Batting!EO:EU,7,0),"") -> 0
A52: F. Lyons | N52: 8 | O52: =IF(ISNUMBER(VLOOKUP($C$2,Batting!EW:FC,2,0))=TRUE,VLOOKUP($C$2,Batting!EW:FC,2,0),"") | P52: =IF(ISNUMBER(VLOOKUP($C$2,Batting!EW:FC,3,0))=TRUE,VLOOKUP($C$2,Batting!EW:FC,3,0),"") | Q52: =IF(ISNUMBER(VLOOKUP($C$2,Batting!EW:FC,4,0))=TRUE,VLOOKUP($C$2,Batting!EW:FC,4,0),"") | R52: =IF(ISNUMBER(O52-VLOOKUP($C$2,Batting!EW:FC,5,0))=TRUE,O52-VLOOKUP($C$2,Batting!EW:FC,5,0),"") | S52: =IF(ISNUMBER(P52/(O52-R52))=TRUE,P52/(O52-R52),"") | T52: =IF(ISNUMBER(VLOOKUP($C$2,Batting!EW:FC,6,0))=TRUE,VLOOKUP($C$2,Batting!EW:FC,6,0),"") | U52: =IF(ISNUMBER(VLOOKUP($C$2,Batting!EW:FC,7,0))=TRUE,VLOOKUP($C$2,Batting!EW:FC,7,0),"")
A53: D. Mackey | N53: 9 | O53: =IF(ISNUMBER(VLOOKUP($C$2,Batting!FE:FK,2,0))=TRUE,VLOOKUP($C$2,Batting!FE:FK,2,0),"") -> 3 | P53: =IF(ISNUMBER(VLOOKUP($C$2,Batting!FE:FK,3,0))=TRUE,VLOOKUP($C$2,Batting!FE:FK,3,0),"") -> 30 | Q53: =IF(ISNUMBER(VLOOKUP($C$2,Batting!FE:FK,4,0))=TRUE,VLOOKUP($C$2,Batting!FE:FK,4,0),"") -> 16 | R53: =IF(ISNUMBER(O53-VLOOKUP($C$2,Batting!FE:FK,5,0))=TRUE,O53-VLOOKUP($C$2,Batting!FE:FK,5,0),"") -> 1 | S53: =IF(ISNUMBER(P53/(O53-R53))=TRUE,P53/(O53-R53),"") -> 15 | T53: =IF(ISNUMBER(VLOOKUP($C$2,Batting!FE:FK,6,0))=TRUE,VLOOKUP($C$2,Batting!FE:FK,6,0),"") -> 0 | U53: =IF(ISNUMBER(VLOOKUP($C$2,Batting!FE:FK,7,0))=TRUE,VLOOKUP($C$2,Batting!FE:FK,7,0),"") -> 0
A54: D. Mackintosh | N54: 10 | O54: =IF(ISNUMBER(VLOOKUP($C$2,Batting!FM:FS,2,0))=TRUE,VLOOKUP($C$2,Batting!FM:FS,2,0),"") -> 3 | P54: =IF(ISNUMBER(VLOOKUP($C$2,Batting!FM:FS,3,0))=TRUE,VLOOKUP($C$2,Batting!FM:FS,3,0),"") -> 10 | Q54: =IF(ISNUMBER(VLOOKUP($C$2,Batting!FM:FS,4,0))=TRUE,VLOOKUP($C$2,Batting!FM:FS,4,0),"") -> 9 | R54: =IF(ISNUMBER(O54-VLOOKUP($C$2,Batting!FM:FS,5,0))=TRUE,O54-VLOOKUP($C$2,Batting!FM:FS,5,0),"") -> 1 | S54: =IF(ISNUMBER(P54/(O54-R54))=TRUE,P54/(O54-R54),"") -> 5 | T54: =IF(ISNUMBER(VLOOKUP($C$2,Batting!FM:FS,6,0))=TRUE,VLOOKUP($C$2,Batting!FM:FS,6,0),"") -> 0 | U54: =IF(ISNUMBER(VLOOKUP($C$2,Batting!FM:FS,7,0))=TRUE,VLOOKUP($C$2,Batting!FM:FS,7,0),"") -> 0
A55: J. Moberly | N55: 11 | O55: =IF(ISNUMBER(VLOOKUP($C$2,Batting!FU:GA,2,0))=TRUE,VLOOKUP($C$2,Batting!FU:GA,2,0),"") -> 3 | P55: =IF(ISNUMBER(VLOOKUP($C$2,Batting!FU:GA,3,0))=TRUE,VLOOKUP($C$2,Batting!FU:GA,3,0),"") -> 5 | Q55: =IF(ISNUMBER(VLOOKUP($C$2,Batting!FU:GA,4,0))=TRUE,VLOOKUP($C$2,Batting!FU:GA,4,0),"") -> 5 | R55: =IF(ISNUMBER(O55-VLOOKUP($C$2,Batting!FU:GA,5,0))=TRUE,O55-VLOOKUP($C$2,Batting!FU:GA,5,0),"") -> 2 | S55: =IF(ISNUMBER(P55/(O55-R55))=TRUE,P55/(O55-R55),"") -> 5 | T55: =IF(ISNUMBER(VLOOKUP($C$2,Batting!FU:GA,6,0))=TRUE,VLOOKUP($C$2,Batting!FU:GA,6,0),"") -> 0 | U55: =IF(ISNUMBER(VLOOKUP($C$2,Batting!FU:GA,7,0))=TRUE,VLOOKUP($C$2,Batting!FU:GA,7,0),"") -> 0
A56: J. Moser
A57: L. Percival | D57: By Captain | O57: By Captain
A58: J. Phillips | C58: Captain | D58: Total Innings | E58: Overs Bowled | F58: Runs Conceded | G58: Maidens | H58: Wickets | I58: Average | J58: Economy | K58: Strike Rate | N58: Captain | O58: Total Innings | P58: Total Runs | Q58: High Score | R58: Not Outs | S58: Average | T58: 100s | U58: 50s
A59: N. Phillips | C59: S. Beardall | D59: =IF(ISNUMBER(VLOOKUP($C$2,Bowling!CH:CM,2,0))=TRUE,VLOOKUP($C$2,Bowling!CH:CM,2,0),"") | E59: =IF(ISNUMBER(VLOOKUP($C$2,Bowling!CH:CM,3,0))=TRUE,VLOOKUP($C$2,Bowling!CH:CM,3,0),"") | F59: =IF(ISNUMBER(VLOOKUP($C$2,Bowling!CH:CM,6,0))=TRUE,VLOOKUP($C$2,Bowling!CH:CM,6,0),"") | G59: =IF(ISNUMBER(VLOOKUP($C$2,Bowling!CH:CM,4,0))=TRUE,VLOOKUP($C$2,Bowling!CH:CM,4,0),"") | H59: =IF(ISNUMBER(VLOOKUP($C$2,Bowling!CH:CM,5,0))=TRUE,VLOOKUP($C$2,Bowling!CH:CM,5,0),"") | I59: =IF(ISNUMBER(F59/H59)=TRUE,F59/H59,"") | J59: =IF(ISNUMBER(F59/E59)=TRUE,F59/E59,"") | K59: =IF(ISNUMBER(E59*6/H59)=TRUE,E59*6/H59,"") | N59: S. Beardall | O59: =IF(ISNUMBER(VLOOKUP($C$2,Batting!GC:GI,2,0))=TRUE,VLOOKUP($C$2,Batting!GC:GI,2,0),"") -> 10 | P59: =IF(ISNUMBER(VLOOKUP($C$2,Batting!GC:GI,3,0))=TRUE,VLOOKUP($C$2,Batting!GC:GI,3,0),"") -> 95 | Q59: =IF(ISNUMBER(VLOOKUP($C$2,Batting!GC:GI,4,0))=TRUE,VLOOKUP($C$2,Batting!GC:GI,4,0),"") -> 61 | R59: =IF(ISNUMBER(O59-VLOOKUP($C$2,Batting!GC:GI,5,0))=TRUE,O59-VLOOKUP($C$2,Batting!GC:GI,5,0),"") -> 4 | S59: =IF(ISNUMBER(P59/(O59-R59))=TRUE,P59/(O59-R59),"") -> 15.833333 | T59: =IF(ISNUMBER(VLOOKUP($C$2,Batting!GC:GI,6,0))=TRUE,VLOOKUP($C$2,Batting!GC:GI,6,0),"") -> 0 | U59: =IF(ISNUMBER(VLOOKUP($C$2,Batting!GC:GI,7,0))=TRUE,VLOOKUP($C$2,Batting!GC:GI,7,0),"") -> 1
A60: B. Prior | C60: J. Hunt | D60: =IF(ISNUMBER(VLOOKUP($C$2,Bowling!CO:CT,2,0))=TRUE,VLOOKUP($C$2,Bowling!CO:CT,2,0),"") | E60: =IF(ISNUMBER(VLOOKUP($C$2,Bowling!CO:CT,3,0))=TRUE,VLOOKUP($C$2,Bowling!CO:CT,3,0),"") | F60: =IF(ISNUMBER(VLOOKUP($C$2,Bowling!CO:CT,6,0))=TRUE,VLOOKUP($C$2,Bowling!CO:CT,6,0),"") | G60: =IF(ISNUMBER(VLOOKUP($C$2,Bowling!CO:CT,4,0))=TRUE,VLOOKUP($C$2,Bowling!CO:CT,4,0),"") | H60: =IF(ISNUMBER(VLOOKUP($C$2,Bowling!CO:CT,5,0))=TRUE,VLOOKUP($C$2,Bowling!CO:CT,5,0),"") | I60: =IF(ISNUMBER(F60/H60)=TRUE,F60/H60,"") | J60: =IF(ISNUMBER(F60/E60)=TRUE,F60/E60,"") | K60: =IF(ISNUMBER(E60*6/H60)=TRUE,E60*6/H60,"") | N60: J. Hunt | O60: =IF(ISNUMBER(VLOOKUP($C$2,Batting!GK:GQ,2,0))=TRUE,VLOOKUP($C$2,Batting!GK:GQ,2,0),"") -> 1 | P60: =IF(ISNUMBER(VLOOKUP($C$2,Batting!GK:GQ,3,0))=TRUE,VLOOKUP($C$2,Batting!GK:GQ,3,0),"") -> 9 | Q60: =IF(ISNUMBER(VLOOKUP($C$2,Batting!GK:GQ,4,0))=TRUE,VLOOKUP($C$2,Batting!GK:GQ,4,0),"") -> 9 | R60: =IF(ISNUMBER(O60-VLOOKUP($C$2,Batting!GK:GQ,5,0))=TRUE,O60-VLOOKUP($C$2,Batting!GK:GQ,5,0),"") -> 0 | S60: =IF(ISNUMBER(P60/(O60-R60))=TRUE,P60/(O60-R60),"") -> 9 | T60: =IF(ISNUMBER(VLOOKUP($C$2,Batting!GK:GQ,6,0))=TRUE,VLOOKUP($C$2,Batting!GK:GQ,6,0),"") -> 0 | U60: =IF(ISNUMBER(VLOOKUP($C$2,Batting!GK:GQ,7,0))=TRUE,VLOOKUP($C$2,Batting!GK:GQ,7,0),"") -> 0
A61: J. Reid | C61: T. White | D61: =IF(ISNUMBER(VLOOKUP($C$2,Bowling!CV:DA,2,0))=TRUE,VLOOKUP($C$2,Bowling!CV:DA,2,0),"") -> 1 | E61: =IF(ISNUMBER(VLOOKUP($C$2,Bowling!CV:DA,3,0))=TRUE,VLOOKUP($C$2,Bowling!CV:DA,3,0),"") -> 1 | F61: =IF(ISNUMBER(VLOOKUP($C$2,Bowling!CV:DA,6,0))=TRUE,VLOOKUP($C$2,Bowling!CV:DA,6,0),"") -> 3 | G61: =IF(ISNUMBER(VLOOKUP($C$2,Bowling!CV:DA,4,0))=TRUE,VLOOKUP($C$2,Bowling!CV:DA,4,0),"") -> 0 | H61: =IF(ISNUMBER(VLOOKUP($C$2,Bowling!CV:DA,5,0))=TRUE,VLOOKUP($C$2,Bowling!CV:DA,5,0),"") -> 1 | I61: =IF(ISNUMBER(F61/H61)=TRUE,F61/H61,"") -> 3 | J61: =IF(ISNUMBER(F61/E61)=TRUE,F61/E61,"") -> 3 | K61: =IF(ISNUMBER(E61*6/H61)=TRUE,E61*6/H61,"") -> 6 | N61: T. White | O61: =IF(ISNUMBER(VLOOKUP($C$2,Batting!GS:HC,2,0))=TRUE,VLOOKUP($C$2,Batting!GS:HC,2,0),"") -> 1 | P61: =IF(ISNUMBER(VLOOKUP($C$2,Batting!GS:HC,3,0))=TRUE,VLOOKUP($C$2,Batting!GS:HC,3,0),"") -> 24 | Q61: =IF(ISNUMBER(VLOOKUP($C$2,Batting!GS:HC,4,0))=TRUE,VLOOKUP($C$2,Batting!GS:HC,4,0),"") -> 24 | R61: =IF(ISNUMBER(O61-VLOOKUP($C$2,Batting!GS:HC,5,0))=TRUE,O61-VLOOKUP($C$2,Batting!GS:HC,5,0),"") -> 1 | S61: =IF(ISNUMBER(P61/(O61-R61))=TRUE,P61/(O61-R61),"") | T61: =IF(ISNUMBER(VLOOKUP($C$2,Batting!GS:HC,6,0))=TRUE,VLOOKUP($C$2,Batting!GS:HC,6,0),"") -> 0 | U61: =IF(ISNUMBER(VLOOKUP($C$2,Batting!GS:HC,7,0))=TRUE,VLOOKUP($C$2,Batting!GS:HC,7,0),"") -> 0
A62: C. Rogers | C62: J. Hancock | D62: =IF(ISNUMBER(VLOOKUP($C$2,Bowling!DC:DH,2,0))=TRUE,VLOOKUP($C$2,Bowling!DC:DH,2,0),"") | E62: =IF(ISNUMBER(VLOOKUP($C$2,Bowling!DC:DH,3,0))=TRUE,VLOOKUP($C$2,Bowling!DC:DH,3,0),"") | F62: =IF(ISNUMBER(VLOOKUP($C$2,Bowling!DC:DH,6,0))=TRUE,VLOOKUP($C$2,Bowling!DC:DH,6,0),"") | G62: =IF(ISNUMBER(VLOOKUP($C$2,Bowling!DC:DH,4,0))=TRUE,VLOOKUP($C$2,Bowling!DC:DH,4,0),"") | H62: =IF(ISNUMBER(VLOOKUP($C$2,Bowling!DC:DH,5,0))=TRUE,VLOOKUP($C$2,Bowling!DC:DH,5,0),"") | I62: =IF(ISNUMBER(F62/H62)=TRUE,F62/H62,"") | J62: =IF(ISNUMBER(F62/E62)=TRUE,F62/E62,"") | K62: =IF(ISNUMBER(E62*6/H62)=TRUE,E62*6/H62,"") | N62: J. Hancock | O62: =IF(ISNUMBER(VLOOKUP($C$2,Batting!HA:HG,2,0))=TRUE,VLOOKUP($C$2,Batting!HA:HG,2,0),"") -> 1 | P62: =IF(ISNUMBER(VLOOKUP($C$2,Batting!HA:HG,3,0))=TRUE,VLOOKUP($C$2,Batting!HA:HG,3,0),"") -> 20 | Q62: =IF(ISNUMBER(VLOOKUP($C$2,Batting!HA:HG,4,0))=TRUE,VLOOKUP($C$2,Batting!HA:HG,4,0),"") -> 20 | R62: =IF(ISNUMBER(O62-VLOOKUP($C$2,Batting!HA:HG,5,0))=TRUE,O62-VLOOKUP($C$2,Batting!HA:HG,5,0),"") -> 1 | S62: =IF(ISNUMBER(P62/(O62-R62))=TRUE,P62/(O62-R62),"") | T62: =IF(ISNUMBER(VLOOKUP($C$2,Batting!HA:HG,6,0))=TRUE,VLOOKUP($C$2,Batting!HA:HG,6,0),"") -> 0 | U62: =IF(ISNUMBER(VLOOKUP($C$2,Batting!HA:HG,7,0))=TRUE,VLOOKUP($C$2,Batting!HA:HG,7,0),"") -> 0
A63: J. Rogers | C63: O. Thornton | D63: =IF(ISNUMBER(VLOOKUP($C$2,Bowling!DJ:DO,2,0))=TRUE,VLOOKUP($C$2,Bowling!DJ:DO,2,0),"") | E63: =IF(ISNUMBER(VLOOKUP($C$2,Bowling!DJ:DO,3,0))=TRUE,VLOOKUP($C$2,Bowling!DJ:DO,3,0),"") | F63: =IF(ISNUMBER(VLOOKUP($C$2,Bowling!DJ:DO,6,0))=TRUE,VLOOKUP($C$2,Bowling!DJ:DO,6,0),"") | G63: =IF(ISNUMBER(VLOOKUP($C$2,Bowling!DJ:DO,4,0))=TRUE,VLOOKUP($C$2,Bowling!DJ:DO,4,0),"") | H63: =IF(ISNUMBER(VLOOKUP($C$2,Bowling!DJ:DO,5,0))=TRUE,VLOOKUP($C$2,Bowling!DJ:DO,5,0),"") | I63: =IF(ISNUMBER(F63/H63)=TRUE,F63/H63,"") | J63: =IF(ISNUMBER(F63/E63)=TRUE,F63/E63,"") | K63: =IF(ISNUMBER(E63*6/H63)=TRUE,E63*6/H63,"") | N63: O. Thornton | O63: =IF(ISNUMBER(VLOOKUP($C$2,Batting!HI:HO,2,0))=TRUE,VLOOKUP($C$2,Batting!HI:HO,2,0),"") | P63: =IF(ISNUMBER(VLOOKUP($C$2,Batting!HI:HO,3,0))=TRUE,VLOOKUP($C$2,Batting!HI:HO,3,0),"") | Q63: =IF(ISNUMBER(VLOOKUP($C$2,Batting!HI:HO,4,0))=TRUE,VLOOKUP($C$2,Batting!HI:HO,4,0),"") | R63: =IF(ISNUMBER(O63-VLOOKUP($C$2,Batting!HI:HO,5,0))=TRUE,O63-VLOOKUP($C$2,Batting!HI:HO,5,0),"") | S63: =IF(ISNUMBER(P63/(O63-R63))=TRUE,P63/(O63-R63),"") | T63: =IF(ISNUMBER(VLOOKUP($C$2,Batting!HI:HO,6,0))=TRUE,VLOOKUP($C$2,Batting!HI:HO,6,0),"") | U63: =IF(ISNUMBER(VLOOKUP($C$2,Batting!HI:HO,7,0))=TRUE,VLOOKUP($C$2,Batting!HI:HO,7,0),"")
A64: D. Romain | C64: R. Gunn | D64: =IF(ISNUMBER(VLOOKUP($C$2,Bowling!DQ:DV,2,0))=TRUE,VLOOKUP($C$2,Bowling!DQ:DV,2,0),"") | E64: =IF(ISNUMBER(VLOOKUP($C$2,Bowling!DQ:DV,3,0))=TRUE,VLOOKUP($C$2,Bowling!DQ:DV,3,0),"") | F64: =IF(ISNUMBER(VLOOKUP($C$2,Bowling!DQ:DV,6,0))=TRUE,VLOOKUP($C$2,Bowling!DQ:DV,6,0),"") | G64: =IF(ISNUMBER(VLOOKUP($C$2,Bowling!DQ:DV,4,0))=TRUE,VLOOKUP($C$2,Bowling!DQ:DV,4,0),"") | H64: =IF(ISNUMBER(VLOOKUP($C$2,Bowling!DQ:DV,5,0))=TRUE,VLOOKUP($C$2,Bowling!DQ:DV,5,0),"") | I64: =IF(ISNUMBER(F64/H64)=TRUE,F64/H64,"") | J64: =IF(ISNUMBER(F64/E64)=TRUE,F64/E64,"") | K64: =IF(ISNUMBER(E64*6/H64)=TRUE,E64*6/H64,"") | N64: R. Gunn | O64: =IF(ISNUMBER(VLOOKUP($C$2,Batting!HQ:HW,2,0))=TRUE,VLOOKUP($C$2,Batting!HQ:HW,2,0),"") -> 1 | P64: =IF(ISNUMBER(VLOOKUP($C$2,Batting!HQ:HW,3,0))=TRUE,VLOOKUP($C$2,Batting!HQ:HW,3,0),"") -> 16 | Q64: =IF(ISNUMBER(VLOOKUP($C$2,Batting!HQ:HW,4,0))=TRUE,VLOOKUP($C$2,Batting!HQ:HW,4,0),"") -> 16 | R64: =IF(ISNUMBER(O64-VLOOKUP($C$2,Batting!HQ:HW,5,0))=TRUE,O64-VLOOKUP($C$2,Batting!HQ:HW,5,0),"") -> 1 | S64: =IF(ISNUMBER(P64/(O64-R64))=TRUE,P64/(O64-R64),"") | T64: =IF(ISNUMBER(VLOOKUP($C$2,Batting!HQ:HW,6,0))=TRUE,VLOOKUP($C$2,Batting!HQ:HW,6,0),"") -> 0 | U64: =IF(ISNUMBER(VLOOKUP($C$2,Batting!HQ:HW,7,0))=TRUE,VLOOKUP($C$2,Batting!HQ:HW,7,0),"") -> 0
A65: N. Runkel
A66: C. Seigal
A67: P. Sheriff
A68: C. Simon
A69: D. Stockings
A70: W. Strickland
A71: J. Thornton
A72: O. Thornton
A73: T. Thurgood
A74: T. Wade
A75: G. Wately
A76: B. Watson
... A81: R. Yates

Sheet Batting
I1: Date | J1: (Multiple Items) | Q1: Date | R1: (Multiple Items) | Y1: Date | Z1: (Multiple Items) | AG1: Home/Away | AH1: Home | AO1: Home/Away | AP1: Away | AW1: Home/Away | AX1: Tour | BE1: TPCC Batting First | BF1: First | BM1: TPCC Batting First | BN1: Second | BU1: Match Status | BV1: Win | CC1: Match Status | CD1: Loss | CK1: Match Status | CL1: Draw | CS1: Batsmen Position | CT1: 1 | DA1: Batsmen Position | DB1: 2 | DI1: Batsmen Position | DJ1: 3 | DQ1: Batsmen Position | DR1: 4 | DY1: Batsmen Position | DZ1: 5 | EG1: Batsmen Position | EH1: 6 | EO1: Batsmen Position | EP1: 7 | EW1: Batsmen Position | EX1: 8 | FE1: Batsmen Position | FF1: 9 | FM1: Batsmen Position | FN1: 10 | FU1: Batsmen Position | FV1: 11 | GC1: Captain | GD1: S. Beardall | GK1: Captain | GL1: J. Hunt | GS1: Captain | GT1: T. White | HA1: Captain | HB1: J. Hancock | HI1: Captain | HJ1: O. Thornton | HQ1: Captain | HR1: R. Gunn
B3: Values | J3: Values | R3: Values | Z3: Values | AH3: Values | AP3: Values | AX3: Values | BF3: Values | BN3: Values | BV3: Values | CD3: Values | CL3: Values | CT3: Values | DB3: Values | DJ3: Values | DR3: Values | DZ3: Values | EH3: Values | EP3: Values | EX3: Values | FF3: Values | FN3: Values | FV3: Values | GD3: Values | GL3: Values | GT3: Values | HB3: Values | HJ3: Values | HR3: Values
A4: Row Labels | B4: Count of Batsmen Runs | C4: Sum of Batsmen Runs2 | D4: Max of Batsmen Runs2 | E4: Sum of Batsmen Out | F4: Sum of 100 | G4: Sum of 50 | I4: Row Labels | J4: Count of Batsmen Runs | K4: Sum of Batsmen Runs2 | L4: Max of Batsmen Runs2 | M4: Sum of Batsmen Out | N4: Sum of 100 | O4: Sum of 50 | Q4: Row Labels | R4: Count of Batsmen Runs | S4: Sum of Batsmen Runs2 | T4: Max of Batsmen Runs2_2 | U4: Sum of Batsmen Out | V4: Sum of 100 | W4: Sum of 50 | Y4: Row Labels | Z4: Count of Batsmen Runs | AA4: Sum of Batsmen Runs2 | AB4: Max of Batsmen Runs2_2 | AC4: Sum of Batsmen Out | AD4: Sum of 100 | AE4: Sum of 50 | AG4: Row Labels | AH4: Count of Batsmen Runs | AI4: Sum of Batsmen Runs2 | AJ4: Max of Batsmen Runs2_2 | AK4: Sum of Batsmen Out | AL4: Sum of 100 | AM4: Sum of 50 | AO4: Row Labels | AP4: Count of Batsmen Runs | AQ4: Sum of Batsmen Runs2 | AR4: Max of Batsmen Runs2_2 | AS4: Sum of Batsmen Out | AT4: Sum of 100 | AU4: Sum of 50 | AW4: Row Labels | AX4: Count of Batsmen Runs | AY4: Sum of Batsmen Runs2 | AZ4: Max of Batsmen Runs2_2 | BA4: Sum of Batsmen Out | BB4: Sum of 100 | BC4: Sum of 50 | BE4: Row Labels | BF4: Count of Batsmen Runs | BG4: Sum of Batsmen Runs2 | BH4: Max of Batsmen Runs2_2 | BI4: Sum of Batsmen Out | BJ4: Sum of 100 | BK4: Sum of 50 | BM4: Row Labels | BN4: Count of Batsmen Runs | BO4: Sum of Batsmen Runs2 | BP4: Max of Batsmen Runs2_2 | BQ4: Sum of Batsmen Out | BR4: Sum of 100 | BS4: Sum of 50 | BU4: Row Labels | BV4: Count of Batsmen Runs | BW4: Sum of Batsmen Runs2 | BX4: Max of Batsmen Runs2_2 | BY4: Sum of Batsmen Out | BZ4: Sum of 100 | CA4: Sum of 50 | CC4: Row Labels | CD4: Count of Batsmen Runs | CE4: Sum of Batsmen Runs2 | CF4: Max of Batsmen Runs2_2 | CG4: Sum of Batsmen Out | CH4: Sum of 100 | CI4: Sum of 50 | CK4: Row Labels | CL4: Count of Batsmen Runs | CM4: Sum of Batsmen Runs2 | CN4: Max of Batsmen Runs2_2 | CO4: Sum of Batsmen Out | CP4: Sum of 100 | CQ4: Sum of 50 | CS4: Row Labels | CT4: Count of Batsmen Runs | CU4: Sum of Batsmen Runs2 | CV4: Max of Batsmen Runs2_2 | CW4: Sum of Batsmen Out | CX4: Sum of 100 | CY4: Sum of 50 | DA4: Row Labels | DB4: Count of Batsmen Runs | DC4: Sum of Batsmen Runs2 | DD4: Max of Batsmen Runs2_2 | DE4: Sum of Batsmen Out | DF4: Sum of 100 | DG4: Sum of 50 | DI4: Row Labels | DJ4: Count of Batsmen Runs | DK4: Sum of Batsmen Runs2 | DL4: Max of Batsmen Runs2_2 | DM4: Sum of Batsmen Out | DN4: Sum of 100 | DO4: Sum of 50 | DQ4: Row Labels | DR4: Count of Batsmen Runs | DS4: Sum of Batsmen Runs2 | DT4: Max of Batsmen Runs2_2 | DU4: Sum of Batsmen Out | DV4: Sum of 100 | DW4: Sum of 50 | DY4: Row Labels | DZ4: Count of Batsmen Runs | EA4: Sum of Batsmen Runs2 | EB4: Max of Batsmen Runs2_2 | EC4: Sum of Batsmen Out | ED4: Sum of 100 | EE4: Sum of 50 | EG4: Row Labels | EH4: Count of Batsmen Runs | EI4: Sum of Batsmen Runs2 | EJ4: Max of Batsmen Runs2_2 | EK4: Sum of Batsmen Out | EL4: Sum of 100 | EM4: Sum of 50 | EO4: Row Labels | EP4: Count of Batsmen Runs | EQ4: Sum of Batsmen Runs2 | ER4: Max of Batsmen Runs2_2 | ES4: Sum of Batsmen Out | ET4: Sum of 100 | EU4: Sum of 50 | EW4: Row Labels | EX4: Count of Batsmen Runs | EY4: Sum of Batsmen Runs2 | EZ4: Max of Batsmen Runs2_2 | FA4: Sum of Batsmen Out | FB4: Sum of 100 | FC4: Sum of 50 | FE4: Row Labels | FF4: Count of Batsmen Runs | FG4: Sum of Batsmen Runs2 | FH4: Max of Batsmen Runs2_2 | FI4: Sum of Batsmen Out | FJ4: Sum of 100 | FK4: Sum of 50 | FM4: Row Labels | FN4: Count of Batsmen Runs | FO4: Sum of Batsmen Runs2 | FP4: Max of Batsmen Runs2_2 | FQ4: Sum of Batsmen Out | FR4: Sum of 100 | FS4: Sum of 50 | FU4: Row Labels | FV4: Count of Batsmen Runs | FW4: Sum of Batsmen Runs2 | FX4: Max of Batsmen Runs2_2 | FY4: Sum of Batsmen Out | FZ4: Sum of 100 | GA4: Sum of 50 | GC4: Row Labels | GD4: Count of Batsmen Runs | GE4: Sum of Batsmen Runs2 | GF4: Max of Batsmen Runs2_2 | GG4: Sum of Batsmen Out | GH4: Sum of 100 | GI4: Sum of 50 | GK4: Row Labels | GL4: Count of Batsmen Runs | GM4: Sum of Batsmen Runs2 | GN4: Max of Batsmen Runs2_2 | GO4: Sum of Batsmen Out | GP4: Sum of 100 | GQ4: Sum of 50 | GS4: Row Labels | GT4: Count of Batsmen Runs | GU4: Sum of Batsmen Runs2 | GV4: Max of Batsmen Runs2_2 | GW4: Sum of Batsmen Out | GX4: Sum of 100 | GY4: Sum of 50 | HA4: Row Labels | HB4: Count of Batsmen Runs | HC4: Sum of Batsmen Runs2 | HD4: Max of Batsmen Runs2_2 | HE4: Sum of Batsmen Out | HF4: Sum of 100 | HG4: Sum of 50 | HI4: Row Labels | HJ4: Count of Batsmen Runs | HK4: Sum of Batsmen Runs2 | HL4: Max of Batsmen Runs2_2 | HM4: Sum of Batsmen Out | HN4: Sum of 100 | HO4: Sum of 50 | HQ4: Row Labels | HR4: Count of Batsmen Runs | HS4: Sum of Batsmen Runs2 | HT4: Max of Batsmen Runs2_2 | HU4: Sum of Batsmen Out | HV4: Sum of 100 | HW4: Sum of 50
A5: 0 | B5: 491 | C5: 0 | D5: 0 | E5: 0 | F5: 0 | G5: 0 | I5: 0 | J5: 151 | K5: 0 | L5: 0 | M5: 0 | N5: 0 | O5: 0 | Q5: 0 | R5: 163 | S5: 0 | T5: 0 | U5: 0 | V5: 0 | W5: 0 | Y5: 0 | Z5: 177 | AA5: 0 | AB5: 0 | AC5: 0 | AD5: 0 | AE5: 0 | AG5: 0 | AH5: 317 | AI5: 0 | AJ5: 0 | AK5: 0 | AL5: 0 | AM5: 0 | AO5: 0 | AP5: 151 | AQ5: 0 | AR5: 0 | AS5: 0 | AT5: 0 | AU5: 0 | AW5: 0 | AX5: 23 | AY5: 0 | AZ5: 0 | BA5: 0 | BB5: 0 | BC5: 0 | BE5: 0 | BF5: 78 | BG5: 0 | BH5: 0 | BI5: 0 | BJ5: 0 | BK5: 0 | BM5: 0 | BN5: 138 | BO5: 0 | BP5: 0 | BQ5: 0 | BR5: 0 | BS5: 0 | BU5: 0 | BV5: 139 | BW5: 0 | BX5: 0 | BY5: 0 | BZ5: 0 | CA5: 0 | CC5: 0 | CD5: 20 | CE5: 0 | CF5: 0 | CG5: 0 | CH5: 0 | CI5: 0 | CK5: 0 | CL5: 57 | CM5: 0 | CN5: 0 | CO5: 0 | CP5: 0 | CQ5: 0 | CS5: 0 | CT5: 25 | CU5: 0 | CV5: 0 | CW5: 0 | CX5: 0 | CY5: 0 | DA5: 0 | DB5: 25 | DC5: 0 | DD5: 0 | DE5: 0 | DF5: 0 | DG5: 0 | DI5: 0 | DJ5: 26 | DK5: 0 | DL5: 0 | DM5: 0 | DN5: 0 | DO5: 0 | DQ5: 0 | DR5: 28 | DS5: 0 | DT5: 0 | DU5: 0 | DV5: 0 | DW5: 0 | DY5: 0 | DZ5: 32 | EA5: 0 | EB5: 0 | EC5: 0 | ED5: 0 | EE5: 0 | EG5: 0 | EH5: 40 | EI5: 0 | EJ5: 0 | EK5: 0 | EL5: 0 | EM5: 0 | EO5: 0 | EP5: 48 | EQ5: 0 | ER5: 0 | ES5: 0 | ET5: 0 | EU5: 0 | EW5: 0 | EX5: 55 | EY5: 0 | EZ5: 0 | FA5: 0 | FB5: 0 | FC5: 0 | FE5: 0 | FF5: 65 | FG5: 0 | FH5: 0 | FI5: 0 | FJ5: 0 | FK5: 0 | FM5: 0 | FN5: 68 | FO5: 0 | FP5: 0 | FQ5: 0 | FR5: 0 | FS5: 0 | FU5: 0 | FV5: 79 | FW5: 0 | FX5: 0 | FY5: 0 | FZ5: 0 | GA5: 0 | GC5: 0 | GD5: 165 | GE5: 0 | GF5: 0 | GG5: 0 | GH5: 0 | GI5: 0 | GK5: 0 | GL5: 21 | GM5: 0 | GN5: 0 | GO5: 0 | GP5: 0 | GQ5: 0 | GS5: 0 | GT5: 15 | GU5: 0 | GV5: 0 | GW5: 0 | GX5: 0 | GY5: 0 | HA5: 0 | HB5: 14 | HC5: 0 | HD5: 0 | HE5: 0 | HF5: 0 | HG5: 0 | HI5: 0 | HJ5: 1 | HK5: 0 | HL5: 0 | HM5: 0 | HN5: 0 | HO5: 0 | HQ5: A. Harvey-Thompson | HR5: 1 | HS5: 4 | HT5: 4 | HU5: 1 | HV5: 0 | HW5: 0
A6: A. Bignell | B6: 8 | C6: 71 | D6: 32 | E6: 6 | F6: 0 | G6: 0 | I6: A. Bignell | J6: 2 | K6: 0 | L6: 0 | M6: 2 | N6: 0 | O6: 0 | Q6: A. Bignell | R6: 3 | S6: 51 | T6: 32 | U6: 1 | V6: 0 | W6: 0 | Y6: A. Bignell | Z6: 3 | AA6: 20 | AB6: 15 | AC6: 3 | AD6: 0 | AE6: 0 | AG6: A. Bignell | AH6: 3 | AI6: 20 | AJ6: 19 | AK6: 2 | AL6: 0 | AM6: 0 | AO6: A. Bignell | AP6: 5 | AQ6: 51 | AR6: 32 | AS6: 4 | AT6: 0 | AU6: 0 | AW6: B. Bazell | AX6: 2 | AY6: 33 | AZ6: 24 | BA6: 1 | BB6: 0 | BC6: 0 | BE6: A. Bignell | BF6: 3 | BG6: 0 | BH6: 0 | BI6: 3 | BJ6: 0 | BK6: 0 | BM6: A. Bignell | BN6: 5 | BO6: 71 | BP6: 32 | BQ6: 3 | BR6: 0 | BS6: 0 | BU6: A. Bignell | BV6: 4 | BW6: 67 | BX6: 32 | BY6: 2 | BZ6: 0 | CA6: 0 | CC6: A. Bignell | CD6: 1 | CE6: 0 | CF6: 0 | CG6: 1 | CH6: 0 | CI6: 0 | CK6: A. Bignell | CL6: 3 | CM6: 4 | CN6: 4 | CO6: 3 | CP6: 0 | CQ6: 0 | CS6: A. Bignell | CT6: 2 | CU6: 15 | CV6: 15 | CW6: 2 | CX6: 0 | CY6: 0 | DA6: A. Bignell | DB6: 1 | DC6: 0 | DD6: 0 | DE6: 1 | DF6: 0 | DG6: 0 | DI6: B. Watson | DJ6: 1 | DK6: 0 | DL6: 0 | DM6: 1 | DN6: 0 | DO6: 0 | DQ6: B. Watson | DR6: 1 | DS6: 19 | DT6: 19 | DU6: 1 | DV6: 0 | DW6: 0 | DY6: A. Bignell | DZ6: 1 | EA6: 0 | EB6: 0 | EC6: 1 | ED6: 0 | EE6: 0 | EG6: B. Bazell | EH6: 2 | EI6: 70 | EJ6: 61 | EK6: 2 | EL6: 0 | EM6: 1 | EO6: A. Bignell | EP6: 2 | EQ6: 5 | ER6: 4 | ES6: 2 | ET6: 0 | EU6: 0 | EW6: A. Bignell | EX6: 2 | EY6: 51 | EZ6: 32 | FA6: 0 | FB6: 0 | FC6: 0 | FE6: B. Bazell | FF6: 3 | FG6: 30 | FH6: 16 | FI6: 2 | FJ6: 0 | FK6: 0 | FM6: A. Harvey-Thompson | FN6: 2 | FO6: 5 | FP6: 4 | FQ6: 2 | FR6: 0 | FS6: 0 | FU6: A. Harvey-Thompson | FV6: 2 | FW6: 2 | FX6: 2 | FY6: 1 | FZ6: 0 | GA6: 0 | GC6: A. Bignell | GD6: 6 | GE6: 52 | GF6: 32 | GG6: 5 | GH6: 0 | GI6: 0 | GK6: A. Bignell | GL6: 1 | GM6: 19 | GN6: 19 | GO6: 0 | GP6: 0 | GQ6: 0 | GS6: B. Bazell | GT6: 1 | GU6: 24 | GV6: 24 | GW6: 0 | GX6: 0 | GY6: 0 | HA6: A. Bignell | HB6: 1 | HC6: 0 | HD6: 0 | HE6: 1 | HF6: 0 | HG6: 0 | HI6: C. Beardall | HJ6: 1 | HK6: 121 | HL6: 121 | HM6: 1 | HN6: 1 | HO6: 0 | HQ6: B. Bazell | HR6: 1 | HS6: 16 | HT6: 16 | HU6: 0 | HV6: 0 | HW6: 0
A7: A. Eykyn | B7: 1 | C7: 22 | D7: 22 | E7: 1 | F7: 0 | G7: 0 | I7: A. Eykyn | J7: 1 | K7: 22 | L7: 22 | M7: 1 | N7: 0 | O7: 0 | Q7: B. Bazell | R7: 3 | S7: 22 | T7: 9 | U7: 2 | V7: 0 | W7: 0 | Y7: B. Bazell | Z7: 4 | AA7: 15 | AB7: 9 | AC7: 2 | AD7: 0 | AE7: 0 | AG7: A. Eykyn | AH7: 1 | AI7: 22 | AJ7: 22 | AK7: 1 | AL7: 0 | AM7: 0 | AO7: A. Harvey-Thompson | AP7: 3 | AQ7: 7 | AR7: 4 | AS7: 2 | AT7: 0 | AU7: 0 | AW7: C. Beardall | AX7: 2 | AY7: 64 | AZ7: 46 | BA7: 2 | BB7: 0 | BC7: 0 | BE7: A. Harvey-Thompson | BF7: 1 | BG7: 2 | BH7: 2 | BI7: 0 | BJ7: 0 | BK7: 0 | BM7: A. Eykyn | BN7: 1 | BO7: 22 | BP7: 22 | BQ7: 1 | BR7: 0 | BS7: 0 | BU7: B. Bazell | BV7: 4 | BW7: 50 | BX7: 24 | BY7: 3 | BZ7: 0 | CA7: 0 | CC7: A. Eykyn | CD7: 1 | CE7: 22 | CF7: 22 | CG7: 1 | CH7: 0 | CI7: 0 | CK7: A. Harvey-Thompson | CL7: 1 | CM7: 4 | CN7: 4 | CO7: 1 | CP7: 0 | CQ7: 0 | CS7: B. Bazell | CT7: 1 | CU7: 24 | CV7: 24 | CW7: 0 | CX7: 0 | CY7: 0 | DA7: C. Beardall | DB7: 1 | DC7: 119 | DD7: 119 | DE7: 0 | DF7: 1 | DG7: 0 | DI7: C. Beardall | DJ7: 5 | DK7: 174 | DL7: 83 | DM7: 5 | DN7: 0 | DO7: 1 | DQ7: C. Beardall | DR7: 3 | DS7: 38 | DT7: 19 | DU7: 3 | DV7: 0 | DW7: 0 | DY7: C. Beardall | DZ7: 2 | EA7: 201 | EB7: 121 | EC7: 1 | ED7: 1 | EE7: 1 | EG7: C. Beardall | EH7: 3 | EI7: 52 | EJ7: 31 | EK7: 3 | EL7: 0 | EM7: 0 | EO7: A. Eykyn | EP7: 1 | EQ7: 22 | ER7: 22 | ES7: 1 | ET7: 0 | EU7: 0 | EW7: C. Henry | EX7: 2 | EY7: 0 | EZ7: 0 | FA7: 2 | FB7: 0 | FC7: 0 | FE7: B. Bucknill | FF7: 3 | FG7: 2 | FH7: 1 | FI7: 3 | FJ7: 0 | FK7: 0 | FM7: B. Bazell | FN7: 3 | FO7: 10 | FP7: 9 | FQ7: 2 | FR7: 0 | FS7: 0 | FU7: B. Bazell | FV7: 3 | FW7: 5 | FX7: 5 | FY7: 1 | FZ7: 0 | GA7: 0 | GC7: A. Eykyn | GD7: 1 | GE7: 22 | GF7: 22 | GG7: 1 | GH7: 0 | GI7: 0 | GK7: B. Bazell | GL7: 1 | GM7: 9 | GN7: 9 | GO7: 1 | GP7: 0 | GQ7: 0 | GS7: C. Simon | GT7: 1 | GU7: 5 | GV7: 5 | GW7: 1 | GX7: 0 | GY7: 0 | HA7: A. Harvey-Thompson | HB7: 1 | HC7: 0 | HD7: 0 | HE7: 1 | HF7: 0 | HG7: 0 | HI7: C. Simon | HJ7: 1 | HK7: 5 | HL7: 5 | HM7: 0 | HN7: 0 | HO7: 0 | HQ7: C. Seigal | HR7: 1 | HS7: 4 | HT7: 4 | HU7: 1 | HV7: 0 | HW7: 0
A8: A. Harvey-Thompson | B8: 4 | C8: 7 | D8: 4 | E8: 3 | F8: 0 | G8: 0 | I8: A. Harvey-Thompson | J8: 4 | K8: 7 | L8: 4 | M8: 3 | N8: 0 | O8: 0 | Q8: B. Bucknill | R8: 1 | S8: 1 | T8: 1 | U8: 1 | V8: 0 | W8: 0 | Y8: B. Watson | Z8: 1 | AA8: 0 | AB8: 0 | AC8: 1 | AD8: 0 | AE8: 0 | AG8: A. Harvey-Thompson | AH8: 1 | AI8: 0 | AJ8: 0 | AK8: 1 | AL8: 0 | AM8: 0 | AO8: B. Bazell | AP8: 7 | AQ8: 92 | AR8: 61 | AS8: 4 | AT8: 0 | AU8: 1 | AW8: C. Simon | AX8: 3 | AY8: 52 | AZ8: 32 | BA8: 3 | BB8: 0 | BC8: 0 | BE8: B. Bazell | BF8: 5 | BG8: 23 | BH8: 9 | BI8: 3 | BJ8: 0 | BK8: 0 | BM8: A. Harvey-Thompson | BN8: 3 | BO8: 5 | BP8: 4 | BQ8: 3 | BR8: 0 | BS8: 0 | BU8: B. Bucknill | BV8: 1 | BW8: 1 | BX8: 1 | BY8: 1 | BZ8: 0 | CA8: 0 | CC8: A. Harvey-Thompson | CD8: 3 | CE8: 3 | CF8: 2 | CG8: 2 | CH8: 0 | CI8: 0 | CK8: B. Bazell | CL8: 5 | CM8: 87 | CN8: 61 | CO8: 1 | CP8: 0 | CQ8: 1 | CS8: C. Beardall | CT8: 5 | CU8: 191 | CV8: 96 | CW8: 5 | CX8: 0 | CY8: 1 | DA8: C. Simon | DB8: 3 | DC8: 41 | DD8: 16 | DE8: 3 | DF8: 0 | DG8: 0 | DI8: C. Simon | DJ8: 2 | DK8: 46 | DL8: 46 | DM8: 1 | DN8: 0 | DO8: 0 | DQ8: C. Seigal | DR8: 1 | DS8: 0 | DT8: 0 | DU8: 1 | DV8: 0 | DW8: 0 | DY8: D. Stockings | DZ8: 1 | EA8: 17 | EB8: 17 | EC8: 1 | ED8: 0 | EE8: 0 | EG8: C. Simon | EH8: 3 | EI8: 27 | EJ8: 19 | EK8: 2 | EL8: 0 | EM8: 0 | EO8: B. Bazell | EP8: 2 | EQ8: 25 | ER8: 20 | ES8: 0 | ET8: 0 | EU8: 0 | EW8: C. Rogers | EX8: 1 | EY8: 12 | EZ8: 12 | FA8: 0 | FB8: 0 | FC8: 0 | FE8: C. Henry | FF8: 3 | FG8: 8 | FH8: 5 | FI8: 2 | FJ8: 0 | FK8: 0 | FM8: B. West | FN8: 2 | FO8: 12 | FP8: 8 | FQ8: 2 | FR8: 0 | FS8: 0 | FU8: C. Henry | FV8: 1 | FW8: 5 | FX8: 5 | FY8: 0 | FZ8: 0 | GA8: 0 | GC8: A. Harvey-Thompson | GD8: 2 | GE8: 3 | GF8: 2 | GG8: 1 | GH8: 0 | GI8: 0 | GK8: B. Bucknill | GL8: 2 | GM8: 2 | GN8: 1 | GO8: 2 | GP8: 0 | GQ8: 0 | GS8: H. Beardall | GT8: 1 | GU8: 31 | GV8: 31 | GW8: 0 | GX8: 0 | GY8: 0 | HA8: B. Bazell | HB8: 1 | HC8: 20 | HD8: 20 | HE8: 0 | HF8: 0 | HG8: 0 | HI8: J. Leefe | HJ8: 1 | HK8: 0 | HL8: 0 | HM8: 1 | HN8: 0 | HO8: 0 | HQ8: J. Thornton | HR8: 1 | HS8: 0 | HT8: 0 | HU8: 1 | HV8: 0 | HW8: 0
A9: B. Bazell | B9: 14 | C9: 164 | D9: 61 | E9: 7 | F9: 0 | G9: 1 | I9: B. Bazell | J9: 7 | K9: 127 | L9: 61 | M9: 3 | N9: 0 | O9: 1 | Q9: B. Watson | R9: 1 | S9: 19 | T9: 19 | U9: 1 | V9: 0 | W9: 0 | Y9: C. Beardall | Z9: 7 | AA9: 311 | AB9: 121 | AC9: 7 | AD9: 1 | AE9: 1 | AG9: B. Bazell | AH9: 5 | AI9: 39 | AJ9: 20 | AK9: 2 | AL9: 0 | AM9: 0 | AO9: B. Bucknill | AP9: 1 | AQ9: 0 | AR9: 0 | AS9: 1 | AT9: 0 | AU9: 0 | AW9: D. Stockings | AX9: 1 | AY9: 8 | AZ9: 8 | BA9: 1 | BB9: 0 | BC9: 0 | BE9: B. Bucknill | BF9: 3 | BG9: 2 | BH9: 1 | BI9: 3 | BJ9: 0 | BK9: 0 | BM9: B. Bazell | BN9: 9 | BO9: 141 | BP9: 61 | BQ9: 4 | BR9: 0 | BS9: 1 | BU9: B. Watson | BV9: 1 | BW9: 19 | BX9: 19 | BY9: 1 | BZ9: 0 | CA9: 0 | CC9: B. Bazell | CD9: 5 | CE9: 27 | CF9: 20 | CG9: 3 | CH9: 0 | CI9: 0 | CK9: B. Bucknill | CL9: 2 | CM9: 1 | CN9: 1 | CO9: 2 | CP9: 0 | CQ9: 0 | CS9: C. Rogers | CT9: 1 | CU9: 16 | CV9: 16 | CW9: 1 | CX9: 0 | CY9: 0 | DA9: H. Beardall | DB9: 5 | DC9: 149 | DD9: 91 | DE9: 4 | DF9: 0 | DG9: 1 | DI9: D. Stockings | DJ9: 1 | DK9: 21 | DL9: 21 | DM9: 1 | DN9: 0 | DO9: 0 | DQ9: D. Mackintosh | DR9: 1 | DS9: 28 | DT9: 28 | DU9: 0 | DV9: 0 | DW9: 0 | DY9: H. Beardall | DZ9: 1 | EA9: 39 | EB9: 39 | EC9: 1 | ED9: 0 | EE9: 0 | EG9: D. Hyman | EH9: 1 | EI9: 14 | EJ9: 14 | EK9: 1 | EL9: 0 | EM9: 0 | EO9: C. Beardall | EP9: 1 | EQ9: 18 | ER9: 18 | ES9: 1 | ET9: 0 | EU9: 0 | EW9: C. Simon | EX9: 2 | EY9: 9 | EZ9: 8 | FA9: 2 | FB9: 0 | FC9: 0 | FE9: C. Simon | FF9: 1 | FG9: 5 | FH9: 5 | FI9: 0 | FJ9: 0 | FK9: 0 | FM9: C. Henry | FN9: 2 | FO9: 7 | FP9: 5 | FQ9: 0 | FR9: 0 | FS9: 0 | FU9: J. Moser | FV9: 1 | FW9: 17 | FX9: 17 | FY9: 0 | FZ9: 0 | GA9: 0 | GC9: B. Bazell | GD9: 10 | GE9: 95 | GF9: 61 | GG9: 6 | GH9: 0 | GI9: 1 | GK9: C. Beardall | GL9: 3 | GM9: 17 | GN9: 13 | GO9: 3 | GP9: 0 | GQ9: 0 | GS9: J. Hunt | GT9: 2 | GU9: 184 | GV9: 104 | GW9: 1 | GX9: 1 | GY9: 1 | HA9: B. West | HB9: 2 | HC9: 12 | HD9: 8 | HE9: 2 | HF9: 0 | HG9: 0 | HI9: J. Moberly | HJ9: 1 | HK9: 0 | HL9: 0 | HM9: 1 | HN9: 0 | HO9: 0 | HQ9: N. Runkel | HR9: 1 | HS9: 2 | HT9: 2 | HU9: 0 | HV9: 0 | HW9: 0
A10: B. Bucknill | B10: 3 | C10: 2 | D10: 1 | E10: 3 | F10: 0 | G10: 0 | I10: B. Bucknill | J10: 2 | K10: 1 | L10: 1 | M10: 2 | N10: 0 | O10: 0 | Q10: C. Beardall | R10: 10 | S10: 295 | T10: 96 | U10: 9 | V10: 0 | W10: 2 | Y10: C. Henry | Z10: 3 | AA10: 13 | AB10: 5 | AC10: 1 | AD10: 0 | AE10: 0 | AG10: B. Bucknill | AH10: 2 | AI10: 2 | AJ10: 1 | AK10: 2 | AL10: 0 | AM10: 0 | AO10: B. Watson | AP10: 1 | AQ10: 0 | AR10: 0 | AS10: 1 | AT10: 0 | AU10: 0 | AW10: H. Beardall | AX10: 4 | AY10: 63 | AZ10: 31 | BA10: 2 | BB10: 0 | BC10: 0 | BE10: B. Watson | BF10: 1 | BG10: 19 | BH10: 19 | BI10: 1 | BJ10: 0 | BK10: 0 | BM10: B. Watson | BN10: 1 | BO10: 0 | BP10: 0 | BQ10: 1 | BR10: 0 | BS10: 0 | BU10: C. Beardall | BV10: 12 | BW10: 478 | BX10: 121 | BY10: 11 | BZ10: 2 | CA10: 1 | CC10: B. West | CD10: 1 | CE10: 4 | CF10: 4 | CG10: 1 | CH10: 0 | CI10: 0 | CK10: B. Watson | CL10: 1 | CM10: 0 | CN10: 0 | CO10: 1 | CP10: 0 | CQ10: 0 | CS10: C. Simon | CT10: 12 | CU10: 148 | CV10: 41 | CW10: 12 | CX10: 0 | CY10: 0 | DA10: J. Hunt | DB10: 5 | DC10: 262 | DD10: 127 | DE10: 5 | DF10: 2 | DG10: 0 | DI10: H. Beardall | DJ10: 4 | DK10: 83 | DL10: 31 | DM10: 3 | DN10: 0 | DO10: 0 | DQ10: D. Stockings | DR10: 4 | DS10: 89 | DT10: 41 | DU10: 3 | DV10: 0 | DW10: 0 | DY10: J. Crook | DZ10: 1 | EA10: 0 | EB10: 0 | EC10: 1 | ED10: 0 | EE10: 0 | EG10: H. Beardall | EH10: 3 | EI10: 24 | EJ10: 13 | EK10: 2 | EL10: 0 | EM10: 0 | EO10: C. Henry | EP10: 1 | EQ10: 3 | ER10: 3 | ES10: 1 | ET10: 0 | EU10: 0 | EW10: D. Stockings | EX10: 1 | EY10: 0 | EZ10: 0 | FA10: 1 | FB10: 0 | FC10: 0 | FE10: H. De Zulueta | FF10: 1 | FG10: 0 | FH10: 0 | FI10: 1 | FJ10: 0 | FK10: 0 | FM10: C. Rogers | FN10: 3 | FO10: 9 | FP10: 9 | FQ10: 3 | FR10: 0 | FS10: 0 | FU10: N. Henry | FV10: 4 | FW10: 16 | FX10: 9 | FY10: 2 | FZ10: 0 | GA10: 0 | GC10: B. Bucknill | GD10: 1 | GE10: 0 | GF10: 0 | GG10: 1 | GH10: 0 | GI10: 0 | GK10: C. Henry | GL10: 3 | GM10: 12 | GN10: 5 | GO10: 0 | GP10: 0 | GQ10: 0 | GS10: J. Moberly | GT10: 2 | GU10: 9 | GV10: 9 | GW10: 2 | GX10: 0 | GY10: 0 | HA10: C. Beardall | HB10: 3 | HC10: 134 | HD10: 80 | HE10: 2 | HF10: 0 | HG10: 1 | HI10: J. Thornton | HJ10: 1 | HK10: 6 | HL10: 6 | HM10: 1 | HN10: 0 | HO10: 0 | HQ10: O. Brett | HR10: 1 | HS10: 12 | HT10: 12 | HU10: 1 | HV10: 0 | HW10: 0
A11: B. Watson | B11: 2 | C11: 19 | D11: 19 | E11: 2 | F11: 0 | G11: 0 | I11: B. West | J11: 2 | K11: 12 | L11: 8 | M11: 2 | N11: 0 | O11: 0 | Q11: C. Henry | R11: 4 | S11: 10 | T11: 5 | U11: 2 | V11: 0 | W11: 0 | Y11: C. Rogers | Z11: 4 | AA11: 28 | AB11: 16 | AC11: 3 | AD11: 0 | AE11: 0 | AG11: B. Watson | AH11: 1 | AI11: 19 | AJ11: 19 | AK11: 1 | AL11: 0 | AM11: 0 | AO11: C. Beardall | AP11: 5 | AQ11: 109 | AR11: 31 | AS11: 5 | AT11: 0 | AU11: 0 | AW11: J. Hunt | AX11: 5 | AY11: 247 | AZ11: 79 | BA11: 4 | BB11: 0 | BC11: 3 | BE11: B. West | BF11: 1 | BG11: 8 | BH11: 8 | BI11: 1 | BJ11: 0 | BK11: 0 | BM11: B. West | BN11: 1 | BO11: 4 | BP11: 4 | BQ11: 1 | BR11: 0 | BS11: 0 | BU11: C. Henry | BV11: 1 | BW11: 2 | BX11: 2 | BY11: 1 | BZ11: 0 | CA11: 0 | CC11: C. Beardall | CD11: 3 | CE11: 83 | CF11: 46 | CG11: 3 | CH11: 0 | CI11: 0 | CK11: B. West | CL11: 1 | CM11: 8 | CN11: 8 | CO11: 1 | CP11: 0 | CQ11: 0 | CS11: H. Beardall | CT11: 3 | CU11: 59 | CV11: 32 | CW11: 3 | CX11: 0 | CY11: 0 | DA11: J. Moberly | DB11: 10 | DC11: 84 | DD11: 30 | DE11: 10 | DF11: 0 | DG11: 0 | DI11: J. Hancock | DJ11: 5 | DK11: 221 | DL11: 99 | DM11: 3 | DN11: 0 | DO11: 2 | DQ11: H. Beardall | DR11: 1 | DS11: 0 | DT11: 0 | DU11: 1 | DV11: 0 | DW11: 0 | DY11: J. Hancock | DZ11: 8 | EA11: 453 | EB11: 101 | EC11: 5 | ED11: 1 | EE11: 4 | EG11: J. Hancock | EH11: 4 | EI11: 202 | EJ11: 84 | EK11: 2 | EL11: 0 | EM11: 2 | EO11: C. Rogers | EP11: 1 | EQ11: 3 | ER11: 3 | ES11: 1 | ET11: 0 | EU11: 0 | EW11: H. De Zulueta | EX11: 1 | EY11: 6 | EZ11: 6 | FA11: 1 | FB11: 0 | FC11: 0 | FE11: J. Hancock | FF11: 1 | FG11: 1 | FH11: 1 | FI11: 1 | FJ11: 0 | FK11: 0 | FM11: C. Seigal | FN11: 1 | FO11: 4 | FP11: 4 | FQ11: 1 | FR11: 0 | FS11: 0 | FU11: N. Runkel | FV11: 4 | FW11: 5 | FX11: 2 | FY11: 1 | FZ11: 0 | GA11: 0 | GC11: B. Watson | GD11: 2 | GE11: 19 | GF11: 19 | GG11: 2 | GH11: 0 | GI11: 0 | GK11: C. Rogers | GL11: 1 | GM11: 12 | GN11: 12 | GO11: 0 | GP11: 0 | GQ11: 0 | GS11: J. Reid | GT11: 1 | GU11: 0 | GV11: 0 | GW11: 1 | GX11: 0 | GY11: 0 | HA11: C. Henry | HB11: 1 | HC11: 2 | HD11: 2 | HE11: 1 | HF11: 0 | HG11: 0 | HI11: O. Thornton | HJ11: 1 | HK11: 24 | HL11: 24 | HM11: 1 | HN11: 0 | HO11: 0 | HQ11: O. Thornton | HR11: 1 | HS11: 42 | HT11: 42 | HU11: 1 | HV11: 0 | HW11: 0
A12: B. West | B12: 2 | C12: 12 | D12: 8 | E12: 2 | F12: 0 | G12: 0 | I12: C. Beardall | J12: 3 | K12: 187 | L12: 119 | M12: 2 | N12: 1 | O12: 0 | Q12: C. Rogers | R12: 2 | S12: 12 | T12: 9 | U12: 2 | V12: 0 | W12: 0 | Y12: C. Simon | Z12: 10 | AA12: 103 | AB12: 41 | AC12: 7 | AD12: 0 | AE12: 0 | AG12: B. West | AH12: 2 | AI12: 12 | AJ12: 8 | AK12: 2 | AL12: 0 | AM12: 0 | AO12: C. Henry | AP12: 7 | AQ12: 19 | AR12: 5 | AS12: 4 | AT12: 0 | AU12: 0 | AW12: J. Moberly | AX12: 3 | AY12: 13 | AZ12: 9 | BA12: 3 | BB12: 0 | BC12: 0 | BE12: C. Beardall | BF12: 15 | BG12: 672 | BH12: 121 | BI12: 13 | BJ12: 2 | BK12: 3 | BM12: C. Beardall | BN12: 5 | BO12: 121 | BP12: 46 | BQ12: 5 | BR12: 0 | BS12: 0 | BU12: C. Rogers | BV12: 2 | BW12: 25 | BX12: 16 | BY12: 2 | BZ12: 0 | CA12: 0 | CC12: C. Henry | CD12: 6 | CE12: 19 | CF12: 5 | CG12: 3 | CH12: 0 | CI12: 0 | CK12: C. Beardall | CL12: 5 | CM12: 232 | CN12: 96 | CO12: 4 | CP12: 0 | CQ12: 2 | CS12: J. Hunt | CT12: 7 | CU12: 323 | CV12: 122 | CW12: 5 | CX12: 1 | CY12: 1 | DA12: J. Rogers | DB12: 3 | DC12: 33 | DD12: 24 | DE12: 3 | DF12: 0 | DG12: 0 | DI12: J. Hunt | DJ12: 7 | DK12: 379 | DL12: 80 | DM12: 4 | DN12: 0 | DO12: 5 | DQ12: J. Hancock | DR12: 4 | DS12: 147 | DT12: 41 | DU12: 2 | DV12: 0 | DW12: 0 | DY12: J. Hunt | DZ12: 7 | EA12: 141 | EB12: 41 | EC12: 5 | ED12: 0 | EE12: 0 | EG12: J. Hunt | EH12: 4 | EI12: 92 | EJ12: 42 | EK12: 4 | EL12: 0 | EM12: 0 | EO12: C. Seigal | EP12: 1 | EQ12: 4 | ER12: 4 | ES12: 1 | ET12: 0 | EU12: 0 | EW12: J. Hunt | EX12: 1 | EY12: 24 | EZ12: 24 | FA12: 1 | FB12: 0 | FC12: 0 | FE12: J. Leefe | FF12: 3 | FG12: 24 | FH12: 11 | FI12: 3 | FJ12: 0 | FK12: 0 | FM12: C. Simon | FN12: 1 | FO12: 3 | FP12: 3 | FQ12: 1 | FR12: 0 | FS12: 0 | FU12: P. Girdler | FV12: 1 | FW12: 1 | FX12: 1 | FY12: 0 | FZ12: 0 | GA12: 0 | GC12: C. Beardall | GD12: 13 | GE12: 521 | GF12: 119 | GG12: 12 | GH12: 1 | GI12: 2 | GK12: C. Seigal | GL12: 1 | GM12: 0 | GN12: 0 | GO12: 1 | GP12: 0 | GQ12: 0 | GS12: M. Kemp | GT12: 1 | GU12: 5 | GV12: 5 | GW12: 0 | GX12: 0 | GY12: 0 | HA12: C. Rogers | HB12: 1 | HC12: 16 | HD12: 16 | HE12: 1 | HF12: 0 | HG12: 0 | HI12: Ro. Dickie | HJ12: 1 | HK12: 3 | HL12: 3 | HM12: 1 | HN12: 0 | HO12: 0 | HQ12: P. Briffett | HR12: 1 | HS12: 6 | HT12: 6 | HU12: 1 | HV12: 0 | HW12: 0
A13: C. Beardall | B13: 20 | C13: 793 | D13: 121 | E13: 18 | F13: 2 | G13: 3 | I13: C. Henry | J13: 2 | K13: 0 | L13: 0 | M13: 2 | N13: 0 | O13: 0 | Q13: C. Simon | R13: 5 | S13: 57 | T13: 21 | U13: 5 | V13: 0 | W13: 0 | Y13: D. Stockings | Z13: 3 | AA13: 61 | AB13: 21 | AC13: 2 | AD13: 0 | AE13: 0 | AG13: C. Beardall | AH13: 13 | AI13: 620 | AJ13: 121 | AK13: 11 | AL13: 2 | AM13: 3 | AO13: C. Rogers | AP13: 4 | AQ13: 37 | AR13: 16 | AS13: 3 | AT13: 0 | AU13: 0 | AW13: J. Thornton | AX13: 3 | AY13: 47 | AZ13: 29 | BA13: 2 | BB13: 0 | BC13: 0 | BE13: C. Henry | BF13: 4 | BG13: 8 | BH13: 5 | BI13: 3 | BJ13: 0 | BK13: 0 | BM13: C. Henry | BN13: 5 | BO13: 15 | BP13: 5 | BQ13: 2 | BR13: 0 | BS13: 0 | BU13: C. Simon | BV13: 11 | BW13: 153 | BX13: 46 | BY13: 9 | BZ13: 0 | CA13: 0 | CC13: C. Rogers | CD13: 2 | CE13: 12 | CF13: 12 | CG13: 1 | CH13: 0 | CI13: 0 | CK13: C. Henry | CL13: 2 | CM13: 2 | CN13: 2 | CO13: 1 | CP13: 0 | CQ13: 0 | CS13: J. Leefe | CT13: 2 | CU13: 3 | CV13: 3 | CW13: 2 | CX13: 0 | CY13: 0 | DA13: N. Henry | DB13: 1 | DC13: 6 | DD13: 6 | DE13: 1 | DF13: 0 | DG13: 0 | DI13: J. Moberly | DJ13: 2 | DK13: 8 | DL13: 4 | DM13: 2 | DN13: 0 | DO13: 0 | DQ13: J. Hunt | DR13: 10 | DS13: 335 | DT13: 149 | DU13: 7 | DV13: 1 | DW13: 1 | DY13: J. Leefe | DZ13: 1 | EA13: 20 | EB13: 20 | EC13: 0 | ED13: 0 | EE13: 0 | EG13: J. Leefe | EH13: 4 | EI13: 28 | EJ13: 13 | EK13: 3 | EL13: 0 | EM13: 0 | EO13: C. Simon | EP13: 2 | EQ13: 13 | ER13: 7 | ES13: 1 | ET13: 0 | EU13: 0 | EW13: J. Leefe | EX13: 5 | EY13: 25 | EZ13: 7 | FA13: 3 | FB13: 0 | FC13: 0 | FE13: J. Thornton | FF13: 1 | FG13: 4 | FH13: 4 | FI13: 0 | FJ13: 0 | FK13: 0 | FM13: C. Wellbelove | FN13: 1 | FO13: 0 | FP13: 0 | FQ13: 1 | FR13: 0 | FS13: 0 | FU13: T. Greenwood | FV13: 1 | FW13: 1 | FX13: 1 | FY13: 0 | FZ13: 0 | GA13: 0 | GC13: C. Henry | GD13: 5 | GE13: 9 | GF13: 5 | GG13: 4 | GH13: 0 | GI13: 0 | GK13: C. Simon | GL13: 6 | GM13: 111 | GN13: 46 | GO13: 5 | GP13: 0 | GQ13: 0 | GS13: N. Henry | GT13: 1 | GU13: 20 | GV13: 20 | GW13: 1 | GX13: 0 | GY13: 0 | HA13: C. Simon | HB13: 1 | HC13: 1 | HD13: 1 | HE13: 1 | HF13: 0 | HG13: 0 | HI13: S. Halfhead | HJ13: 1 | HK13: 4 | HL13: 4 | HM13: 1 | HN13: 0 | HO13: 0 | HQ13: R. Gunn | HR13: 1 | HS13: 5 | HT13: 5 | HU13: 1 | HV13: 0 | HW13: 0
A14: C. Henry | B14: 9 | C14: 23 | D14: 5 | E14: 5 | F14: 0 | G14: 0 | I14: C. Seigal | J14: 3 | K14: 8 | L14: 4 | M14: 3 | N14: 0 | O14: 0 | Q14: C. Wellbelove | R14: 1 | S14: 0 | T14: 0 | U14: 1 | V14: 0 | W14: 0 | Y14: H. Beardall | Z14: 10 | AA14: 221 | AB14: 91 | AC14: 8 | AD14: 0 | AE14: 1 | AG14: C. Henry | AH14: 2 | AI14: 4 | AJ14: 2 | AK14: 1 | AL14: 0 | AM14: 0 | AO14: C. Seigal | AP14: 3 | AQ14: 8 | AR14: 4 | AS14: 3 | AT14: 0 | AU14: 0 | AW14: N. Runkel | AX14: 1 | AY14: 0 | AZ14: 0 | BA14: 1 | BB14: 0 | BC14: 0 | BE14: C. Rogers | BF14: 3 | BG14: 12 | BH14: 9 | BI14: 3 | BJ14: 0 | BK14: 0 | BM14: C. Rogers | BN14: 3 | BO14: 28 | BP14: 16 | BQ14: 2 | BR14: 0 | BS14: 0 | BU14: D. Mackintosh | BV14: 1 | BW14: 28 | BX14: 28 | BY14: 0 | BZ14: 0 | CA14: 0 | CC14: C. Seigal | CD14: 2 | CE14: 4 | CF14: 4 | CG14: 2 | CH14: 0 | CI14: 0 | CK14: C. Rogers | CL14: 2 | CM14: 3 | CN14: 3 | CO14: 2 | CP14: 0 | CQ14: 0 | CS14: J. Moberly | CT14: 2 | CU14: 27 | CV14: 27 | CW14: 2 | CX14: 0 | CY14: 0 | DA14: O. Brett | DB14: 1 | DC14: 22 | DD14: 22 | DE14: 1 | DF14: 0 | DG14: 0 | DI14: J. Rogers | DJ14: 1 | DK14: 28 | DL14: 28 | DM14: 1 | DN14: 0 | DO14: 0 | DQ14: J. Kleiner-Mann | DR14: 1 | DS14: 1 | DT14: 1 | DU14: 1 | DV14: 0 | DW14: 0 | DY14: J. Moberly | DZ14: 4 | EA14: 10 | EB14: 8 | EC14: 4 | ED14: 0 | EE14: 0 | EG14: J. Moberly | EH14: 2 | EI14: 17 | EJ14: 13 | EK14: 2 | EL14: 0 | EM14: 0 | EO14: D. Mackey | EP14: 1 | EQ14: 0 | ER14: 0 | ES14: 1 | ET14: 0 | EU14: 0 | EW14: J. Moser | EX14: 1 | EY14: 20 | EZ14: 20 | FA14: 1 | FB14: 0 | FC14: 0 | FE14: N. Henry | FF14: 6 | FG14: 40 | FH14: 17 | FI14: 6 | FJ14: 0 | FK14: 0 | FM14: D. Bradman | FN14: 1 | FO14: 1 | FP14: 1 | FQ14: 1 | FR14: 0 | FS14: 0 | FU14: T. White | FV14: 5 | FW14: 13 | FX14: 5 | FY14: 0 | FZ14: 0 | GA14: 0 | GC14: C. Rogers | GD14: 4 | GE14: 12 | GF14: 9 | GG14: 4 | GH14: 0 | GI14: 0 | GK14: D. Mackey | GL14: 1 | GM14: 0 | GN14: 0 | GO14: 1 | GP14: 0 | GQ14: 0 | GS14: P. Briffett | GT14: 1 | GU14: 1 | GV14: 1 | GW14: 0 | GX14: 0 | GY14: 0 | HA14: C. Wellbelove | HB14: 1 | HC14: 0 | HD14: 0 | HE14: 1 | HF14: 0 | HG14: 0 | HI14: T. Wade | HJ14: 1 | HK14: 1 | HL14: 1 | HM14: 1 | HN14: 0 | HO14: 0 | HQ14: Ro. Dickie | HR14: 1 | HS14: 0 | HT14: 0 | HU14: 1 | HV14: 0 | HW14: 0
A15: C. Rogers | B15: 6 | C15: 40 | D15: 16 | E15: 5 | F15: 0 | G15: 0 | I15: C. Simon | J15: 11 | K15: 132 | L15: 46 | M15: 10 | N15: 0 | O15: 0 | Q15: D. Bradman | R15: 1 | S15: 1 | T15: 1 | U15: 1 | V15: 0 | W15: 0 | Y15: J. Hancock | Z15: 8 | AA15: 317 | AB15: 93 | AC15: 2 | AD15: 0 | AE15: 3 | AG15: C. Rogers | AH15: 2 | AI15: 3 | AJ15: 3 | AK15: 2 | AL15: 0 | AM15: 0 | AO15: C. Simon | AP15: 9 | AQ15: 96 | AR15: 21 | AS15: 7 | AT15: 0 | AU15: 0 | AW15: O. Thornton | AX15: 4 | AY15: 170 | AZ15: 56 | BA15: 4 | BB15: 0 | BC15: 1 | BE15: C. Simon | BF15: 14 | BG15: 103 | BH15: 21 | BI15: 13 | BJ15: 0 | BK15: 0 | BM15: C. Seigal | BN15: 3 | BO15: 8 | BP15: 4 | BQ15: 3 | BR15: 0 | BS15: 0 | BU15: D. Stockings | BV15: 2 | BW15: 29 | BX15: 21 | BY15: 2 | BZ15: 0 | CA15: 0 | CC15: C. Simon | CD15: 9 | CE15: 98 | CF15: 32 | CG15: 8 | CH15: 0 | CI15: 0 | CK15: C. Seigal | CL15: 1 | CM15: 4 | CN15: 4 | CO15: 1 | CP15: 0 | CQ15: 0 | CS15: J. Rogers | CT15: 1 | CU15: 32 | CV15: 32 | CW15: 1 | CX15: 0 | CY15: 0 | DA15: O. Thornton | DB15: 11 | DC15: 749 | DD15: 110 | DE15: 8 | DF15: 2 | DG15: 6 | DI15: N. Phillips | DJ15: 1 | DK15: 1 | DL15: 1 | DM15: 1 | DN15: 0 | DO15: 0 | DQ15: J. Moberly | DR15: 3 | DS15: 66 | DT15: 44 | DU15: 3 | DV15: 0 | DW15: 0 | DY15: J. Moser | DZ15: 1 | EA15: 0 | EB15: 0 | EC15: 0 | ED15: 0 | EE15: 0 | EG15: J. Phillips | EH15: 1 | EI15: 40 | EJ15: 40 | EK15: 0 | EL15: 0 | EM15: 0 | EO15: D. Stockings | EP15: 1 | EQ15: 10 | ER15: 10 | ES15: 1 | ET15: 0 | EU15: 0 | EW15: J. Rogers | EX15: 1 | EY15: 25 | EZ15: 25 | FA15: 0 | FB15: 0 | FC15: 0 | FE15: N. Runkel | FF15: 4 | FG15: 17 | FH15: 13 | FI15: 2 | FJ15: 0 | FK15: 0 | FM15: H. De Zulueta | FN15: 1 | FO15: 28 | FP15: 28 | FQ15: 0 | FR15: 0 | FS15: 0 | FU15: Grand Total | FV15: 101 | FW15: 65 | FX15: 17 | FY15: 5 | FZ15: 0 | GA15: 0 | GC15: C. Seigal | GD15: 1 | GE15: 4 | GF15: 4 | GG15: 1 | GH15: 0 | GI15: 0 | GK15: H. Beardall | GL15: 2 | GM15: 15 | GN15: 12 | GO15: 2 | GP15: 0 | GQ15: 0 | GS15: R. Gunn | GT15: 1 | GU15: 16 | GV15: 16 | GW15: 1 | GX15: 0 | GY15: 0 | HA15: H. De Zulueta | HB15: 1 | HC15: 6 | HD15: 6 | HE15: 1 | HF15: 0 | HG15: 0 | HI15: B. Johnson | HJ15: 1 | HK15: 20 | HL15: 20 | HM15: 1 | HN15: 0 | HO15: 0 | HQ15: T. Wade | HR15: 1 | HS15: 12 | HT15: 12 | HU15: 1 | HV15: 0 | HW15: 0
A16: C. Seigal | B16: 3 | C16: 8 | D16: 4 | E16: 3 | F16: 0 | G16: 0 | I16: D. Hyman | J16: 1 | K16: 14 | L16: 14 | M16: 1 | N16: 0 | O16: 0 | Q16: D. Mackey | R16: 1 | S16: 0 | T16: 0 | U16: 1 | V16: 0 | W16: 0 | Y16: J. Hunt | Z16: 15 | AA16: 527 | AB16: 122 | AC16: 12 | AD16: 2 | AE16: 2 | AG16: C. Simon | AH16: 14 | AI16: 144 | AJ16: 46 | AK16: 12 | AL16: 0 | AM16: 0 | AO16: C. Wellbelove | AP16: 1 | AQ16: 0 | AR16: 0 | AS16: 1 | AT16: 0 | AU16: 0 | AW16: P. Briffett | AX16: 5 | AY16: 97 | AZ16: 55 | BA16: 4 | BB16: 0 | BC16: 1 | BE16: D. Hyman | BF16: 1 | BG16: 14 | BH16: 14 | BI16: 1 | BJ16: 0 | BK16: 0 | BM16: C. Simon | BN16: 12 | BO16: 189 | BP16: 46 | BQ16: 9 | BR16: 0 | BS16: 0 | BU16: H. Beardall | BV16: 6 | BW16: 181 | BX16: 91 | BY16: 4 | BZ16: 0 | CA16: 1 | CC16: C. Wellbelove | CD16: 1 | CE16: 0 | CF16: 0 | CG16: 1 | CH16: 0 | CI16: 0 | CK16: C. Simon | CL16: 6 | CM16: 41 | CN16: 11 | CO16: 5 | CP16: 0 | CQ16: 0 | CS16: N. Runkel | CT16: 1 | CU16: 4 | CV16: 4 | CW16: 1 | CX16: 0 | CY16: 0 | DA16: P. Briffett | DB16: 12 | DC16: 108 | DD16: 25 | DE16: 12 | DF16: 0 | DG16: 0 | DI16: O. Thornton | DJ16: 8 | DK16: 316 | DL16: 103 | DM16: 7 | DN16: 1 | DO16: 1 | DQ16: J. Thornton | DR16: 1 | DS16: 0 | DT16: 0 | DU16: 1 | DV16: 0 | DW16: 0 | DY16: J. Thornton | DZ16: 2 | EA16: 38 | EB16: 21 | EC16: 2 | ED16: 0 | EE16: 0 | EG16: J. Reid | EH16: 1 | EI16: 0 | EJ16: 0 | EK16: 1 | EL16: 0 | EM16: 0 | EO16: H. Beardall | EP16: 2 | EQ16: 35 | ER16: 33 | ES16: 2 | ET16: 0 | EU16: 0 | EW16: J. Thornton | EX16: 4 | EY16: 62 | EZ16: 29 | FA16: 2 | FB16: 0 | FC16: 0 | FE16: P. Briffett | FF16: 2 | FG16: 3 | FH16: 3 | FI16: 2 | FJ16: 0 | FK16: 0 | FM16: J. Leefe | FN16: 3 | FO16: 24 | FP16: 22 | FQ16: 1 | FR16: 0 | FS16: 0 | GC16: C. Simon | GD16: 17 | GE16: 170 | GF16: 41 | GG16: 15 | GH16: 0 | GI16: 0 | GK16: J. Hancock | GL16: 2 | GM16: 63 | GN16: 52 | GO16: 2 | GP16: 0 | GQ16: 1 | GS16: Ro. Dickie | GT16: 1 | GU16: 33 | GV16: 33 | GW16: 1 | GX16: 0 | GY16: 0 | HA16: J. Hancock | HB16: 4 | HC16: 186 | HD16: 101 | HE16: 2 | HF16: 1 | HG16: 1 | HI16: Grand Total | HJ16: 11 | HK16: 184 | HL16: 121 | HM16: 9 | HN16: 1 | HO16: 0 | HQ16: Grand Total | HR16: 11 | HS16: 103 | HT16: 42 | HU16: 9 | HV16: 0 | HW16: 0
A17: C. Simon | B17: 26 | C17: 292 | D17: 46 | E17: 22 | F17: 0 | G17: 0 | I17: D. Mackintosh | J17: 1 | K17: 28 | L17: 28 | M17: 0 | N17: 0 | O17: 0 | Q17: D. Stockings | R17: 2 | S17: 49 | T17: 41 | U17: 2 | V17: 0 | W17: 0 | Y17: J. Leefe | Z17: 2 | AA17: 2 | AB17: 2 | AC17: 2 | AD17: 0 | AE17: 0 | AG17: D. Bradman | AH17: 1 | AI17: 1 | AJ17: 1 | AK17: 1 | AL17: 0 | AM17: 0 | AO17: D. Hyman | AP17: 1 | AQ17: 14 | AR17: 14 | AS17: 1 | AT17: 0 | AU17: 0 | AW17: P. Girdler | AX17: 1 | AY17: 1 | AZ17: 1 | BA17: 0 | BB17: 0 | BC17: 0 | BE17: D. Mackey | BF17: 1 | BG17: 0 | BH17: 0 | BI17: 1 | BJ17: 0 | BK17: 0 | BM17: C. Wellbelove | BN17: 1 | BO17: 0 | BP17: 0 | BQ17: 1 | BR17: 0 | BS17: 0 | BU17: H. De Zulueta | BV17: 1 | BW17: 6 | BX17: 6 | BY17: 1 | BZ17: 0 | CA17: 0 | CC17: D. Bradman | CD17: 1 | CE17: 1 | CF17: 1 | CG17: 1 | CH17: 0 | CI17: 0 | CK17: D. Hyman | CL17: 1 | CM17: 14 | CN17: 14 | CO17: 1 | CP17: 0 | CQ17: 0 | CS17: O. Brett | CT17: 3 | CU17: 21 | CV17: 12 | CW17: 3 | CX17: 0 | CY17: 0 | DA17: Ro. Dickie | DB17: 6 | DC17: 77 | DD17: 26 | DE17: 6 | DF17: 0 | DG17: 0 | DI17: P. Briffett | DJ17: 4 | DK17: 85 | DL17: 72 | DM17: 4 | DN17: 0 | DO17: 1 | DQ17: N. Henry | DR17: 1 | DS17: 5 | DT17: 5 | DU17: 0 | DV17: 0 | DW17: 0 | DY17: N. Runkel | DZ17: 1 | EA17: 0 | EB17: 0 | EC17: 1 | ED17: 0 | EE17: 0 | EG17: J. Thornton | EH17: 4 | EI17: 67 | EJ17: 51 | EK17: 2 | EL17: 0 | EM17: 1 | EO17: J. Hancock | EP17: 5 | EQ17: 128 | ER17: 52 | ES17: 2 | ET17: 0 | EU17: 1 | EW17: M. Kemp | EX17: 1 | EY17: 5 | EZ17: 5 | FA17: 0 | FB17: 0 | FC17: 0 | FE17: P. Girdler | FF17: 1 | FG17: 13 | FH17: 13 | FI17: 0 | FJ17: 0 | FK17: 0 | FM17: J. Moser | FN17: 1 | FO17: 0 | FP17: 0 | FQ17: 1 | FR17: 0 | FS17: 0 | GC17: D. Bradman | GD17: 1 | GE17: 1 | GF17: 1 | GG17: 1 | GH17: 0 | GI17: 0 | GK17: J. Hunt | GL17: 11 | GM17: 407 | GN17: 127 | GO17: 9 | GP17: 1 | GQ17: 2 | GS17: S. Halfhead | GT17: 1 | GU17: 13 | GV17: 13 | GW17: 1 | GX17: 0 | GY17: 0 | HA17: J. Hunt | HB17: 1 | HC17: 3 | HD17: 3 | HE17: 1 | HF17: 0 | HG17: 0
A18: C. Wellbelove | B18: 1 | C18: 0 | D18: 0 | E18: 1 | F18: 0 | G18: 0 | I18: D. Stockings | J18: 3 | K18: 27 | L18: 17 | M18: 3 | N18: 0 | O18: 0 | Q18: H. De Zulueta | R18: 3 | S18: 34 | T18: 28 | U18: 2 | V18: 0 | W18: 0 | Y18: J. Moberly | Z18: 8 | AA18: 74 | AB18: 44 | AC18: 8 | AD18: 0 | AE18: 0 | AG18: D. Mackintosh | AH18: 1 | AI18: 28 | AJ18: 28 | AK18: 0 | AL18: 0 | AM18: 0 | AO18: D. Mackey | AP18: 1 | AQ18: 0 | AR18: 0 | AS18: 1 | AT18: 0 | AU18: 0 | AW18: Ro. Dickie | AX18: 2 | AY18: 3 | AZ18: 3 | BA18: 2 | BB18: 0 | BC18: 0 | BE18: D. Stockings | BF18: 4 | BG18: 70 | BH18: 41 | BI18: 4 | BJ18: 0 | BK18: 0 | BM18: D. Bradman | BN18: 1 | BO18: 1 | BP18: 1 | BQ18: 1 | BR18: 0 | BS18: 0 | BU18: J. Crook | BV18: 1 | BW18: 0 | BX18: 0 | BY18: 1 | BZ18: 0 | CA18: 0 | CC18: D. Mackey | CD18: 1 | CE18: 0 | CF18: 0 | CG18: 1 | CH18: 0 | CI18: 0 | CK18: D. Stockings | CL18: 3 | CM18: 51 | CN18: 41 | CO18: 3 | CP18: 0 | CQ18: 0 | CS18: O. Thornton | CT18: 3 | CU18: 118 | CV18: 72 | CW18: 3 | CX18: 0 | CY18: 1 | DA18: S. Beardall | DB18: 3 | DC18: 146 | DD18: 86 | DE18: 2 | DF18: 0 | DG18: 1 | DI18: R. Gunn | DJ18: 5 | DK18: 67 | DL18: 45 | DM18: 4 | DN18: 0 | DO18: 0 | DQ18: O. Thornton | DR18: 3 | DS18: 133 | DT18: 77 | DU18: 3 | DV18: 0 | DW18: 2 | DY18: O. Brett | DZ18: 2 | EA18: 23 | EB18: 21 | EC18: 2 | ED18: 0 | EE18: 0 | EG18: M. Kiernan | EH18: 2 | EI18: 33 | EJ18: 32 | EK18: 1 | EL18: 0 | EM18: 0 | EO18: J. Hunt | EP18: 2 | EQ18: 60 | ER18: 57 | ES18: 1 | ET18: 0 | EU18: 1 | EW18: N. Henry | EX18: 6 | EY18: 83 | EZ18: 40 | FA18: 6 | FB18: 0 | FC18: 0 | FE18: R. Beardall | FF18: 1 | FG18: 0 | FH18: 0 | FI18: 1 | FJ18: 0 | FK18: 0 | FM18: N. Henry | FN18: 2 | FO18: 7 | FP18: 5 | FQ18: 1 | FR18: 0 | FS18: 0 | GC18: D. Hyman | GD18: 1 | GE18: 14 | GF18: 14 | GG18: 1 | GH18: 0 | GI18: 0 | GK18: J. Leefe | GL18: 3 | GM18: 19 | GN18: 13 | GO18: 3 | GP18: 0 | GQ18: 0 | GS18: T. Fost | GT18: 1 | GU18: 8 | GV18: 8 | GW18: 0 | GX18: 0 | GY18: 0 | HA18: J. Kleiner-Mann | HB18: 1 | HC18: 1 | HD18: 1 | HE18: 1 | HF18: 0 | HG18: 0
A19: D. Bradman | B19: 1 | C19: 1 | D19: 1 | E19: 1 | F19: 0 | G19: 0 | I19: H. Beardall | J19: 9 | K19: 168 | L19: 39 | M19: 8 | N19: 0 | O19: 0 | Q19: J. Crook | R19: 1 | S19: 0 | T19: 0 | U19: 1 | V19: 0 | W19: 0 | Y19: J. Rogers | Z19: 4 | AA19: 88 | AB19: 32 | AC19: 3 | AD19: 0 | AE19: 0 | AG19: D. Stockings | AH19: 4 | AI19: 98 | AJ19: 41 | AK19: 4 | AL19: 0 | AM19: 0 | AO19: D. Stockings | AP19: 3 | AQ19: 31 | AR19: 21 | AS19: 2 | AT19: 0 | AU19: 0 | AW19: S. Beardall | AX19: 5 | AY19: 77 | AZ19: 36 | BA19: 4 | BB19: 0 | BC19: 0 | BE19: H. Beardall | BF19: 7 | BG19: 120 | BH19: 33 | BI19: 7 | BJ19: 0 | BK19: 0 | BM19: D. Mackintosh | BN19: 1 | BO19: 28 | BP19: 28 | BQ19: 0 | BR19: 0 | BS19: 0 | BU19: J. Hancock | BV19: 11 | BW19: 470 | BX19: 101 | BY19: 4 | BZ19: 1 | CA19: 3 | CC19: D. Stockings | CD19: 3 | CE19: 57 | CF19: 21 | CG19: 2 | CH19: 0 | CI19: 0 | CK19: H. Beardall | CL19: 6 | CM19: 97 | CN19: 26 | CO19: 6 | CP19: 0 | CQ19: 0 | CS19: P. Briffett | CT19: 5 | CU19: 65 | CV19: 55 | CW19: 5 | CX19: 0 | CY19: 1 | DA19: S. Bucknill | DB19: 5 | DC19: 76 | DD19: 34 | DE19: 3 | DF19: 0 | DG19: 0 | DI19: R. Hunt | DJ19: 1 | DK19: 15 | DL19: 15 | DM19: 1 | DN19: 0 | DO19: 0 | DQ19: P. Briffett | DR19: 6 | DS19: 44 | DT19: 17 | DU19: 5 | DV19: 0 | DW19: 0 | DY19: P. Briffett | DZ19: 9 | EA19: 58 | EB19: 26 | EC19: 7 | ED19: 0 | EE19: 0 | EG19: N. Fox | EH19: 1 | EI19: 1 | EJ19: 1 | EK19: 0 | EL19: 0 | EM19: 0 | EO19: J. Leefe | EP19: 1 | EQ19: 1 | ER19: 1 | ES19: 0 | ET19: 0 | EU19: 0 | EW19: N. Runkel | EX19: 1 | EY19: 7 | EZ19: 7 | FA19: 1 | FB19: 0 | FC19: 0 | FE19: S. Halfhead | FF19: 1 | FG19: 6 | FH19: 6 | FI19: 1 | FJ19: 0 | FK19: 0 | FM19: N. Runkel | FN19: 2 | FO19: 0 | FP19: 0 | FQ19: 0 | FR19: 0 | FS19: 0 | GC19: D. Mackintosh | GD19: 1 | GE19: 28 | GF19: 28 | GG19: 0 | GH19: 0 | GI19: 0 | GK19: J. Moberly | GL19: 6 | GM19: 23 | GN19: 9 | GO19: 6 | GP19: 0 | GQ19: 0 | GS19: T. Wade | GT19: 2 | GU19: 105 | GV19: 70 | GW19: 1 | GX19: 0 | GY19: 1 | HA19: J. Leefe | HB19: 2 | HC19: 19 | HD19: 13 | HE19: 2 | HF19: 0 | HG19: 0
A20: D. Hyman | B20: 1 | C20: 14 | D20: 14 | E20: 1 | F20: 0 | G20: 0 | I20: J. Hancock | J20: 9 | K20: 454 | L20: 95 | M20: 7 | N20: 0 | O20: 4 | Q20: J. Hancock | R20: 10 | S20: 381 | T20: 101 | U20: 6 | V20: 1 | W20: 2 | Y20: J. Thornton | Z20: 5 | AA20: 52 | AB20: 21 | AC20: 5 | AD20: 0 | AE20: 0 | AG20: H. Beardall | AH20: 7 | AI20: 180 | AJ20: 91 | AK20: 6 | AL20: 0 | AM20: 1 | AO20: H. Beardall | AP20: 8 | AQ20: 146 | AR20: 39 | AS20: 8 | AT20: 0 | AU20: 0 | AW20: S. Halfhead | AX20: 2 | AY20: 22 | AZ20: 15 | BA20: 2 | BB20: 0 | BC20: 0 | BE20: J. Hancock | BF20: 15 | BG20: 740 | BH20: 99 | BI20: 9 | BJ20: 0 | BK20: 7 | BM20: D. Stockings | BN20: 4 | BO20: 67 | BP20: 21 | BQ20: 3 | BR20: 0 | BS20: 0 | BU20: J. Hunt | BV20: 19 | BW20: 723 | BX20: 127 | BY20: 13 | BZ20: 2 | CA20: 4 | CC20: H. Beardall | CD20: 7 | CE20: 111 | CF20: 39 | CG20: 6 | CH20: 0 | CI20: 0 | CK20: J. Hancock | CL20: 8 | CM20: 496 | CN20: 99 | CO20: 3 | CP20: 0 | CQ20: 5 | CS20: R. Dickie | CT20: 1 | CU20: 6 | CV20: 6 | CW20: 1 | CX20: 0 | CY20: 0 | DA20: S. Halfhead | DB20: 6 | DC20: 74 | DD20: 15 | DE20: 6 | DF20: 0 | DG20: 0 | DI20: Ro. Dickie | DJ20: 7 | DK20: 57 | DL20: 25 | DM20: 7 | DN20: 0 | DO20: 0 | DQ20: P. De Zulueta | DR20: 1 | DS20: 43 | DT20: 43 | DU20: 1 | DV20: 0 | DW20: 0 | DY20: P. De Zulueta | DZ20: 1 | EA20: 0 | EB20: 0 | EC20: 1 | ED20: 0 | EE20: 0 | EG20: N. Henry | EH20: 1 | EI20: 21 | EJ20: 21 | EK20: 1 | EL20: 0 | EM20: 0 | EO20: J. Moberly | EP20: 2 | EQ20: 20 | ER20: 14 | ES20: 2 | ET20: 0 | EU20: 0 | EW20: P. Girdler | EX20: 1 | EY20: 8 | EZ20: 8 | FA20: 0 | FB20: 0 | FC20: 0 | FE20: T. White | FF20: 4 | FG20: 28 | FH20: 20 | FI20: 3 | FJ20: 0 | FK20: 0 | FM20: Ra. Dickie | FN20: 2 | FO20: 4 | FP20: 4 | FQ20: 1 | FR20: 0 | FS20: 0 | GC20: D. Stockings | GD20: 8 | GE20: 137 | GF20: 41 | GG20: 7 | GH20: 0 | GI20: 0 | GK20: J. Thornton | GL20: 3 | GM20: 10 | GN20: 8 | GO20: 3 | GP20: 0 | GQ20: 0 | GS20: B. Prior | GT20: 1 | GU20: 0 | GV20: 0 | GW20: 1 | GX20: 0 | GY20: 0 | HA20: J. Moberly | HB20: 2 | HC20: 18 | HD20: 14 | HE20: 2 | HF20: 0 | HG20: 0
A21: D. Mackey | B21: 1 | C21: 0 | D21: 0 | E21: 1 | F21: 0 | G21: 0 | I21: J. Hunt | J21: 13 | K21: 523 | L21: 149 | M21: 9 | N21: 2 | O21: 1 | Q21: J. Hunt | R21: 15 | S21: 566 | T21: 98 | U21: 11 | V21: 0 | W21: 5 | Y21: N. Henry | Z21: 8 | AA21: 62 | AB21: 25 | AC21: 7 | AD21: 0 | AE21: 0 | AG21: H. De Zulueta | AH21: 2 | AI21: 6 | AJ21: 6 | AK21: 2 | AL21: 0 | AM21: 0 | AO21: H. De Zulueta | AP21: 1 | AQ21: 28 | AR21: 28 | AS21: 0 | AT21: 0 | AU21: 0 | AW21: T. Farley | AX21: 2 | AY21: 29 | AZ21: 19 | BA21: 1 | BB21: 0 | BC21: 0 | BE21: J. Hunt | BF21: 14 | BG21: 552 | BH21: 149 | BI21: 11 | BJ21: 2 | BK21: 2 | BM21: H. Beardall | BN21: 12 | BO21: 269 | BP21: 91 | BQ21: 9 | BR21: 0 | BS21: 1 | BU21: J. Kleiner-Mann | BV21: 1 | BW21: 1 | BX21: 1 | BY21: 1 | BZ21: 0 | CA21: 0 | CC21: H. De Zulueta | CD21: 2 | CE21: 28 | CF21: 28 | CG21: 1 | CH21: 0 | CI21: 0 | CK21: J. Hunt | CL21: 8 | CM21: 293 | CN21: 149 | CO21: 4 | CP21: 1 | CQ21: 0 | CS21: Ro. Dickie | CT21: 4 | CU21: 19 | CV21: 17 | CW21: 4 | CX21: 0 | CY21: 0 | DA21: T. Farley | DB21: 1 | DC21: 10 | DD21: 10 | DE21: 1 | DF21: 0 | DG21: 0 | DI21: S. Beardall | DJ21: 3 | DK21: 91 | DL21: 76 | DM21: 3 | DN21: 0 | DO21: 1 | DQ21: R. Gunn | DR21: 3 | DS21: 122 | DT21: 79 | DU21: 3 | DV21: 0 | DW21: 1 | DY21: P. Girdler | DZ21: 1 | EA21: 7 | EB21: 7 | EC21: 0 | ED21: 0 | EE21: 0 | EG21: O. Thornton | EH21: 3 | EI21: 91 | EJ21: 56 | EK21: 2 | EL21: 0 | EM21: 1 | EO21: J. Rogers | EP21: 1 | EQ21: 3 | ER21: 3 | ES21: 1 | ET21: 0 | EU21: 0 | EW21: P. Sheriff | EX21: 1 | EY21: 12 | EZ21: 12 | FA21: 1 | FB21: 0 | FC21: 0 | FE21: W. Strickland | FF21: 1 | FG21: 13 | FH21: 13 | FI21: 1 | FJ21: 0 | FK21: 0 | FM21: T. White | FN21: 6 | FO21: 41 | FP21: 23 | FQ21: 4 | FR21: 0 | FS21: 0 | GC21: H. Beardall | GD21: 16 | GE21: 343 | GF21: 91 | GG21: 14 | GH21: 0 | GI21: 1 | GK21: N. Fox | GL21: 1 | GM21: 1 | GN21: 1 | GO21: 0 | GP21: 0 | GQ21: 0 | GS21: Grand Total | GT21: 33 | GU21: 454 | GV21: 104 | GW21: 11 | GX21: 1 | GY21: 2 | HA21: J. Rogers | HB21: 1 | HC21: 28 | HD21: 28 | HE21: 1 | HF21: 0 | HG21: 0
A22: D. Mackintosh | B22: 1 | C22: 28 | D22: 28 | E22: 0 | F22: 0 | G22: 0 | I22: J. Leefe | J22: 9 | K22: 72 | L22: 22 | M22: 7 | N22: 0 | O22: 0 | Q22: J. Kleiner-Mann | R22: 1 | S22: 1 | T22: 1 | U22: 1 | V22: 0 | W22: 0 | Y22: N. Runkel | Z22: 6 | AA22: 4 | AB22: 2 | AC22: 2 | AD22: 0 | AE22: 0 | AG22: J. Crook | AH22: 1 | AI22: 0 | AJ22: 0 | AK22: 1 | AL22: 0 | AM22: 0 | AO22: J. Hancock | AP22: 14 | AQ22: 639 | AR22: 95 | AS22: 9 | AT22: 0 | AU22: 6 | AW22: T. Foot | AX22: 1 | AY22: 12 | AZ22: 12 | BA22: 1 | BB22: 0 | BC22: 0 | BE22: J. Leefe | BF22: 8 | BG22: 45 | BH22: 22 | BI22: 5 | BJ22: 0 | BK22: 0 | BM22: H. De Zulueta | BN22: 3 | BO22: 34 | BP22: 28 | BQ22: 2 | BR22: 0 | BS22: 0 | BU22: J. Leefe | BV22: 4 | BW22: 15 | BX22: 13 | BY22: 3 | BZ22: 0 | CA22: 0 | CC22: J. Hancock | CD22: 8 | CE22: 186 | CF22: 65 | CG22: 8 | CH22: 0 | CI22: 1 | CK22: J. Leefe | CL22: 7 | CM22: 61 | CN22: 22 | CO22: 2 | CP22: 0 | CQ22: 0 | CS22: S. Beardall | CT22: 14 | CU22: 653 | CV22: 152 | CW22: 13 | CX22: 1 | CY22: 4 | DA22: T. Wade | DB22: 2 | DC22: 88 | DD22: 88 | DE22: 1 | DF22: 0 | DG22: 1 | DI22: S. Bucknill | DJ22: 3 | DK22: 56 | DL22: 47 | DM22: 3 | DN22: 0 | DO22: 0 | DQ22: Ro. Dickie | DR22: 4 | DS22: 42 | DT22: 25 | DU22: 4 | DV22: 0 | DW22: 0 | DY22: R. Gunn | DZ22: 1 | EA22: 5 | EB22: 5 | EC22: 1 | ED22: 0 | EE22: 0 | EG22: P. Briffett | EH22: 4 | EI22: 55 | EJ22: 44 | EK22: 4 | EL22: 0 | EM22: 0 | EO22: J. Thornton | EP22: 3 | EQ22: 8 | ER22: 6 | ES22: 3 | ET22: 0 | EU22: 0 | EW22: R. Beardall | EX22: 1 | EY22: 0 | EZ22: 0 | FA22: 1 | FB22: 0 | FC22: 0 | FE22: Grand Total | FF22: 101 | FG22: 194 | FH22: 20 | FI22: 28 | FJ22: 0 | FK22: 0 | FM22: Grand Total | FN22: 101 | FO22: 155 | FP22: 28 | FQ22: 21 | FR22: 0 | FS22: 0 | GC22: H. De Zulueta | GD22: 2 | GE22: 28 | GF22: 28 | GG22: 1 | GH22: 0 | GI22: 0 | GK22: N. Henry | GL22: 6 | GM22: 78 | GN22: 40 | GO22: 5 | GP22: 0 | GQ22: 0 | HA22: J. Thornton | HB22: 1 | HC22: 8 | HD22: 8 | HE22: 0 | HF22: 0 | HG22: 0
A23: D. Stockings | B23: 8 | C23: 137 | D23: 41 | E23: 7 | F23: 0 | G23: 0 | I23: J. Moberly | J23: 5 | K23: 37 | L23: 14 | M23: 5 | N23: 0 | O23: 0 | Q23: J. Leefe | R23: 8 | S23: 51 | T23: 20 | U23: 3 | V23: 0 | W23: 0 | Y23: O. Brett | Z23: 2 | AA23: 4 | AB23: 2 | AC23: 1 | AD23: 0 | AE23: 0 | AG23: J. Hancock | AH23: 13 | AI23: 513 | AJ23: 101 | AK23: 6 | AL23: 1 | AM23: 3 | AO23: J. Hunt | AP23: 22 | AQ23: 863 | AR23: 149 | AS23: 17 | AT23: 3 | AU23: 4 | AW23: T. Fost | AX23: 1 | AY23: 8 | AZ23: 8 | BA23: 0 | BB23: 0 | BC23: 0 | BE23: J. Moberly | BF23: 14 | BG23: 108 | BH23: 30 | BI23: 14 | BJ23: 0 | BK23: 0 | BM23: J. Crook | BN23: 1 | BO23: 0 | BP23: 0 | BQ23: 1 | BR23: 0 | BS23: 0 | BU23: J. Moberly | BV23: 10 | BW23: 91 | BX23: 30 | BY23: 10 | BZ23: 0 | CA23: 0 | CC23: J. Hunt | CD23: 16 | CE23: 600 | CF23: 122 | CG23: 15 | CH23: 1 | CI23: 4 | CK23: J. Moberly | CL23: 6 | CM23: 77 | CN23: 44 | CO23: 6 | CP23: 0 | CQ23: 0 | CS23: S. Bucknill | CT23: 1 | CU23: 5 | CV23: 5 | CW23: 1 | CX23: 0 | CY23: 0 | DA23: Grand Total | DB23: 101 | DC23: 2044 | DD23: 127 | DE23: 67 | DF23: 5 | DG23: 9 | DI23: S. Halfhead | DJ23: 1 | DK23: 0 | DL23: 0 | DM23: 1 | DN23: 0 | DO23: 0 | DQ23: S. Beardall | DR23: 7 | DS23: 266 | DT23: 71 | DU23: 6 | DV23: 0 | DW23: 3 | DY23: Ro. Dickie | DZ23: 2 | EA23: 44 | EB23: 33 | EC23: 2 | ED23: 0 | EE23: 0 | EG23: R. Beardall | EH23: 1 | EI23: 0 | EJ23: 0 | EK23: 1 | EL23: 0 | EM23: 0 | EO23: M. Kiernan | EP23: 2 | EQ23: 7 | ER23: 7 | ES23: 2 | ET23: 0 | EU23: 0 | EW23: R. Gunn | EX23: 1 | EY23: 16 | EZ23: 16 | FA23: 1 | FB23: 0 | FC23: 0 | GC23: J. Crook | GD23: 1 | GE23: 0 | GF23: 0 | GG23: 1 | GH23: 0 | GI23: 0 | GK23: N. Runkel | GL23: 4 | GM23: 9 | GN23: 7 | GO23: 2 | GP23: 0 | GQ23: 0 | HA23: N. Henry | HB23: 3 | HC23: 16 | HD23: 11 | HE23: 2 | HF23: 0 | HG23: 0
A24: H. Beardall | B24: 19 | C24: 389 | D24: 91 | E24: 16 | F24: 0 | G24: 1 | I24: J. Moser | J24: 4 | K24: 37 | L24: 20 | M24: 2 | N24: 0 | O24: 0 | Q24: J. Moberly | R24: 12 | S24: 121 | T24: 30 | U24: 12 | V24: 0 | W24: 0 | Y24: O. Thornton | Z24: 13 | AA24: 689 | AB24: 110 | AC24: 9 | AD24: 1 | AE24: 5 | AG24: J. Hunt | AH24: 16 | AI24: 506 | AJ24: 127 | AK24: 11 | AL24: 1 | AM24: 1 | AO24: J. Leefe | AP24: 6 | AQ24: 57 | AR24: 22 | AS24: 4 | AT24: 0 | AU24: 0 | AW24: T. Greenwood | AX24: 1 | AY24: 2 | AZ24: 2 | BA24: 1 | BB24: 0 | BC24: 0 | BE24: J. Moser | BF24: 3 | BG24: 17 | BH24: 17 | BI24: 1 | BJ24: 0 | BK24: 0 | BM24: J. Hancock | BN24: 12 | BO24: 412 | BP24: 101 | BQ24: 6 | BR24: 1 | BS24: 2 | BU24: J. Moser | BV24: 1 | BW24: 0 | BX24: 0 | BY24: 0 | BZ24: 0 | CA24: 0 | CC24: J. Leefe | CD24: 8 | CE24: 49 | CF24: 13 | CG24: 7 | CH24: 0 | CI24: 0 | CK24: J. Moser | CL24: 1 | CM24: 17 | CN24: 17 | CO24: 0 | CP24: 0 | CQ24: 0 | CS24: S. Halfhead | CT24: 2 | CU24: 25 | CV24: 16 | CW24: 2 | CX24: 0 | CY24: 0 | DI24: T. Wade | DJ24: 11 | DK24: 187 | DL24: 81 | DM24: 11 | DN24: 0 | DO24: 1 | DQ24: S. Flakelar | DR24: 2 | DS24: 30 | DT24: 19 | DU24: 1 | DV24: 0 | DW24: 0 | DY24: S. Beardall | DZ24: 9 | EA24: 281 | EB24: 76 | EC24: 7 | ED24: 0 | EE24: 3 | EG24: R. Gunn | EH24: 2 | EI24: 43 | EJ24: 42 | EK24: 2 | EL24: 0 | EM24: 0 | EO24: N. Henry | EP24: 5 | EQ24: 42 | ER24: 20 | ES24: 5 | ET24: 0 | EU24: 0 | EW24: R. Hunt | EX24: 1 | EY24: 4 | EZ24: 4 | FA24: 1 | FB24: 0 | FC24: 0 | GC24: J. Hancock | GD24: 21 | GE24: 903 | GF24: 99 | GG24: 11 | GH24: 0 | GI24: 7 | GK24: O. Brett | GL24: 2 | GM24: 8 | GN24: 6 | GO24: 2 | GP24: 0 | GQ24: 0 | HA24: N. Runkel | HB24: 2 | HC24: 9 | HD24: 5 | HE24: 2 | HF24: 0 | HG24: 0
A25: H. De Zulueta | B25: 3 | C25: 34 | D25: 28 | E25: 2 | F25: 0 | G25: 0 | I25: J. Phillips | J25: 1 | K25: 40 | L25: 40 | M25: 0 | N25: 0 | O25: 0 | Q25: J. Reid | R25: 1 | S25: 0 | T25: 0 | U25: 1 | V25: 0 | W25: 0 | Y25: P. Briffett | Z25: 13 | AA25: 209 | AB25: 55 | AC25: 11 | AD25: 0 | AE25: 1 | AG25: J. Kleiner-Mann | AH25: 1 | AI25: 1 | AJ25: 1 | AK25: 1 | AL25: 0 | AM25: 0 | AO25: J. Moberly | AP25: 10 | AQ25: 154 | AR25: 44 | AS25: 10 | AT25: 0 | AU25: 0 | AW25: T. Wade | AX25: 3 | AY25: 51 | AZ25: 35 | BA25: 2 | BB25: 0 | BC25: 0 | BE25: J. Phillips | BF25: 1 | BG25: 40 | BH25: 40 | BI25: 0 | BJ25: 0 | BK25: 0 | BM25: J. Hunt | BN25: 29 | BO25: 1064 | BP25: 127 | BQ25: 21 | BR25: 2 | BS25: 6 | BU25: J. Reid | BV25: 1 | BW25: 0 | BX25: 0 | BY25: 1 | BZ25: 0 | CA25: 0 | CC25: J. Moberly | CD25: 9 | CE25: 64 | CF25: 22 | CG25: 9 | CH25: 0 | CI25: 0 | CK25: J. Rogers | CL25: 1 | CM25: 8 | CN25: 8 | CO25: 1 | CP25: 0 | CQ25: 0 | CS25: T. Farley | CT25: 1 | CU25: 9 | CV25: 9 | CW25: 1 | CX25: 0 | CY25: 0 | DI25: B. Prior | DJ25: 1 | DK25: 0 | DL25: 0 | DM25: 1 | DN25: 0 | DO25: 0 | DQ25: S. Halfhead | DR25: 2 | DS25: 30 | DT25: 28 | DU25: 2 | DV25: 0 | DW25: 0 | DY25: S. Halfhead | DZ25: 1 | EA25: 28 | EB25: 28 | EC25: 0 | ED25: 0 | EE25: 0 | EG25: Ra. Dickie | EH25: 1 | EI25: 4 | EJ25: 4 | EK25: 1 | EL25: 0 | EM25: 0 | EO25: N. Runkel | EP25: 1 | EQ25: 5 | ER25: 5 | ES25: 1 | ET25: 0 | EU25: 0 | EW25: Ra. Dickie | EX25: 1 | EY25: 1 | EZ25: 1 | FA25: 0 | FB25: 0 | FC25: 0 | GC25: J. Hunt | GD25: 29 | GE25: 1022 | GF25: 149 | GG25: 21 | GH25: 2 | GI25: 5 | GK25: O. Thornton | GL25: 5 | GM25: 219 | GN25: 77 | GO25: 5 | GP25: 0 | GQ25: 3 | HA25: O. Brett | HB25: 2 | HC25: 25 | HD25: 22 | HE25: 2 | HF25: 0 | HG25: 0
A26: J. Crook | B26: 1 | C26: 0 | D26: 0 | E26: 1 | F26: 0 | G26: 0 | I26: J. Thornton | J26: 3 | K26: 4 | L26: 4 | M26: 2 | N26: 0 | O26: 0 | Q26: J. Rogers | R26: 3 | S26: 33 | T26: 24 | U26: 3 | V26: 0 | W26: 0 | Y26: P. Girdler | Z26: 2 | AA26: 21 | AB26: 13 | AC26: 0 | AD26: 0 | AE26: 0 | AG26: J. Leefe | AH26: 13 | AI26: 68 | AJ26: 20 | AK26: 8 | AL26: 0 | AM26: 0 | AO26: J. Moser | AP26: 2 | AQ26: 17 | AR26: 17 | AS26: 1 | AT26: 0 | AU26: 0 | AW26: T. White | AX26: 3 | AY26: 17 | AZ26: 8 | BA26: 1 | BB26: 0 | BC26: 0 | BE26: J. Rogers | BF26: 4 | BG26: 65 | BH26: 32 | BI26: 4 | BJ26: 0 | BK26: 0 | BM26: J. Kleiner-Mann | BN26: 1 | BO26: 1 | BP26: 1 | BQ26: 1 | BR26: 0 | BS26: 0 | BU26: J. Rogers | BV26: 4 | BW26: 78 | BX26: 28 | BY26: 3 | BZ26: 0 | CA26: 0 | CC26: J. Moser | CD26: 2 | CE26: 20 | CF26: 20 | CG26: 2 | CH26: 0 | CI26: 0 | CK26: J. Thornton | CL26: 3 | CM26: 10 | CN26: 8 | CO26: 2 | CP26: 0 | CQ26: 0 | CS26: T. Wade | CT26: 2 | CU26: 34 | CV26: 33 | CW26: 2 | CX26: 0 | CY26: 0 | DI26: L. Weston | DJ26: 1 | DK26: 3 | DL26: 3 | DM26: 1 | DN26: 0 | DO26: 0 | DQ26: T. Wade | DR26: 11 | DS26: 366 | DT26: 70 | DU26: 9 | DV26: 0 | DW26: 3 | DY26: T. Fost | DZ26: 1 | EA26: 8 | EB26: 8 | EC26: 0 | ED26: 0 | EE26: 0 | EG26: S. Beardall | EH26: 5 | EI26: 136 | EJ26: 74 | EK26: 2 | EL26: 0 | EM26: 1 | EO26: O. Brett | EP26: 2 | EQ26: 2 | ER26: 2 | ES26: 1 | ET26: 0 | EU26: 0 | EW26: Ro. Dickie | EX26: 1 | EY26: 0 | EZ26: 0 | FA26: 1 | FB26: 0 | FC26: 0 | GC26: J. Leefe | GD26: 13 | GE26: 87 | GF26: 22 | GG26: 6 | GH26: 0 | GI26: 0 | GK26: P. Briffett | GL26: 8 | GM26: 66 | GN26: 30 | GO26: 6 | GP26: 0 | GQ26: 0 | HA26: O. Thornton | HB26: 3 | HC26: 163 | HD26: 110 | HE26: 2 | HF26: 1 | HG26: 1
A27: J. Hancock | B27: 27 | C27: 1152 | D27: 101 | E27: 15 | F27: 1 | G27: 9 | I27: M. Kiernan | J27: 4 | K27: 40 | L27: 32 | M27: 3 | N27: 0 | O27: 0 | Q27: J. Thornton | R27: 7 | S27: 123 | T27: 51 | U27: 3 | V27: 0 | W27: 1 | Y27: R. Beardall | Z27: 2 | AA27: 0 | AB27: 0 | AC27: 2 | AD27: 0 | AE27: 0 | AG27: J. Moberly | AH27: 12 | AI27: 65 | AJ27: 14 | AK27: 12 | AL27: 0 | AM27: 0 | AO27: J. Rogers | AP27: 3 | AQ27: 32 | AR27: 28 | AS27: 3 | AT27: 0 | AU27: 0 | AW27: Grand Total | AX27: 77 | AY27: 1016 | AZ27: 79 | BA27: 41 | BB27: 0 | BC27: 5 | BE27: J. Thornton | BF27: 9 | BG27: 58 | BH27: 17 | BI27: 6 | BJ27: 0 | BK27: 0 | BM27: J. Leefe | BN27: 11 | BO27: 80 | BP27: 20 | BQ27: 7 | BR27: 0 | BS27: 0 | BU27: J. Thornton | BV27: 9 | BW27: 148 | BX27: 51 | BY27: 6 | BZ27: 0 | CA27: 1 | CC27: J. Phillips | CD27: 1 | CE27: 40 | CF27: 40 | CG27: 0 | CH27: 0 | CI27: 0 | CK27: N. Fox | CL27: 1 | CM27: 1 | CN27: 1 | CO27: 0 | CP27: 0 | CQ27: 0 | CS27: T. Buys | CT27: 2 | CU27: 11 | CV27: 11 | CW27: 2 | CX27: 0 | CY27: 0 | DI27: T. Buys | DJ27: 1 | DK27: 1 | DL27: 1 | DM27: 1 | DN27: 0 | DO27: 0 | DQ27: W. Strickland | DR27: 1 | DS27: 8 | DT27: 8 | DU27: 1 | DV27: 0 | DW27: 0 | DY27: T. Greenwood | DZ27: 1 | EA27: 2 | EB27: 2 | EC27: 1 | ED27: 0 | EE27: 0 | EG27: S. Bucknill | EH27: 1 | EI27: 6 | EJ27: 6 | EK27: 1 | EL27: 0 | EM27: 0 | EO27: P. Briffett | EP27: 2 | EQ27: 34 | ER27: 30 | ES27: 1 | ET27: 0 | EU27: 0 | EW27: S. Beardall | EX27: 4 | EY27: 93 | EZ27: 55 | FA27: 3 | FB27: 0 | FC27: 1 | GC27: J. Moberly | GD27: 14 | GE27: 182 | GF27: 44 | GG27: 14 | GH27: 0 | GI27: 0 | GK27: R. Gunn | GL27: 1 | GM27: 79 | GN27: 79 | GO27: 1 | GP27: 0 | GQ27: 1 | HA27: P. Briffett | HB27: 4 | HC27: 84 | HD27: 72 | HE27: 4 | HF27: 0 | HG27: 1
A28: J. Hunt | B28: 43 | C28: 1616 | D28: 149 | E28: 32 | F28: 4 | G28: 8 | I28: N. Fox | J28: 1 | K28: 1 | L28: 1 | M28: 0 | N28: 0 | O28: 0 | Q28: M. Kemp | R28: 1 | S28: 5 | T28: 5 | U28: 0 | V28: 0 | W28: 0 | Y28: R. Gunn | Z28: 1 | AA28: 1 | AB28: 1 | AC28: 0 | AD28: 0 | AE28: 0 | AG28: J. Moser | AH28: 2 | AI28: 20 | AJ28: 20 | AK28: 1 | AL28: 0 | AM28: 0 | AO28: J. Thornton | AP28: 4 | AQ28: 43 | AR28: 21 | AS28: 4 | AT28: 0 | AU28: 0 | BE28: M. Kiernan | BF28: 1 | BG28: 1 | BH28: 1 | BI28: 1 | BJ28: 0 | BK28: 0 | BM28: J. Moberly | BN28: 11 | BO28: 124 | BP28: 44 | BQ28: 11 | BR28: 0 | BS28: 0 | BU28: M. Kemp | BV28: 1 | BW28: 5 | BX28: 5 | BY28: 0 | BZ28: 0 | CA28: 0 | CC28: J. Rogers | CD28: 2 | CE28: 35 | CF28: 32 | CG28: 2 | CH28: 0 | CI28: 0 | CK28: N. Henry | CL28: 8 | CM28: 130 | CN28: 40 | CO28: 8 | CP28: 0 | CQ28: 0 | CS28: D. Romain | CT28: 1 | CU28: 10 | CV28: 10 | CW28: 1 | CX28: 0 | CY28: 0 | DI28: Grand Total | DJ28: 101 | DK28: 1839 | DL28: 103 | DM28: 66 | DN28: 1 | DO28: 12 | DQ28: W. Hale | DR28: 1 | DS28: 9 | DT28: 9 | DU28: 1 | DV28: 0 | DW28: 0 | DY28: T. Wade | DZ28: 8 | EA28: 181 | EB28: 56 | EC28: 6 | ED28: 0 | EE28: 1 | EG28: S. Flakelar | EH28: 1 | EI28: 3 | EJ28: 3 | EK28: 1 | EL28: 0 | EM28: 0 | EO28: P. De Zulueta | EP28: 2 | EQ28: 70 | ER28: 70 | ES28: 1 | ET28: 0 | EU28: 1 | EW28: S. Halfhead | EX28: 2 | EY28: 17 | EZ28: 13 | FA28: 2 | FB28: 0 | FC28: 0 | GC28: J. Moser | GD28: 4 | GE28: 37 | GF28: 20 | GG28: 2 | GH28: 0 | GI28: 0 | GK28: R. Hunt | GL28: 1 | GM28: 4 | GN28: 4 | GO28: 1 | GP28: 0 | GQ28: 0 | HA28: P. Sheriff | HB28: 1 | HC28: 12 | HD28: 12 | HE28: 1 | HF28: 0 | HG28: 0
A29: J. Kleiner-Mann | B29: 1 | C29: 1 | D29: 1 | E29: 1 | F29: 0 | G29: 0 | I29: N. Henry | J29: 9 | K29: 56 | L29: 17 | M29: 7 | N29: 0 | O29: 0 | Q29: N. Henry | R29: 9 | S29: 102 | T29: 40 | U29: 8 | V29: 0 | W29: 0 | Y29: Ra. Dickie | Z29: 2 | AA29: 8 | AB29: 4 | AC29: 1 | AD29: 0 | AE29: 0 | AG29: J. Phillips | AH29: 1 | AI29: 40 | AJ29: 40 | AK29: 0 | AL29: 0 | AM29: 0 | AO29: M. Kiernan | AP29: 2 | AQ29: 7 | AR29: 7 | AS29: 2 | AT29: 0 | AU29: 0 | BE29: N. Fox | BF29: 1 | BG29: 1 | BH29: 1 | BI29: 0 | BJ29: 0 | BK29: 0 | BM29: J. Moser | BN29: 1 | BO29: 20 | BP29: 20 | BQ29: 1 | BR29: 0 | BS29: 0 | BU29: M. Kiernan | BV29: 2 | BW29: 33 | BX29: 32 | BY29: 1 | BZ29: 0 | CA29: 0 | CC29: J. Thornton | CD29: 3 | CE29: 21 | CF29: 17 | CG29: 2 | CH29: 0 | CI29: 0 | CK29: N. Runkel | CL29: 6 | CM29: 9 | CN29: 5 | CO29: 2 | CP29: 0 | CQ29: 0 | CS29: Grand Total | CT29: 101 | CU29: 1818 | CV29: 152 | CW29: 72 | CX29: 2 | CY29: 8 | DQ29: D. Romain | DR29: 1 | DS29: 25 | DT29: 25 | DU29: 1 | DV29: 0 | DW29: 0 | DY29: T. White | DZ29: 2 | EA29: 28 | EB29: 24 | EC29: 1 | ED29: 0 | EE29: 0 | EG29: S. Halfhead | EH29: 2 | EI29: 38 | EJ29: 38 | EK29: 1 | EL29: 0 | EM29: 0 | EO29: Ra. Dickie | EP29: 1 | EQ29: 4 | ER29: 4 | ES29: 0 | ET29: 0 | EU29: 0 | EW29: T. Farley | EX29: 1 | EY29: 19 | EZ29: 19 | FA29: 0 | FB29: 0 | FC29: 0 | GC29: J. Phillips | GD29: 1 | GE29: 40 | GF29: 40 | GG29: 0 | GH29: 0 | GI29: 0 | GK29: Ra. Dickie | GL29: 2 | GM29: 4 | GN29: 4 | GO29: 1 | GP29: 0 | GQ29: 0 | HA29: R. Gunn | HB29: 3 | HC29: 41 | HD29: 27 | HE29: 3 | HF29: 0 | HG29: 0
A30: J. Leefe | B30: 19 | C30: 125 | D30: 22 | E30: 12 | F30: 0 | G30: 0 | I30: N. Runkel | J30: 6 | K30: 27 | L30: 13 | M30: 4 | N30: 0 | O30: 0 | Q30: N. Phillips | R30: 1 | S30: 1 | T30: 1 | U30: 1 | V30: 0 | W30: 0 | Y30: Ro. Dickie | Z30: 8 | AA30: 71 | AB30: 25 | AC30: 8 | AD30: 0 | AE30: 0 | AG30: J. Reid | AH30: 1 | AI30: 0 | AJ30: 0 | AK30: 1 | AL30: 0 | AM30: 0 | AO30: N. Fox | AP30: 1 | AQ30: 1 | AR30: 1 | AS30: 0 | AT30: 0 | AU30: 0 | BE30: N. Henry | BF30: 12 | BG30: 87 | BH30: 25 | BI30: 11 | BJ30: 0 | BK30: 0 | BM30: J. Reid | BN30: 1 | BO30: 0 | BP30: 0 | BQ30: 1 | BR30: 0 | BS30: 0 | BU30: N. Henry | BV30: 7 | BW30: 50 | BX30: 20 | BY30: 4 | BZ30: 0 | CA30: 0 | CC30: M. Kiernan | CD30: 2 | CE30: 7 | CF30: 7 | CG30: 2 | CH30: 0 | CI30: 0 | CK30: O. Brett | CL30: 5 | CM30: 61 | CN30: 22 | CO30: 5 | CP30: 0 | CQ30: 0 | DQ30: Grand Total | DR30: 101 | DS30: 1846 | DT30: 149 | DU30: 60 | DV30: 1 | DW30: 10 | DY30: B. Boddington | DZ30: 1 | EA30: 28 | EB30: 28 | EC30: 0 | ED30: 0 | EE30: 0 | EG30: T. Foot | EH30: 1 | EI30: 12 | EJ30: 12 | EK30: 1 | EL30: 0 | EM30: 0 | EO30: Ro. Dickie | EP30: 2 | EQ30: 6 | ER30: 6 | ES30: 2 | ET30: 0 | EU30: 0 | EW30: T. Greenwood | EX30: 1 | EY30: 1 | EZ30: 1 | FA30: 0 | FB30: 0 | FC30: 0 | GC30: J. Rogers | GD30: 6 | GE30: 93 | GF30: 32 | GG30: 5 | GH30: 0 | GI30: 0 | GK30: Ro. Dickie | GL30: 4 | GM30: 45 | GN30: 26 | GO30: 4 | GP30: 0 | GQ30: 0 | HA30: R. Hunt | HB30: 1 | HC30: 15 | HD30: 15 | HE30: 1 | HF30: 0 | HG30: 0
A31: J. Moberly | B31: 25 | C31: 232 | D31: 44 | E31: 25 | F31: 0 | G31: 0 | I31: O. Brett | J31: 5 | K31: 61 | L31: 22 | M31: 5 | N31: 0 | O31: 0 | Q31: N. Runkel | R31: 2 | S31: 7 | T31: 7 | U31: 1 | V31: 0 | W31: 0 | Y31: S. Beardall | Z31: 20 | AA31: 836 | AB31: 152 | AC31: 15 | AD31: 1 | AE31: 6 | AG31: J. Rogers | AH31: 4 | AI31: 89 | AJ31: 32 | AK31: 3 | AL31: 0 | AM31: 0 | AO31: N. Henry | AP31: 11 | AQ31: 69 | AR31: 17 | AS31: 11 | AT31: 0 | AU31: 0 | BE31: N. Runkel | BF31: 8 | BG31: 29 | BH31: 13 | BI31: 5 | BJ31: 0 | BK31: 0 | BM31: J. Rogers | BN31: 3 | BO31: 56 | BP31: 28 | BQ31: 2 | BR31: 0 | BS31: 0 | BU31: N. Phillips | BV31: 1 | BW31: 1 | BX31: 1 | BY31: 1 | BZ31: 0 | CA31: 0 | CC31: N. Henry | CD31: 11 | CE31: 40 | CF31: 13 | CG31: 10 | CH31: 0 | CI31: 0 | CK31: O. Thornton | CL31: 5 | CM31: 207 | CN31: 72 | CO31: 5 | CP31: 0 | CQ31: 2 | DY31: Grand Total | DZ31: 101 | EA31: 1612 | EB31: 121 | EC31: 50 | ED31: 2 | EE31: 9 | EG31: V. Haig | EH31: 1 | EI31: 11 | EJ31: 11 | EK31: 1 | EL31: 0 | EM31: 0 | EO31: S. Beardall | EP31: 2 | EQ31: 15 | ER31: 9 | ES31: 2 | ET31: 0 | EU31: 0 | EW31: T. White | EX31: 2 | EY31: 10 | EZ31: 10 | FA31: 2 | FB31: 0 | FC31: 0 | GC31: J. Thornton | GD31: 9 | GE31: 155 | GF31: 51 | GG31: 5 | GH31: 0 | GI31: 1 | GK31: S. Bucknill | GL31: 3 | GM31: 59 | GN31: 47 | GO31: 3 | GP31: 0 | GQ31: 0 | HA31: Ro. Dickie | HB31: 1 | HC31: 9 | HD31: 9 | HE31: 1 | HF31: 0 | HG31: 0
A32: J. Moser | B32: 4 | C32: 37 | D32: 20 | E32: 2 | F32: 0 | G32: 0 | I32: O. Thornton | J32: 6 | K32: 276 | L32: 77 | M32: 6 | N32: 0 | O32: 3 | Q32: O. Brett | R32: 1 | S32: 3 | T32: 3 | U32: 1 | V32: 0 | W32: 0 | Y32: S. Bucknill | Z32: 3 | AA32: 38 | AB32: 29 | AC32: 2 | AD32: 0 | AE32: 0 | AG32: J. Thornton | AH32: 8 | AI32: 89 | AJ32: 51 | AK32: 4 | AL32: 0 | AM32: 1 | AO32: N. Runkel | AP32: 8 | AQ32: 27 | AR32: 13 | AS32: 3 | AT32: 0 | AU32: 0 | BE32: O. Brett | BF32: 3 | BG32: 28 | BH32: 22 | BI32: 3 | BJ32: 0 | BK32: 0 | BM32: J. Thornton | BN32: 6 | BO32: 121 | BP32: 51 | BQ32: 4 | BR32: 0 | BS32: 1 | BU32: N. Runkel | BV32: 1 | BW32: 0 | BX32: 0 | BY32: 0 | BZ32: 0 | CA32: 0 | CC32: N. Runkel | CD32: 7 | CE32: 29 | CF32: 13 | CG32: 5 | CH32: 0 | CI32: 0 | CK32: P. Briffett | CL32: 12 | CM32: 155 | CN32: 72 | CO32: 12 | CP32: 0 | CQ32: 2 | EG32: W. Strickland | EH32: 1 | EI32: 0 | EJ32: 0 | EK32: 1 | EL32: 0 | EM32: 0 | EO32: S. Flakelar | EP32: 1 | EQ32: 25 | ER32: 25 | ES32: 0 | ET32: 0 | EU32: 0 | EW32: Grand Total | EX32: 101 | EY32: 510 | EZ32: 55 | FA32: 32 | FB32: 0 | FC32: 1 | GC32: M. Kiernan | GD32: 4 | GE32: 40 | GF32: 32 | GG32: 3 | GH32: 0 | GI32: 0 | GK32: S. Halfhead | GL32: 2 | GM32: 28 | GN32: 28 | GO32: 1 | GP32: 0 | GQ32: 0 | HA32: S. Flakelar | HB32: 1 | HC32: 11 | HD32: 11 | HE32: 0 | HF32: 0 | HG32: 0
A33: J. Phillips | B33: 1 | C33: 40 | D33: 40 | E33: 0 | F33: 0 | G33: 0 | I33: P. Briffett | J33: 18 | K33: 119 | L33: 30 | M33: 16 | N33: 0 | O33: 0 | Q33: O. Thornton | R33: 9 | S33: 442 | T33: 103 | U33: 8 | V33: 2 | W33: 3 | Y33: S. Flakelar | Z33: 1 | AA33: 11 | AB33: 11 | AC33: 0 | AD33: 0 | AE33: 0 | AG33: M. Kemp | AH33: 1 | AI33: 5 | AJ33: 5 | AK33: 0 | AL33: 0 | AM33: 0 | AO33: O. Brett | AP33: 6 | AQ33: 43 | AR33: 21 | AS33: 5 | AT33: 0 | AU33: 0 | BE33: O. Thornton | BF33: 11 | BG33: 641 | BH33: 103 | BI33: 10 | BJ33: 2 | BK33: 5 | BM33: M. Kemp | BN33: 1 | BO33: 5 | BP33: 5 | BQ33: 0 | BR33: 0 | BS33: 0 | BU33: O. Brett | BV33: 1 | BW33: 3 | BX33: 3 | BY33: 1 | BZ33: 0 | CA33: 0 | CC33: O. Brett | CD33: 2 | CE33: 4 | CF33: 2 | CG33: 1 | CH33: 0 | CI33: 0 | CK33: P. Girdler | CL33: 1 | CM33: 7 | CN33: 7 | CO33: 0 | CP33: 0 | CQ33: 0 | EG33: W. Brett | EH33: 1 | EI33: 9 | EJ33: 9 | EK33: 0 | EL33: 0 | EM33: 0 | EO33: S. Halfhead | EP33: 2 | EQ33: 16 | ER33: 12 | ES33: 1 | ET33: 0 | EU33: 0 | GC33: N. Henry | GD33: 16 | GE33: 106 | GF33: 25 | GG33: 14 | GH33: 0 | GI33: 0 | GK33: T. Farley | GL33: 2 | GM33: 28 | GN33: 19 | GO33: 1 | GP33: 0 | GQ33: 0 | HA33: S. Halfhead | HB33: 1 | HC33: 2 | HD33: 2 | HE33: 1 | HF33: 0 | HG33: 0
A34: J. Reid | B34: 1 | C34: 0 | D34: 0 | E34: 1 | F34: 0 | G34: 0 | I34: P. De Zulueta | J34: 1 | K34: 70 | L34: 70 | M34: 0 | N34: 0 | O34: 1 | Q34: P. Briffett | R34: 13 | S34: 124 | T34: 72 | U34: 13 | V34: 0 | W34: 1 | Y34: S. Halfhead | Z34: 7 | AA34: 105 | AB34: 38 | AC34: 6 | AD34: 0 | AE34: 0 | AG34: M. Kiernan | AH34: 2 | AI34: 33 | AJ34: 32 | AK34: 1 | AL34: 0 | AM34: 0 | AO34: O. Thornton | AP34: 9 | AQ34: 452 | AR34: 110 | AS34: 7 | AT34: 1 | AU34: 4 | BE34: P. Briffett | BF34: 18 | BG34: 229 | BH34: 72 | BI34: 17 | BJ34: 0 | BK34: 2 | BM34: M. Kiernan | BN34: 3 | BO34: 39 | BP34: 32 | BQ34: 2 | BR34: 0 | BS34: 0 | BU34: O. Thornton | BV34: 15 | BW34: 855 | BX34: 110 | BY34: 10 | BZ34: 3 | CA34: 6 | CC34: O. Thornton | CD34: 8 | CE34: 345 | CF34: 71 | CG34: 8 | CH34: 0 | CI34: 3 | CK34: R. Beardall | CL34: 1 | CM34: 0 | CN34: 0 | CO34: 1 | CP34: 0 | CQ34: 0 | EG34: B. Johnson | EH34: 1 | EI34: 20 | EJ34: 20 | EK34: 1 | EL34: 0 | EM34: 0 | EO34: T. Greenwood | EP34: 1 | EQ34: 0 | ER34: 0 | ES34: 1 | ET34: 0 | EU34: 0 | GC34: N. Phillips | GD34: 1 | GE34: 1 | GF34: 1 | GG34: 1 | GH34: 0 | GI34: 0 | GK34: T. Foot | GL34: 1 | GM34: 12 | GN34: 12 | GO34: 1 | GP34: 0 | GQ34: 0 | HA34: T. Greenwood | HB34: 1 | HC34: 1 | HD34: 1 | HE34: 0 | HF34: 0 | HG34: 0
A35: J. Rogers | B35: 7 | C35: 121 | D35: 32 | E35: 6 | F35: 0 | G35: 0 | I35: R. Gunn | J35: 9 | K35: 223 | L35: 79 | M35: 9 | N35: 0 | O35: 1 | Q35: P. De Zulueta | R35: 3 | S35: 43 | T35: 43 | U35: 3 | V35: 0 | W35: 0 | Y35: T. Greenwood | Z35: 2 | AA35: 1 | AB35: 1 | AC35: 1 | AD35: 0 | AE35: 0 | AG35: N. Henry | AH35: 15 | AI35: 151 | AJ35: 40 | AK35: 11 | AL35: 0 | AM35: 0 | AO35: P. Briffett | AP35: 20 | AQ35: 155 | AR35: 44 | AS35: 19 | AT35: 0 | AU35: 0 | BE35: P. De Zulueta | BF35: 1 | BG35: 70 | BH35: 70 | BI35: 0 | BJ35: 0 | BK35: 1 | BM35: N. Henry | BN35: 14 | BO35: 133 | BP35: 40 | BQ35: 11 | BR35: 0 | BS35: 0 | BU35: P. Briffett | BV35: 16 | BW35: 166 | BX35: 44 | BY35: 13 | BZ35: 0 | CA35: 0 | CC35: P. Briffett | CD35: 16 | CE35: 131 | CF35: 30 | CG35: 15 | CH35: 0 | CI35: 0 | CK35: R. Gunn | CL35: 5 | CM35: 164 | CN35: 79 | CO35: 5 | CP35: 0 | CQ35: 1 | EG35: Grand Total | EH35: 101 | EI35: 1116 | EJ35: 84 | EK35: 45 | EL35: 0 | EM35: 6 | EO35: T. White | EP35: 1 | EQ35: 13 | ER35: 13 | ES35: 0 | ET35: 0 | EU35: 0 | GC35: N. Runkel | GD35: 7 | GE35: 18 | GF35: 13 | GG35: 3 | GH35: 0 | GI35: 0 | GK35: T. Wade | GL35: 6 | GM35: 192 | GN35: 81 | GO35: 6 | GP35: 0 | GQ35: 2 | HA35: T. Wade | HB35: 2 | HC35: 12 | HD35: 12 | HE35: 2 | HF35: 0 | HG35: 0
A36: J. Thornton | B36: 15 | C36: 179 | D36: 51 | E36: 10 | F36: 0 | G36: 1 | I36: R. Hunt | J36: 1 | K36: 4 | L36: 4 | M36: 1 | N36: 0 | O36: 0 | Q36: P. Girdler | R36: 2 | S36: 8 | T36: 7 | U36: 0 | V36: 0 | W36: 0 | Y36: T. Wade | Z36: 12 | AA36: 477 | AB36: 88 | AC36: 9 | AD36: 0 | AE36: 5 | AG36: N. Phillips | AH36: 1 | AI36: 1 | AJ36: 1 | AK36: 1 | AL36: 0 | AM36: 0 | AO36: P. De Zulueta | AP36: 1 | AQ36: 0 | AR36: 0 | AS36: 1 | AT36: 0 | AU36: 0 | BE36: P. Girdler | BF36: 1 | BG36: 7 | BH36: 7 | BI36: 0 | BJ36: 0 | BK36: 0 | BM36: N. Phillips | BN36: 1 | BO36: 1 | BP36: 1 | BQ36: 1 | BR36: 0 | BS36: 0 | BU36: P. De Zulueta | BV36: 2 | BW36: 113 | BX36: 70 | BY36: 1 | BZ36: 0 | CA36: 1 | CC36: P. De Zulueta | CD36: 2 | CE36: 0 | CF36: 0 | CG36: 2 | CH36: 0 | CI36: 0 | CK36: Ra. Dickie | CL36: 1 | CM36: 1 | CN36: 1 | CO36: 0 | CP36: 0 | CQ36: 0 | EO36: Grand Total | EP36: 101 | EQ36: 597 | ER36: 70 | ES36: 38 | ET36: 0 | EU36: 3 | GC36: O. Brett | GD36: 3 | GE36: 23 | GF36: 21 | GG36: 2 | GH36: 0 | GI36: 0 | GK36: T. White | GL36: 5 | GM36: 25 | GN36: 20 | GO36: 4 | GP36: 0 | GQ36: 0 | HA36: V. Haig | HB36: 1 | HC36: 11 | HD36: 11 | HE36: 1 | HF36: 0 | HG36: 0
A37: M. Kemp | B37: 1 | C37: 5 | D37: 5 | E37: 0 | F37: 0 | G37: 0 | I37: Ra. Dickie | J37: 2 | K37: 1 | L37: 1 | M37: 0 | N37: 0 | O37: 0 | Q37: P. Sheriff | R37: 1 | S37: 12 | T37: 12 | U37: 1 | V37: 0 | W37: 0 | Y37: T. White | Z37: 8 | AA37: 74 | AB37: 24 | AC37: 4 | AD37: 0 | AE37: 0 | AG37: N. Runkel | AH37: 5 | AI37: 11 | AJ37: 5 | AK37: 3 | AL37: 0 | AM37: 0 | AO37: P. Girdler | AP37: 2 | AQ37: 21 | AR37: 13 | AS37: 0 | AT37: 0 | AU37: 0 | BE37: R. Beardall | BF37: 2 | BG37: 0 | BH37: 0 | BI37: 2 | BJ37: 0 | BK37: 0 | BM37: N. Runkel | BN37: 6 | BO37: 9 | BP37: 4 | BQ37: 2 | BR37: 0 | BS37: 0 | BU37: P. Girdler | BV37: 2 | BW37: 14 | BX37: 13 | BY37: 0 | BZ37: 0 | CA37: 0 | CC37: P. Girdler | CD37: 1 | CE37: 8 | CF37: 8 | CG37: 0 | CH37: 0 | CI37: 0 | CK37: Ro. Dickie | CL37: 6 | CM37: 24 | CN37: 9 | CO37: 6 | CP37: 0 | CQ37: 0 | GC37: O. Thornton | GD37: 18 | GE37: 959 | GF37: 103 | GG37: 14 | GH37: 2 | GI37: 7 | GK37: T. Buys | GL37: 1 | GM37: 0 | GN37: 0 | GO37: 1 | GP37: 0 | GQ37: 0 | HA37: W. Strickland | HB37: 1 | HC37: 13 | HD37: 13 | HE37: 1 | HF37: 0 | HG37: 0
A38: M. Kiernan | B38: 4 | C38: 40 | D38: 32 | E38: 3 | F38: 0 | G38: 0 | I38: Ro. Dickie | J38: 8 | K38: 66 | L38: 19 | M38: 8 | N38: 0 | O38: 0 | Q38: R. Beardall | R38: 1 | S38: 0 | T38: 0 | U38: 1 | V38: 0 | W38: 0 | Y38: W. Brett | Z38: 1 | AA38: 9 | AB38: 9 | AC38: 0 | AD38: 0 | AE38: 0 | AG38: O. Brett | AH38: 2 | AI38: 25 | AJ38: 22 | AK38: 2 | AL38: 0 | AM38: 0 | AO38: P. Sheriff | AP38: 1 | AQ38: 12 | AR38: 12 | AS38: 1 | AT38: 0 | AU38: 0 | BE38: R. Gunn | BF38: 6 | BG38: 217 | BH38: 79 | BI38: 6 | BJ38: 0 | BK38: 1 | BM38: O. Brett | BN38: 5 | BO38: 40 | BP38: 21 | BQ38: 4 | BR38: 0 | BS38: 0 | BU38: R. Dickie | BV38: 1 | BW38: 6 | BX38: 6 | BY38: 1 | BZ38: 0 | CA38: 0 | CC38: P. Sheriff | CD38: 1 | CE38: 12 | CF38: 12 | CG38: 1 | CH38: 0 | CI38: 0 | CK38: S. Beardall | CL38: 13 | CM38: 522 | CN38: 76 | CO38: 11 | CP38: 0 | CQ38: 4 | GC38: P. Briffett | GD38: 30 | GE38: 295 | GF38: 55 | GG38: 29 | GH38: 0 | GI38: 1 | GK38: Grand Total | GL38: 121 | GM38: 1576 | GN38: 127 | GO38: 82 | GP38: 1 | GQ38: 9 | HA38: Grand Total | HB38: 66 | HC38: 878 | HD38: 110 | HE38: 43 | HF38: 2 | HG38: 4
A39: N. Fox | B39: 1 | C39: 1 | D39: 1 | E39: 0 | F39: 0 | G39: 0 | I39: S. Beardall | J39: 14 | K39: 338 | L39: 86 | M39: 12 | N39: 0 | O39: 2 | Q39: R. Dickie | R39: 1 | S39: 6 | T39: 6 | U39: 1 | V39: 0 | W39: 0 | Y39: B. Prior | Z39: 1 | AA39: 0 | AB39: 0 | AC39: 1 | AD39: 0 | AE39: 0 | AG39: O. Thornton | AH39: 15 | AI39: 785 | AJ39: 103 | AK39: 12 | AL39: 2 | AM39: 6 | AO39: R. Beardall | AP39: 2 | AQ39: 0 | AR39: 0 | AS39: 2 | AT39: 0 | AU39: 0 | BE39: Ra. Dickie | BF39: 3 | BG39: 12 | BH39: 4 | BI39: 2 | BJ39: 0 | BK39: 0 | BM39: O. Thornton | BN39: 17 | BO39: 766 | BP39: 110 | BQ39: 13 | BR39: 1 | BS39: 6 | BU39: R. Gunn | BV39: 2 | BW39: 29 | BX39: 16 | BY39: 2 | BZ39: 0 | CA39: 0 | CC39: R. Beardall | CD39: 2 | CE39: 0 | CF39: 0 | CG39: 2 | CH39: 0 | CI39: 0 | CK39: S. Bucknill | CL39: 4 | CM39: 82 | CN39: 47 | CO39: 4 | CP39: 0 | CQ39: 0 | GC39: P. De Zulueta | GD39: 4 | GE39: 113 | GF39: 70 | GG39: 3 | GH39: 0 | GI39: 1
A40: N. Henry | B40: 26 | C40: 220 | D40: 40 | E40: 22 | F40: 0 | G40: 0 | I40: S. Bucknill | J40: 5 | K40: 53 | L40: 34 | M40: 4 | N40: 0 | O40: 0 | Q40: R. Gunn | R40: 2 | S40: 29 | T40: 16 | U40: 2 | V40: 0 | W40: 0 | Y40: B. Johnson | Z40: 1 | AA40: 20 | AB40: 20 | AC40: 1 | AD40: 0 | AE40: 0 | AG40: P. Briffett | AH40: 19 | AI40: 200 | AJ40: 72 | AK40: 17 | AL40: 0 | AM40: 1 | AO40: R. Dickie | AP40: 1 | AQ40: 6 | AR40: 6 | AS40: 1 | AT40: 0 | AU40: 0 | BE40: Ro. Dickie | BF40: 9 | BG40: 57 | BH40: 26 | BI40: 9 | BJ40: 0 | BK40: 0 | BM40: P. Briffett | BN40: 26 | BO40: 223 | BP40: 30 | BQ40: 23 | BR40: 0 | BS40: 0 | BU40: Ra. Dickie | BV40: 2 | BW40: 8 | BX40: 4 | BY40: 1 | BZ40: 0 | CA40: 0 | CC40: R. Gunn | CD40: 5 | CE40: 60 | CF40: 42 | CG40: 4 | CH40: 0 | CI40: 0 | CK40: S. Flakelar | CL40: 2 | CM40: 22 | CN40: 19 | CO40: 2 | CP40: 0 | CQ40: 0 | GC40: P. Girdler | GD40: 4 | GE40: 29 | GF40: 13 | GG40: 0 | GH40: 0 | GI40: 0
A41: N. Phillips | B41: 1 | C41: 1 | D41: 1 | E41: 1 | F41: 0 | G41: 0 | I41: S. Flakelar | J41: 1 | K41: 3 | L41: 3 | M41: 1 | N41: 0 | O41: 0 | Q41: R. Hunt | R41: 1 | S41: 15 | T41: 15 | U41: 1 | V41: 0 | W41: 0 | Y41: L. Weston | Z41: 1 | AA41: 3 | AB41: 3 | AC41: 1 | AD41: 0 | AE41: 0 | AG41: P. De Zulueta | AH41: 3 | AI41: 113 | AJ41: 70 | AK41: 2 | AL41: 0 | AM41: 1 | AO41: R. Gunn | AP41: 6 | AQ41: 180 | AR41: 79 | AS41: 5 | AT41: 0 | AU41: 1 | BE41: S. Beardall | BF41: 20 | BG41: 881 | BH41: 152 | BI41: 17 | BJ41: 1 | BK41: 8 | BM41: P. De Zulueta | BN41: 3 | BO41: 43 | BP41: 43 | BQ41: 3 | BR41: 0 | BS41: 0 | BU41: Ro. Dickie | BV41: 13 | BW41: 149 | BX41: 33 | BY41: 13 | BZ41: 0 | CA41: 0 | CC41: R. Hunt | CD41: 2 | CE41: 19 | CF41: 15 | CG41: 2 | CH41: 0 | CI41: 0 | CK41: S. Halfhead | CL41: 3 | CM41: 30 | CN41: 15 | CO41: 3 | CP41: 0 | CQ41: 0 | GC41: R. Beardall | GD41: 3 | GE41: 0 | GF41: 0 | GG41: 3 | GH41: 0 | GI41: 0
A42: N. Runkel | B42: 14 | C42: 38 | D42: 13 | E42: 7 | F42: 0 | G42: 0 | I42: S. Halfhead | J42: 5 | K42: 54 | L42: 28 | M42: 5 | N42: 0 | O42: 0 | Q42: Ra. Dickie | R42: 1 | S42: 4 | T42: 4 | U42: 1 | V42: 0 | W42: 0 | Y42: B. Boddington | Z42: 1 | AA42: 28 | AB42: 28 | AC42: 0 | AD42: 0 | AE42: 0 | AG42: P. Girdler | AH42: 1 | AI42: 7 | AJ42: 7 | AK42: 0 | AL42: 0 | AM42: 0 | AO42: R. Hunt | AP42: 2 | AQ42: 19 | AR42: 15 | AS42: 2 | AT42: 0 | AU42: 0 | BE42: S. Bucknill | BF42: 5 | BG42: 98 | BH42: 47 | BI42: 4 | BJ42: 0 | BK42: 0 | BM42: P. Girdler | BN42: 3 | BO42: 22 | BP42: 13 | BQ42: 0 | BR42: 0 | BS42: 0 | BU42: S. Beardall | BV42: 20 | BW42: 952 | BX42: 152 | BY42: 15 | BZ42: 1 | CA42: 9 | CC42: Ra. Dickie | CD42: 2 | CE42: 4 | CF42: 4 | CG42: 1 | CH42: 0 | CI42: 0 | CK42: T. Greenwood | CL42: 1 | CM42: 0 | CN42: 0 | CO42: 1 | CP42: 0 | CQ42: 0 | GC42: R. Dickie | GD42: 1 | GE42: 6 | GF42: 6 | GG42: 1 | GH42: 0 | GI42: 0
A43: O. Brett | B43: 8 | C43: 68 | D43: 22 | E43: 7 | F43: 0 | G43: 0 | I43: T. Farley | J43: 2 | K43: 28 | L43: 19 | M43: 1 | N43: 0 | O43: 0 | Q43: Ro. Dickie | R43: 10 | S43: 108 | T43: 33 | U43: 10 | V43: 0 | W43: 0 | Y43: T. Buys | Z43: 3 | AA43: 12 | AB43: 11 | AC43: 3 | AD43: 0 | AE43: 0 | AG43: R. Beardall | AH43: 1 | AI43: 0 | AJ43: 0 | AK43: 1 | AL43: 0 | AM43: 0 | AO43: Ra. Dickie | AP43: 4 | AQ43: 9 | AR43: 4 | AS43: 1 | AT43: 0 | AU43: 0 | BE43: S. Flakelar | BF43: 2 | BG43: 22 | BH43: 19 | BI43: 2 | BJ43: 0 | BK43: 0 | BM43: P. Sheriff | BN43: 1 | BO43: 12 | BP43: 12 | BQ43: 1 | BR43: 0 | BS43: 0 | BU43: S. Bucknill | BV43: 3 | BW43: 45 | BX43: 34 | BY43: 2 | BZ43: 0 | CA43: 0 | CC43: Ro. Dickie | CD43: 7 | CE43: 72 | CF43: 26 | CG43: 7 | CH43: 0 | CI43: 0 | CK43: T. Wade | CL43: 8 | CM43: 252 | CN43: 81 | CO43: 7 | CP43: 0 | CQ43: 2 | GC43: R. Gunn | GD43: 6 | GE43: 112 | GF43: 45 | GG43: 5 | GH43: 0 | GI43: 0
A44: O. Thornton | B44: 28 | C44: 1407 | D44: 110 | E44: 23 | F44: 3 | G44: 11 | I44: T. Foot | J44: 1 | K44: 12 | L44: 12 | M44: 1 | N44: 0 | O44: 0 | Q44: S. Beardall | R44: 13 | S44: 507 | T44: 86 | U44: 11 | V44: 0 | W44: 6 | Y44: W. Hale | Z44: 1 | AA44: 9 | AB44: 9 | AC44: 1 | AD44: 0 | AE44: 0 | AG44: R. Gunn | AH44: 6 | AI44: 73 | AJ44: 27 | AK44: 6 | AL44: 0 | AM44: 0 | AO44: Ro. Dickie | AP44: 10 | AQ44: 66 | AR44: 26 | AS44: 10 | AT44: 0 | AU44: 0 | BE44: S. Halfhead | BF44: 8 | BG44: 64 | BH44: 15 | BI44: 8 | BJ44: 0 | BK44: 0 | BM44: R. Beardall | BN44: 1 | BO44: 0 | BP44: 0 | BQ44: 1 | BR44: 0 | BS44: 0 | BU44: S. Flakelar | BV44: 1 | BW44: 11 | BX44: 11 | BY44: 0 | BZ44: 0 | CA44: 0 | CC44: S. Beardall | CD44: 14 | CE44: 207 | CF44: 78 | CG44: 12 | CH44: 0 | CI44: 1 | CK44: T. White | CL44: 4 | CM44: 14 | CN44: 9 | CO44: 2 | CP44: 0 | CQ44: 0 | GC44: Ra. Dickie | GD44: 3 | GE44: 9 | GF44: 4 | GG44: 1 | GH44: 0 | GI44: 0
A45: P. Briffett | B45: 44 | C45: 452 | D45: 72 | E45: 40 | F45: 0 | G45: 2 | I45: T. Fost | J45: 1 | K45: 8 | L45: 8 | M45: 0 | N45: 0 | O45: 0 | Q45: S. Bucknill | R45: 2 | S45: 52 | T45: 47 | U45: 2 | V45: 0 | W45: 0 | Y45: D. Romain | Z45: 2 | AA45: 35 | AB45: 25 | AC45: 2 | AD45: 0 | AE45: 0 | AG45: Ra. Dickie | AH45: 1 | AI45: 4 | AJ45: 4 | AK45: 1 | AL45: 0 | AM45: 0 | AO45: S. Beardall | AP45: 19 | AQ45: 647 | AR45: 78 | AS45: 16 | AT45: 0 | AU45: 6 | BE45: T. Greenwood | BF45: 2 | BG45: 1 | BH45: 1 | BI45: 1 | BJ45: 0 | BK45: 0 | BM45: R. Dickie | BN45: 1 | BO45: 6 | BP45: 6 | BQ45: 1 | BR45: 0 | BS45: 0 | BU45: S. Halfhead | BV45: 11 | BW45: 148 | BX45: 38 | BY45: 8 | BZ45: 0 | CA45: 0 | CC45: S. Bucknill | CD45: 3 | CE45: 16 | CF45: 6 | CG45: 2 | CH45: 0 | CI45: 0 | CK45: W. Strickland | CL45: 2 | CM45: 21 | CN45: 13 | CO45: 2 | CP45: 0 | CQ45: 0 | GC45: Ro. Dickie | GD45: 18 | GE45: 155 | GF45: 25 | GG45: 18 | GH45: 0 | GI45: 0
A46: P. De Zulueta | B46: 4 | C46: 113 | D46: 70 | E46: 3 | F46: 0 | G46: 1 | I46: T. Wade | J46: 10 | K46: 188 | L46: 81 | M46: 10 | N46: 0 | O46: 1 | Q46: S. Flakelar | R46: 2 | S46: 44 | T46: 25 | U46: 1 | V46: 0 | W46: 0 | Y46: Grand Total | Z46: 385 | AA46: 4559 | AB46: 152 | AC46: 153 | AD46: 5 | AE46: 24 | AG46: Ro. Dickie | AH46: 14 | AI46: 176 | AJ46: 33 | AK46: 14 | AL46: 0 | AM46: 0 | AO46: S. Bucknill | AP46: 7 | AQ46: 55 | AR46: 29 | AS46: 6 | AT46: 0 | AU46: 0 | BE46: T. Wade | BF46: 14 | BG46: 432 | BH46: 81 | BI46: 11 | BJ46: 0 | BK46: 4 | BM46: R. Gunn | BN46: 6 | BO46: 36 | BP46: 16 | BQ46: 5 | BR46: 0 | BS46: 0 | BU46: T. Farley | BV46: 2 | BW46: 19 | BX46: 10 | BY46: 2 | BZ46: 0 | CA46: 0 | CC46: S. Flakelar | CD46: 1 | CE46: 25 | CF46: 25 | CG46: 0 | CH46: 0 | CI46: 0 | CK46: W. Brett | CL46: 1 | CM46: 9 | CN46: 9 | CO46: 0 | CP46: 0 | CQ46: 0 | GC46: S. Beardall | GD46: 47 | GE46: 1681 | GF46: 152 | GG46: 38 | GH46: 1 | GI46: 14
A47: P. Girdler | B47: 4 | C47: 29 | D47: 13 | E47: 0 | F47: 0 | G47: 0 | I47: T. White | J47: 7 | K47: 39 | L47: 23 | M47: 4 | N47: 0 | O47: 0 | Q47: S. Halfhead | R47: 7 | S47: 75 | T47: 28 | U47: 5 | V47: 0 | W47: 0 | AG47: S. Beardall | AH47: 23 | AI47: 957 | AJ47: 152 | AK47: 18 | AL47: 1 | AM47: 8 | AO47: S. Flakelar | AP47: 3 | AQ47: 39 | AR47: 25 | AS47: 1 | AT47: 0 | AU47: 0 | BE47: T. White | BF47: 10 | BG47: 53 | BH47: 24 | BI47: 4 | BJ47: 0 | BK47: 0 | BM47: R. Hunt | BN47: 2 | BO47: 19 | BP47: 15 | BQ47: 2 | BR47: 0 | BS47: 0 | BU47: T. Fost | BV47: 1 | BW47: 8 | BX47: 8 | BY47: 0 | BZ47: 0 | CA47: 0 | CC47: S. Halfhead | CD47: 5 | CE47: 56 | CF47: 28 | CG47: 5 | CH47: 0 | CI47: 0 | CK47: D. Romain | CL47: 1 | CM47: 25 | CN47: 25 | CO47: 1 | CP47: 0 | CQ47: 0 | GC47: S. Bucknill | GD47: 7 | GE47: 84 | GF47: 34 | GG47: 5 | GH47: 0 | GI47: 0
A48: P. Sheriff | B48: 1 | C48: 12 | D48: 12 | E48: 1 | F48: 0 | G48: 0 | I48: W. Strickland | J48: 1 | K48: 13 | L48: 13 | M48: 1 | N48: 0 | O48: 0 | Q48: T. Farley | R48: 1 | S48: 10 | T48: 10 | U48: 1 | V48: 0 | W48: 0 | AG48: S. Bucknill | AH48: 3 | AI48: 88 | AJ48: 47 | AK48: 2 | AL48: 0 | AM48: 0 | AO48: S. Halfhead | AP48: 8 | AQ48: 94 | AR48: 38 | AS48: 7 | AT48: 0 | AU48: 0 | BE48: W. Strickland | BF48: 2 | BG48: 13 | BH48: 13 | BI48: 2 | BJ48: 0 | BK48: 0 | BM48: Ra. Dickie | BN48: 2 | BO48: 1 | BP48: 1 | BQ48: 0 | BR48: 0 | BS48: 0 | BU48: T. Greenwood | BV48: 2 | BW48: 3 | BX48: 2 | BY48: 1 | BZ48: 0 | CA48: 0 | CC48: T. Farley | CD48: 1 | CE48: 19 | CF48: 19 | CG48: 0 | CH48: 0 | CI48: 0 | CK48: Grand Total | CL48: 220 | CM48: 3246 | CN48: 149 | CO48: 127 | CP48: 1 | CQ48: 19 | GC48: S. Flakelar | GD48: 3 | GE48: 47 | GF48: 25 | GG48: 2 | GH48: 0 | GI48: 0
A49: R. Beardall | B49: 3 | C49: 0 | D49: 0 | E49: 3 | F49: 0 | G49: 0 | I49: Grand Total | J49: 363 | K49: 3580 | L49: 149 | M49: 172 | N49: 3 | O49: 14 | Q49: T. Greenwood | R49: 2 | S49: 3 | T49: 2 | U49: 1 | V49: 0 | W49: 0 | AG49: S. Flakelar | AH49: 1 | AI49: 19 | AJ49: 19 | AK49: 1 | AL49: 0 | AM49: 0 | AO49: T. Greenwood | AP49: 1 | AQ49: 1 | AR49: 1 | AS49: 0 | AT49: 0 | AU49: 0 | BE49: B. Prior | BF49: 1 | BG49: 0 | BH49: 0 | BI49: 1 | BJ49: 0 | BK49: 0 | BM49: Ro. Dickie | BN49: 17 | BO49: 188 | BP49: 33 | BQ49: 17 | BR49: 0 | BS49: 0 | BU49: T. Wade | BV49: 17 | BW49: 450 | BX49: 88 | BY49: 14 | BZ49: 0 | CA49: 3 | CC49: T. Foot | CD49: 1 | CE49: 12 | CF49: 12 | CG49: 1 | CH49: 0 | CI49: 0 | GC49: S. Halfhead | GD49: 14 | GE49: 187 | GF49: 38 | GG49: 12 | GH49: 0 | GI49: 0
A50: R. Dickie | B50: 1 | C50: 6 | D50: 6 | E50: 1 | F50: 0 | G50: 0 | Q50: T. Wade | R50: 12 | S50: 191 | T50: 49 | U50: 10 | V50: 0 | W50: 0 | AG50: S. Halfhead | AH50: 9 | AI50: 118 | AJ50: 28 | AK50: 7 | AL50: 0 | AM50: 0 | AO50: T. Wade | AP50: 15 | AQ50: 402 | AR50: 81 | AS50: 14 | AT50: 0 | AU50: 3 | BE50: B. Johnson | BF50: 1 | BG50: 20 | BH50: 20 | BI50: 1 | BJ50: 0 | BK50: 0 | BM50: S. Beardall | BN50: 27 | BO50: 800 | BP50: 86 | BQ50: 21 | BR50: 0 | BS50: 6 | BU50: T. White | BV50: 7 | BW50: 50 | BX50: 24 | BY50: 4 | BZ50: 0 | CA50: 0 | CC50: T. Greenwood | CD50: 1 | CE50: 1 | CF50: 1 | CG50: 0 | CH50: 0 | CI50: 0 | GC50: T. Farley | GD50: 1 | GE50: 10 | GF50: 10 | GG50: 1 | GH50: 0 | GI50: 0
A51: R. Gunn | B51: 12 | C51: 253 | D51: 79 | E51: 11 | F51: 0 | G51: 1 | Q51: T. White | R51: 5 | S51: 20 | T51: 10 | U51: 2 | V51: 0 | W51: 0 | AG51: T. Farley | AH51: 1 | AI51: 9 | AJ51: 9 | AK51: 1 | AL51: 0 | AM51: 0 | AO51: T. White | AP51: 10 | AQ51: 51 | AR51: 20 | AS51: 5 | AT51: 0 | AU51: 0 | BE51: B. Boddington | BF51: 1 | BG51: 28 | BH51: 28 | BI51: 0 | BJ51: 0 | BK51: 0 | BM51: S. Bucknill | BN51: 5 | BO51: 45 | BP51: 29 | BQ51: 4 | BR51: 0 | BS51: 0 | BU51: W. Strickland | BV51: 1 | BW51: 0 | BX51: 0 | BY51: 1 | BZ51: 0 | CA51: 0 | CC51: T. Wade | CD51: 9 | CE51: 154 | CF51: 63 | CG51: 8 | CH51: 0 | CI51: 1 | GC51: T. Greenwood | GD51: 3 | GE51: 3 | GF51: 2 | GG51: 2 | GH51: 0 | GI51: 0
A52: R. Hunt | B52: 2 | C52: 19 | D52: 15 | E52: 2 | F52: 0 | G52: 0 | Q52: V. Haig | R52: 1 | S52: 11 | T52: 11 | U52: 1 | V52: 0 | W52: 0 | AG52: T. Greenwood | AH52: 2 | AI52: 1 | AJ52: 1 | AK52: 1 | AL52: 0 | AM52: 0 | AO52: V. Haig | AP52: 1 | AQ52: 11 | AR52: 11 | AS52: 1 | AT52: 0 | AU52: 0 | BE52: D. Romain | BF52: 1 | BG52: 25 | BH52: 25 | BI52: 1 | BJ52: 0 | BK52: 0 | BM52: S. Flakelar | BN52: 2 | BO52: 36 | BP52: 25 | BQ52: 0 | BR52: 0 | BS52: 0 | BU52: B. Prior | BV52: 1 | BW52: 0 | BX52: 0 | BY52: 1 | BZ52: 0 | CA52: 0 | CC52: T. White | CD52: 9 | CE52: 69 | CF52: 23 | CG52: 4 | CH52: 0 | CI52: 0 | GC52: T. Wade | GD52: 22 | GE52: 534 | GF52: 88 | GG52: 18 | GH52: 0 | GI52: 3
A53: Ra. Dickie | B53: 5 | C53: 13 | D53: 4 | E53: 2 | F53: 0 | G53: 0 | Q53: W. Strickland | R53: 2 | S53: 8 | T53: 8 | U53: 2 | V53: 0 | W53: 0 | AG53: T. Wade | AH53: 16 | AI53: 403 | AJ53: 88 | AK53: 13 | AL53: 0 | AM53: 3 | AO53: W. Strickland | AP53: 1 | AQ53: 0 | AR53: 0 | AS53: 1 | AT53: 0 | AU53: 0 | BE53: Grand Total | BF53: 352 | BG53: 5694 | BH53: 152 | BI53: 224 | BJ53: 7 | BK53: 33 | BM53: S. Halfhead | BN53: 11 | BO53: 170 | BP53: 38 | BQ53: 8 | BR53: 0 | BS53: 0 | BU53: B. Johnson | BV53: 1 | BW53: 20 | BX53: 20 | BY53: 1 | BZ53: 0 | CA53: 0 | CC53: V. Haig | CD53: 1 | CE53: 11 | CF53: 11 | CG53: 1 | CH53: 0 | CI53: 0 | GC53: T. White | GD53: 15 | GE53: 108 | GF53: 24 | GG53: 6 | GH53: 0 | GI53: 0
A54: Ro. Dickie | B54: 26 | C54: 245 | D54: 33 | E54: 26 | F54: 0 | G54: 0 | Q54: Grand Total | R54: 363 | S54: 3657 | T54: 103 | U54: 159 | V54: 3 | W54: 20 | AG54: T. White | AH54: 7 | AI54: 65 | AJ54: 24 | AK54: 4 | AL54: 0 | AM54: 0 | AO54: W. Brett | AP54: 1 | AQ54: 9 | AR54: 9 | AS54: 0 | AT54: 0 | AU54: 0 | BM54: T. Farley | BN54: 3 | BO54: 38 | BP54: 19 | BQ54: 2 | BR54: 0 | BS54: 0 | BU54: L. Weston | BV54: 1 | BW54: 3 | BX54: 3 | BY54: 1 | BZ54: 0 | CA54: 0 | CC54: T. Buys | CD54: 1 | CE54: 0 | CF54: 0 | CG54: 1 | CH54: 0 | CI54: 0 | GC54: W. Strickland | GD54: 2 | GE54: 8 | GF54: 8 | GG54: 2 | GH54: 0 | GI54: 0
A55: S. Beardall | B55: 47 | C55: 1681 | D55: 152 | E55: 38 | F55: 1 | G55: 14 | AG55: W. Strickland | AH55: 2 | AI55: 21 | AJ55: 13 | AK55: 2 | AL55: 0 | AM55: 0 | AO55: B. Prior | AP55: 1 | AQ55: 0 | AR55: 0 | AS55: 1 | AT55: 0 | AU55: 0 | BM55: T. Foot | BN55: 1 | BO55: 12 | BP55: 12 | BQ55: 1 | BR55: 0 | BS55: 0 | BU55: B. Boddington | BV55: 1 | BW55: 28 | BX55: 28 | BY55: 0 | BZ55: 0 | CA55: 0 | CC55: Grand Total | CD55: 231 | CE55: 2785 | CF55: 122 | CG55: 176 | CH55: 1 | CI55: 10 | GC55: W. Brett | GD55: 1 | GE55: 9 | GF55: 9 | GG55: 0 | GH55: 0 | GI55: 0
A56: S. Bucknill | B56: 10 | C56: 143 | D56: 47 | E56: 8 | F56: 0 | G56: 0 | AG56: B. Johnson | AH56: 1 | AI56: 20 | AJ56: 20 | AK56: 1 | AL56: 0 | AM56: 0 | AO56: T. Buys | AP56: 1 | AQ56: 0 | AR56: 0 | AS56: 1 | AT56: 0 | AU56: 0 | BM56: T. Fost | BN56: 1 | BO56: 8 | BP56: 8 | BQ56: 0 | BR56: 0 | BS56: 0 | BU56: T. Buys | BV56: 2 | BW56: 12 | BX56: 11 | BY56: 2 | BZ56: 0 | CA56: 0 | GC56: L. Weston | GD56: 1 | GE56: 3 | GF56: 3 | GG56: 1 | GH56: 0 | GI56: 0
A57: S. Flakelar | B57: 4 | C57: 58 | D57: 25 | E57: 2 | F57: 0 | G57: 0 | AG57: L. Weston | AH57: 1 | AI57: 3 | AJ57: 3 | AK57: 1 | AL57: 0 | AM57: 0 | AO57: W. Hale | AP57: 1 | AQ57: 9 | AR57: 9 | AS57: 1 | AT57: 0 | AU57: 0 | BM57: T. Greenwood | BN57: 2 | BO57: 3 | BP57: 2 | BQ57: 1 | BR57: 0 | BS57: 0 | BU57: W. Hale | BV57: 1 | BW57: 9 | BX57: 9 | BY57: 1 | BZ57: 0 | CA57: 0 | GC57: B. Boddington | GD57: 1 | GE57: 28 | GF57: 28 | GG57: 0 | GH57: 0 | GI57: 0
A58: S. Halfhead | B58: 19 | C58: 234 | D58: 38 | E58: 16 | F58: 0 | G58: 0 | AG58: B. Boddington | AH58: 1 | AI58: 28 | AJ58: 28 | AK58: 0 | AL58: 0 | AM58: 0 | AO58: D. Romain | AP58: 2 | AQ58: 35 | AR58: 25 | AS58: 2 | AT58: 0 | AU58: 0 | BM58: T. Wade | BN58: 20 | BO58: 424 | BP58: 88 | BQ58: 18 | BR58: 0 | BS58: 2 | BU58: D. Romain | BV58: 1 | BW58: 10 | BX58: 10 | BY58: 1 | BZ58: 0 | CA58: 0 | GC58: T. Buys | GD58: 2 | GE58: 12 | GF58: 11 | GG58: 2 | GH58: 0 | GI58: 0
A59: T. Farley | B59: 3 | C59: 38 | D59: 19 | E59: 2 | F59: 0 | G59: 0 | AG59: T. Buys | AH59: 2 | AI59: 12 | AJ59: 11 | AK59: 2 | AL59: 0 | AM59: 0 | AO59: Grand Total | AP59: 429 | AQ59: 4863 | AR59: 149 | AS59: 221 | AT59: 4 | AU59: 25 | BM59: T. White | BN59: 10 | BO59: 80 | BP59: 23 | BQ59: 6 | BR59: 0 | BS59: 0 | BU59: Grand Total | BV59: 385 | BW59: 5765 | BX59: 152 | BY59: 181 | BZ59: 9 | CA59: 29 | GC59: W. Hale | GD59: 1 | GE59: 9 | GF59: 9 | GG59: 1 | GH59: 0 | GI59: 0
A60: T. Foot | B60: 1 | C60: 12 | D60: 12 | E60: 1 | F60: 0 | G60: 0 | AG60: Grand Total | AH60: 605 | AI60: 5917 | AJ60: 152 | AK60: 222 | AL60: 7 | AM60: 28 | BM60: V. Haig | BN60: 1 | BO60: 11 | BP60: 11 | BQ60: 1 | BR60: 0 | BS60: 0 | GC60: D. Romain | GD60: 2 | GE60: 35 | GF60: 25 | GG60: 2 | GH60: 0 | GI60: 0
A61: T. Fost | B61: 1 | C61: 8 | D61: 8 | E61: 0 | F61: 0 | G61: 0 | BM61: W. Strickland | BN61: 1 | BO61: 8 | BP61: 8 | BQ61: 1 | BR61: 0 | BS61: 0 | GC61: Grand Total | GD61: 594 | GE61: 8601 | GF61: 152 | GG61: 330 | GH61: 6 | GI61: 43
A62: T. Greenwood | B62: 4 | C62: 4 | D62: 2 | E62: 2 | F62: 0 | G62: 0 | BM62: W. Brett | BN62: 1 | BO62: 9 | BP62: 9 | BQ62: 0 | BR62: 0 | BS62: 0
A63: T. Wade | B63: 34 | C63: 856 | D63: 88 | E63: 29 | F63: 0 | G63: 6 | BM63: L. Weston | BN63: 1 | BO63: 3 | BP63: 3 | BQ63: 1 | BR63: 0 | BS63: 0
A64: T. White | B64: 20 | C64: 133 | D64: 24 | E64: 10 | F64: 0 | G64: 0 | BM64: T. Buys | BN64: 3 | BO64: 12 | BP64: 11 | BQ64: 3 | BR64: 0 | BS64: 0
A65: V. Haig | B65: 1 | C65: 11 | D65: 11 | E65: 1 | F65: 0 | G65: 0 | BM65: W. Hale | BN65: 1 | BO65: 9 | BP65: 9 | BQ65: 1 | BR65: 0 | BS65: 0
A66: W. Strickland | B66: 3 | C66: 21 | D66: 13 | E66: 3 | F66: 0 | G66: 0 | BM66: D. Romain | BN66: 1 | BO66: 10 | BP66: 10 | BQ66: 1 | BR66: 0 | BS66: 0
A67: (blank) | BM67: Grand Total | BN67: 484 | BO67: 6102 | BP67: 127 | BQ67: 260 | BR67: 4 | BS67: 25
A68: W. Brett | B68: 1 | C68: 9 | D68: 9 | E68: 0 | F68: 0 | G68: 0
A69: B. Prior | B69: 1 | C69: 0 | D69: 0 | E69: 1 | F69: 0 | G69: 0
A70: B. Johnson | B70: 1 | C70: 20 | D70: 20 | E70: 1 | F70: 0 | G70: 0
A71: L. Weston | B71: 1 | C71: 3 | D71: 3 | E71: 1 | F71: 0 | G71: 0
A72: B. Boddington | B72: 1 | C72: 28 | D72: 28 | E72: 0 | F72: 0 | G72: 0
A73: T. Buys | B73: 3 | C73: 12 | D73: 11 | E73: 3 | F73: 0 | G73: 0
A74: W. Hale | B74: 1 | C74: 9 | D74: 9 | E74: 1 | F74: 0 | G74: 0
A75: D. Romain | B75: 2 | C75: 35 | D75: 25 | E75: 2 | F75: 0 | G75: 0
A76: Grand Total | B76: 1111 | C76: 11796 | D76: 152 | E76: 484 | F76: 11 | G76: 58

Sheet Bowling
H1: Date | I1: (Multiple Items) | O1: Date | P1: (Multiple Items) | V1: Date | W1: (Multiple Items) | AD1: Home/Away | AE1: Home | AK1: Home/Away | AL1: Away | AR1: Home/Away | AS1: Tour | AY1: TPCC Batting First | AZ1: Second | BF1: TPCC Batting First | BG1: First | BM1: Match Status | BN1: Win | BT1: Match Status | BU1: Loss | CA1: Match Status | CB1: Draw | CH1: Captain | CI1: S. Beardall | CO1: Captain | CP1: J. Hunt | CV1: Captain | CW1: T. White | DC1: Captain | DD1: J. Hancock | DJ1: Captain | DK1: O. Thornton | DQ1: Captain | DR1: R. Gunn
B3: Values | I3: Values | P3: Values | W3: Values | AE3: Values | AL3: Values | AS3: Values | AZ3: Values | BG3: Values | BN3: Values | BU3: Values | CB3: Values | CI3: Values | CP3: Values | CW3: Values | DD3: Values | DK3: Values | DR3: Values
A4: Row Labels | B4: Count of Bowler Overs | C4: Sum of Bowler Overs2 | D4: Sum of Bowler Maidens | E4: Sum of Bowler Wickets | F4: Sum of Bowler Runs | H4: Row Labels | I4: Count of Bowler Overs | J4: Sum of Bowler Overs2 | K4: Sum of Bowler Maidens | L4: Sum of Bowler Wickets | M4: Sum of Bowler Runs | O4: Row Labels | P4: Count of Bowler Overs | Q4: Sum of Bowler Overs2 | R4: Sum of Bowler Maidens | S4: Sum of Bowler Wickets | T4: Sum of Bowler Runs | V4: Row Labels | W4: Count of Bowler Overs | X4: Sum of Bowler Overs2 | Y4: Sum of Bowler Maidens | Z4: Sum of Bowler Wickets | AA4: Sum of Bowler Runs | AD4: Row Labels | AE4: Count of Bowler Overs | AF4: Sum of Bowler Overs2 | AG4: Sum of Bowler Maidens | AH4: Sum of Bowler Wickets | AI4: Sum of Bowler Runs | AK4: Row Labels | AL4: Count of Bowler Overs | AM4: Sum of Bowler Overs2 | AN4: Sum of Bowler Maidens | AO4: Sum of Bowler Wickets | AP4: Sum of Bowler Runs | AR4: Row Labels | AS4: Count of Bowler Overs | AT4: Sum of Bowler Overs2 | AU4: Sum of Bowler Maidens | AV4: Sum of Bowler Wickets | AW4: Sum of Bowler Runs | AY4: Row Labels | AZ4: Count of Bowler Overs | BA4: Sum of Bowler Overs2 | BB4: Sum of Bowler Maidens | BC4: Sum of Bowler Wickets | BD4: Sum of Bowler Runs | BF4: Row Labels | BG4: Count of Bowler Overs | BH4: Sum of Bowler Overs2 | BI4: Sum of Bowler Maidens | BJ4: Sum of Bowler Wickets | BK4: Sum of Bowler Runs | BM4: Row Labels | BN4: Count of Bowler Overs | BO4: Sum of Bowler Overs2 | BP4: Sum of Bowler Maidens | BQ4: Sum of Bowler Wickets | BR4: Sum of Bowler Runs | BT4: Row Labels | BU4: Count of Bowler Overs | BV4: Sum of Bowler Overs2 | BW4: Sum of Bowler Maidens | BX4: Sum of Bowler Wickets | BY4: Sum of Bowler Runs | CA4: Row Labels | CB4: Count of Bowler Overs | CC4: Sum of Bowler Overs2 | CD4: Sum of Bowler Maidens | CE4: Sum of Bowler Wickets | CF4: Sum of Bowler Runs | CH4: Row Labels | CI4: Count of Bowler Overs | CJ4: Sum of Bowler Overs2 | CK4: Sum of Bowler Maidens | CL4: Sum of Bowler Wickets | CM4: Sum of Bowler Runs | CO4: Row Labels | CP4: Count of Bowler Overs | CQ4: Sum of Bowler Overs2 | CR4: Sum of Bowler Maidens | CS4: Sum of Bowler Wickets | CT4: Sum of Bowler Runs | CV4: Row Labels | CW4: Count of Bowler Overs | CX4: Sum of Bowler Overs2 | CY4: Sum of Bowler Maidens | CZ4: Sum of Bowler Wickets | DA4: Sum of Bowler Runs | DC4: Row Labels | DD4: Count of Bowler Overs | DE4: Sum of Bowler Overs2 | DF4: Sum of Bowler Maidens | DG4: Sum of Bowler Wickets | DH4: Sum of Bowler Runs | DJ4: Row Labels | DK4: Count of Bowler Overs | DL4: Sum of Bowler Overs2 | DM4: Sum of Bowler Maidens | DN4: Sum of Bowler Wickets | DO4: Sum of Bowler Runs | DQ4: Row Labels | DR4: Count of Bowler Overs | DS4: Sum of Bowler Overs2 | DT4: Sum of Bowler Maidens | DU4: Sum of Bowler Wickets | DV4: Sum of Bowler Runs
A5: 0 | B5: 612 | C5: 0 | D5: 0 | E5: 0 | F5: 0 | H5: 0 | I5: 207 | J5: 0 | K5: 0 | L5: 0 | M5: 0 | O5: 0 | P5: 208 | Q5: 0 | R5: 0 | S5: 0 | T5: 0 | V5: 0 | W5: 197 | X5: 0 | Y5: 0 | Z5: 0 | AA5: 0 | AD5: 0 | AE5: 356 | AF5: 0 | AG5: 0 | AH5: 0 | AI5: 0 | AK5: 0 | AL5: 234 | AM5: 0 | AN5: 0 | AO5: 0 | AP5: 0 | AR5: 0 | AS5: 22 | AT5: 0 | AU5: 0 | AV5: 0 | AW5: 0 | AY5: 0 | AZ5: 188 | BA5: 0 | BB5: 0 | BC5: 0 | BD5: 0 | BF5: 0 | BG5: 149 | BH5: 0 | BI5: 0 | BJ5: 0 | BK5: 0 | BM5: 0 | BN5: 153 | BO5: 0 | BP5: 0 | BQ5: 0 | BR5: 0 | BT5: 0 | BU5: 98 | BV5: 0 | BW5: 0 | BX5: 0 | BY5: 0 | CA5: 0 | CB5: 86 | CC5: 0 | CD5: 0 | CE5: 0 | CF5: 0 | CH5: 0 | CI5: 241 | CJ5: 0 | CK5: 0 | CL5: 0 | CM5: 0 | CO5: 0 | CP5: 49 | CQ5: 0 | CR5: 0 | CS5: 0 | CT5: 0 | CV5: 0 | CW5: 12 | CX5: 0 | CY5: 0 | CZ5: 0 | DA5: 0 | DC5: 0 | DD5: 24 | DE5: 0 | DF5: 0 | DG5: 0 | DH5: 0 | DJ5: 0 | DK5: 5 | DL5: 0 | DM5: 0 | DN5: 0 | DO5: 0 | DQ5: 0 | DR5: 6 | DS5: 0 | DT5: 0 | DU5: 0 | DV5: 0
A6: A. Bignell | B6: 8 | C6: 58 | D6: 12 | E6: 10 | F6: 222 | H6: A. Bignell | I6: 3 | J6: 22 | K6: 8 | L6: 2 | M6: 53 | O6: A. Bignell | P6: 2 | Q6: 17 | R6: 4 | S6: 5 | T6: 72 | V6: A. Bignell | W6: 3 | X6: 19 | Y6: 0 | Z6: 3 | AA6: 97 | AD6: A. Bignell | AE6: 3 | AF6: 17 | AG6: 3 | AH6: 4 | AI6: 58 | AK6: A. Bignell | AL6: 5 | AM6: 41 | AN6: 9 | AO6: 6 | AP6: 164 | AR6: B. Bazell | AS6: 1 | AT6: 1 | AU6: 0 | AV6: 1 | AW6: 3 | AY6: A. Bignell | AZ6: 5 | BA6: 37 | BB6: 8 | BC6: 5 | BD6: 136 | BF6: A. Bignell | BG6: 3 | BH6: 21 | BI6: 4 | BJ6: 5 | BK6: 86 | BM6: A. Bignell | BN6: 4 | BO6: 29 | BP6: 8 | BQ6: 4 | BR6: 93 | BT6: A. Bignell | BU6: 1 | BV6: 7 | BW6: 0 | BX6: 2 | BY6: 49 | CA6: A. Bignell | CB6: 3 | CC6: 22 | CD6: 4 | CE6: 4 | CF6: 80 | CH6: A. Bignell | CI6: 6 | CJ6: 47 | CK6: 9 | CL6: 8 | CM6: 192 | CO6: A. Bignell | CP6: 1 | CQ6: 7 | CR6: 3 | CS6: 2 | CT6: 16 | CV6: B. Bazell | CW6: 1 | CX6: 1 | CY6: 0 | CZ6: 1 | DA6: 3 | DC6: A. Bignell | DD6: 1 | DE6: 4 | DF6: 0 | DG6: 0 | DH6: 14 | DJ6: C. Beardall | DK6: 1 | DL6: 6 | DM6: 1 | DN6: 2 | DO6: 24 | DQ6: A. Harvey-Thompson | DR6: 1 | DS6: 14 | DT6: 3 | DU6: 4 | DV6: 47
A7: A. Eykyn | B7: 2 | C7: 16 | D7: 3 | E7: 2 | F7: 63 | H7: B. Bucknill | I7: 1 | J7: 5 | K7: 1 | L7: 3 | M7: 20 | O7: A. Eykyn | P7: 2 | Q7: 16 | R7: 3 | S7: 2 | T7: 63 | V7: A. Harvey-Thompson | W7: 1 | X7: 7 | Y7: 0 | Z7: 3 | AA7: 42 | AD7: A. Eykyn | AE7: 2 | AF7: 16 | AG7: 3 | AH7: 2 | AI7: 63 | AK7: A. Harvey-Thompson | AL7: 5 | AM7: 49 | AN7: 6 | AO7: 13 | AP7: 200 | AR7: C. Beardall | AS7: 1 | AT7: 2 | AU7: 0 | AV7: 0 | AW7: 16 | AY7: A. Eykyn | AZ7: 2 | BA7: 16 | BB7: 3 | BC7: 2 | BD7: 63 | BF7: A. Harvey-Thompson | BG7: 3 | BH7: 19 | BI7: 3 | BJ7: 4 | BK7: 73 | BM7: A. Eykyn | BN7: 1 | BO7: 7 | BP7: 0 | BQ7: 0 | BR7: 33 | BT7: A. Eykyn | BU7: 1 | BV7: 9 | BW7: 3 | BX7: 2 | BY7: 30 | CA7: A. Harvey-Thompson | CB7: 3 | CC7: 33 | CD7: 4 | CE7: 8 | CF7: 132 | CH7: A. Eykyn | CI7: 2 | CJ7: 16 | CK7: 3 | CL7: 2 | CM7: 63 | CO7: A. Harvey-Thompson | CP7: 1 | CQ7: 10 | CR7: 1 | CS7: 1 | CT7: 54 | CV7: H. Beardall | CW7: 1 | CX7: 2 | CY7: 0 | CZ7: 1 | DA7: 5 | DC7: A. Harvey-Thompson | DD7: 1 | DE7: 9 | DF7: 0 | DG7: 4 | DH7: 66 | DJ7: J. Leefe | DK7: 1 | DL7: 7 | DM7: 2 | DN7: 3 | DO7: 15 | DQ7: J. Thornton | DR7: 1 | DS7: 13 | DT7: 2 | DU7: 1 | DV7: 53
A8: A. Harvey-Thompson | B8: 9 | C8: 79 | D8: 10 | E8: 20 | F8: 350 | H8: B. Watson | I8: 1 | J8: 5 | K8: 2 | L8: 1 | M8: 24 | O8: A. Harvey-Thompson | P8: 8 | Q8: 72 | R8: 10 | S8: 17 | T8: 308 | V8: B. Watson | W8: 1 | X8: 3 | Y8: 1 | Z8: 0 | AA8: 6 | AD8: A. Harvey-Thompson | AE8: 4 | AF8: 30 | AG8: 4 | AH8: 7 | AI8: 150 | AK8: B. Bucknill | AL8: 1 | AM8: 5 | AN8: 0 | AO8: 1 | AP8: 28 | AR8: D. Stockings | AS8: 1 | AT8: 1 | AU8: 0 | AV8: 0 | AW8: 18 | AY8: A. Harvey-Thompson | AZ8: 6 | BA8: 60 | BB8: 7 | BC8: 16 | BD8: 277 | BF8: B. Bucknill | BG8: 2 | BH8: 10 | BI8: 1 | BJ8: 4 | BK8: 48 | BM8: A. Harvey-Thompson | BN8: 3 | BO8: 22 | BP8: 4 | BQ8: 4 | BR8: 103 | BT8: A. Harvey-Thompson | BU8: 3 | BV8: 24 | BW8: 2 | BX8: 8 | BY8: 115 | CA8: B. Bucknill | CB8: 2 | CC8: 10 | CD8: 1 | CE8: 4 | CF8: 48 | CH8: A. Harvey-Thompson | CI8: 6 | CJ8: 46 | CK8: 6 | CL8: 11 | CM8: 183 | CO8: B. Bucknill | CP8: 1 | CQ8: 5 | CR8: 1 | CS8: 3 | CT8: 20 | CV8: J. Hunt | CW8: 2 | CX8: 15 | CY8: 2 | CZ8: 1 | DA8: 44 | DC8: B. West | DD8: 2 | DE8: 10 | DF8: 2 | DG8: 2 | DH8: 44 | DJ8: J. Thornton | DK8: 1 | DL8: 5 | DM8: 1 | DN8: 2 | DO8: 34 | DQ8: N. Runkel | DR8: 1 | DS8: 10 | DT8: 0 | DU8: 2 | DV8: 51
A9: B. Bazell | B9: 1 | C9: 1 | D9: 0 | E9: 1 | F9: 3 | H9: C. Beardall | I9: 3 | J9: 12 | K9: 2 | L9: 4 | M9: 44 | O9: B. Bazell | P9: 1 | Q9: 1 | R9: 0 | S9: 1 | T9: 3 | V9: C. Beardall | W9: 6 | X9: 29 | Y9: 5 | Z9: 5 | AA9: 97 | AD9: B. Bucknill | AE9: 1 | AF9: 5 | AG9: 1 | AH9: 3 | AI9: 20 | AK9: B. Watson | AL9: 1 | AM9: 3 | AN9: 1 | AO9: 0 | AP9: 6 | AR9: H. Beardall | AS9: 4 | AT9: 8 | AU9: 0 | AV9: 1 | AW9: 47 | AY9: B. Bazell | AZ9: 1 | BA9: 1 | BB9: 0 | BC9: 1 | BD9: 3 | BF9: B. Watson | BG9: 1 | BH9: 5 | BI9: 2 | BJ9: 1 | BK9: 24 | BM9: B. Bazell | BN9: 1 | BO9: 1 | BP9: 0 | BQ9: 1 | BR9: 3 | BT9: B. West | BU9: 1 | BV9: 4 | BW9: 0 | BX9: 0 | BY9: 31 | CA9: B. Watson | CB9: 1 | CC9: 3 | CD9: 1 | CE9: 0 | CF9: 6 | CH9: B. Bucknill | CI9: 1 | CJ9: 5 | CK9: 0 | CL9: 1 | CM9: 28 | CO9: C. Beardall | CP9: 2 | CQ9: 12 | CR9: 3 | CS9: 2 | CT9: 25 | CV9: J. Reid | CW9: 1 | CX9: 2 | CY9: 0 | CZ9: 0 | DA9: 19 | DC9: C. Beardall | DD9: 2 | DE9: 12 | DF9: 3 | DG9: 3 | DH9: 45 | DJ9: O. Thornton | DK9: 1 | DL9: 8 | DM9: 0 | DN9: 3 | DO9: 44 | DQ9: O. Thornton | DR9: 1 | DS9: 7 | DT9: 2 | DU9: 2 | DV9: 28
A10: B. Bucknill | B10: 2 | C10: 10 | D10: 1 | E10: 4 | F10: 48 | H10: C. Henry | I10: 8 | J10: 39 | K10: 3 | L10: 3 | M10: 183 | O10: B. Bucknill | P10: 1 | Q10: 5 | R10: 0 | S10: 1 | T10: 28 | V10: C. Henry | W10: 10 | X10: 39 | Y10: 5 | Z10: 6 | AA10: 205 | AD10: B. Watson | AE10: 1 | AF10: 5 | AG10: 2 | AH10: 1 | AI10: 24 | AK10: C. Beardall | AL10: 3 | AM10: 15 | AN10: 1 | AO10: 4 | AP10: 60 | AR10: J. Hunt | AS10: 6 | AT10: 33 | AU10: 2 | AV10: 5 | AW10: 132 | AY10: B. Watson | AZ10: 1 | BA10: 3 | BB10: 1 | BC10: 0 | BD10: 6 | BF10: B. West | BG10: 1 | BH10: 6 | BI10: 2 | BJ10: 2 | BK10: 13 | BM10: B. Watson | BN10: 1 | BO10: 5 | BP10: 2 | BQ10: 1 | BR10: 24 | BT10: C. Beardall | BU10: 2 | BV10: 7 | BW10: 0 | BX10: 1 | BY10: 44 | CA10: B. West | CB10: 1 | CC10: 6 | CD10: 2 | CE10: 2 | CF10: 13 | CH10: B. Watson | CI10: 2 | CJ10: 8 | CK10: 3 | CL10: 1 | CM10: 30 | CO10: C. Henry | CP10: 3 | CQ10: 15 | CR10: 0 | CS10: 2 | CT10: 75 | CV10: J. Thornton | CW10: 1 | CX10: 7 | CY10: 0 | CZ10: 1 | DA10: 18 | DC10: C. Henry | DD10: 3 | DE10: 12 | DF10: 0 | DG10: 2 | DH10: 36 | DJ10: S. Halfhead | DK10: 1 | DL10: 3 | DM10: 0 | DN10: 0 | DO10: 27 | DQ10: T. Wade | DR10: 1 | DS10: 4 | DT10: 1 | DU10: 0 | DV10: 10
A11: B. Watson | B11: 2 | C11: 8 | D11: 3 | E11: 1 | F11: 30 | H11: C. Rogers | I11: 3 | J11: 10 | K11: 3 | L11: 0 | M11: 47 | O11: B. West | P11: 2 | Q11: 10 | R11: 2 | S11: 2 | T11: 44 | V11: C. Rogers | W11: 3 | X11: 10 | Y11: 0 | Z11: 2 | AA11: 95 | AD11: B. West | AE11: 2 | AF11: 10 | AG11: 2 | AH11: 2 | AI11: 44 | AK11: C. Henry | AL11: 10 | AM11: 34 | AN11: 3 | AO11: 6 | AP11: 182 | AR11: J. Thornton | AS11: 4 | AT11: 19 | AU11: 1 | AV11: 6 | AW11: 97 | AY11: B. West | AZ11: 1 | BA11: 4 | BB11: 0 | BC11: 0 | BD11: 31 | BF11: C. Beardall | BG11: 6 | BH11: 33 | BI11: 8 | BJ11: 6 | BK11: 90 | BM11: C. Beardall | BN11: 5 | BO11: 25 | BP11: 4 | BQ11: 8 | BR11: 77 | BT11: C. Henry | BU11: 6 | BV11: 20 | BW11: 0 | BX11: 3 | BY11: 109 | CA11: C. Beardall | CB11: 3 | CC11: 16 | CD11: 6 | CE11: 2 | CF11: 37 | CH11: C. Beardall | CI11: 5 | CJ11: 18 | CK11: 3 | CL11: 4 | CM11: 64 | CO11: C. Rogers | CP11: 1 | CQ11: 2 | CR11: 0 | CS11: 1 | CT11: 11 | CV11: M. Kemp | CW11: 1 | CX11: 12 | CY11: 1 | CZ11: 1 | DA11: 62 | DC11: H. De Zulueta | DD11: 1 | DE11: 5 | DF11: 0 | DG11: 2 | DH11: 29 | DJ11: C. Carne | DK11: 1 | DL11: 7 | DM11: 1 | DN11: 0 | DO11: 19 | DQ11: Grand Total | DR11: 11 | DS11: 48 | DT11: 8 | DU11: 9 | DV11: 189
A12: B. West | B12: 2 | C12: 10 | D12: 2 | E12: 2 | F12: 44 | H12: D. Bradman | I12: 1 | J12: 4 | K12: 0 | L12: 2 | M12: 8 | O12: C. Beardall | P12: 1 | Q12: 7 | R12: 3 | S12: 2 | T12: 17 | V12: D. Stockings | W12: 2 | X12: 8 | Y12: 0 | Z12: 1 | AA12: 74 | AD12: C. Beardall | AE12: 6 | AF12: 31 | AG12: 9 | AH12: 7 | AI12: 82 | AK12: C. Rogers | AL12: 3 | AM12: 9 | AN12: 2 | AO12: 2 | AP12: 54 | AR12: N. Runkel | AS12: 3 | AT12: 24 | AU12: 3 | AV12: 6 | AW12: 107 | AY12: C. Beardall | AZ12: 4 | BA12: 15 | BB12: 2 | BC12: 5 | BD12: 68 | BF12: C. Henry | BG12: 7 | BH12: 24 | BI12: 0 | BJ12: 3 | BK12: 134 | BM12: C. Henry | BN12: 10 | BO12: 45 | BP12: 8 | BQ12: 6 | BR12: 210 | BT12: C. Rogers | BU12: 2 | BV12: 5 | BW12: 0 | BX12: 2 | BY12: 51 | CA12: C. Henry | CB12: 4 | CC12: 16 | CD12: 0 | CE12: 0 | CF12: 73 | CH12: C. Henry | CI12: 14 | CJ12: 54 | CK12: 8 | CL12: 5 | CM12: 281 | CO12: H. Beardall | CP12: 1 | CQ12: 3 | CR12: 0 | CS12: 0 | CT12: 20 | CV12: N. Henry | CW12: 2 | CX12: 16 | CY12: 4 | CZ12: 2 | DA12: 52 | DC12: J. Hancock | DD12: 4 | DE12: 20 | DF12: 2 | DG12: 3 | DH12: 48 | DJ12: Grand Total | DK12: 11 | DL12: 36 | DM12: 5 | DN12: 10 | DO12: 163
A13: C. Beardall | B13: 10 | C13: 48 | D13: 10 | E13: 11 | F13: 158 | H13: D. Stockings | I13: 3 | J13: 6 | K13: 0 | L13: 2 | M13: 52 | O13: C. Henry | P13: 2 | Q13: 3 | R13: 0 | S13: 0 | T13: 4 | V13: H. Beardall | W13: 4 | X13: 12 | Y13: 0 | Z13: 0 | AA13: 74 | AD13: C. Henry | AE13: 10 | AF13: 47 | AG13: 5 | AH13: 3 | AI13: 210 | AK13: D. Stockings | AL13: 4 | AM13: 16 | AN13: 1 | AO13: 3 | AP13: 88 | AR13: O. Thornton | AS13: 3 | AT13: 14 | AU13: 2 | AV13: 5 | AW13: 55 | AY13: C. Henry | AZ13: 13 | BA13: 57 | BB13: 8 | BC13: 6 | BD13: 258 | BF13: C. Rogers | BG13: 5 | BH13: 24 | BI13: 4 | BJ13: 3 | BK13: 124 | BM13: C. Rogers | BN13: 4 | BO13: 19 | BP13: 3 | BQ13: 3 | BR13: 78 | BT13: D. Bradman | BU13: 1 | BV13: 4 | BW13: 0 | BX13: 2 | BY13: 8 | CA13: C. Rogers | CB13: 2 | CC13: 8 | CD13: 1 | CE13: 0 | CF13: 58 | CH13: C. Rogers | CI13: 7 | CJ13: 30 | CK13: 4 | CL13: 4 | CM13: 176 | CO13: J. Hancock | CP13: 3 | CQ13: 14 | CR13: 4 | CS13: 1 | CT13: 47 | CV13: N. Runkel | CW13: 1 | CX13: 7 | CY13: 1 | CZ13: 5 | DA13: 40 | DC13: J. Hunt | DD13: 1 | DE13: 14 | DF13: 2 | DG13: 4 | DH13: 36
A14: C. Henry | B14: 20 | C14: 81 | D14: 8 | E14: 9 | F14: 392 | H14: H. De Zulueta | I14: 3 | J14: 16 | K14: 0 | L14: 3 | M14: 94 | O14: C. Rogers | P14: 2 | Q14: 12 | R14: 1 | S14: 3 | T14: 45 | V14: H. De Zulueta | W14: 1 | X14: 7 | Y14: 2 | Z14: 2 | AA14: 29 | AD14: C. Rogers | AE14: 5 | AF14: 23 | AG14: 2 | AH14: 3 | AI14: 133 | AK14: H. De Zulueta | AL14: 1 | AM14: 5 | AN14: 0 | AO14: 0 | AP14: 30 | AR14: P. Briffett | AS14: 4 | AT14: 16 | AU14: 0 | AV14: 5 | AW14: 85 | AY14: C. Rogers | AZ14: 3 | BA14: 8 | BB14: 0 | BC14: 2 | BD14: 63 | BF14: D. Stockings | BG14: 3 | BH14: 12 | BI14: 1 | BJ14: 1 | BK14: 70 | BM14: D. Mackintosh | BN14: 1 | BO14: 5 | BP14: 0 | BQ14: 1 | BR14: 29 | BT14: D. Stockings | BU14: 1 | BV14: 3 | BW14: 0 | BX14: 0 | BY14: 22 | CA14: D. Stockings | CB14: 3 | CC14: 12 | CD14: 1 | CE14: 1 | CF14: 70 | CH14: D. Bradman | CI14: 1 | CJ14: 4 | CK14: 0 | CL14: 2 | CM14: 8 | CO14: J. Hunt | CP14: 11 | CQ14: 67 | CR14: 12 | CS14: 20 | CT14: 238 | CV14: P. Briffett | CW14: 1 | CX14: 7 | CY14: 0 | CZ14: 2 | DA14: 33 | DC14: J. Kleiner-Mann | DD14: 1 | DE14: 3 | DF14: 0 | DG14: 1 | DH14: 6
A15: C. Rogers | B15: 8 | C15: 32 | D15: 4 | E15: 5 | F15: 187 | H15: J. Crook | I15: 1 | J15: 7 | K15: 0 | L15: 1 | M15: 49 | O15: D. Mackintosh | P15: 1 | Q15: 5 | R15: 0 | S15: 1 | T15: 29 | V15: J. Hancock | W15: 7 | X15: 41 | Y15: 3 | Z15: 7 | AA15: 146 | AD15: D. Bradman | AE15: 1 | AF15: 4 | AG15: 0 | AH15: 2 | AI15: 8 | AK15: J. Hancock | AL15: 15 | AM15: 90 | AN15: 14 | AO15: 20 | AP15: 254 | AR15: P. Girdler | AS15: 2 | AT15: 13 | AU15: 1 | AV15: 1 | AW15: 52 | AY15: D. Bradman | AZ15: 1 | BA15: 4 | BB15: 0 | BC15: 2 | BD15: 8 | BF15: H. Beardall | BG15: 2 | BH15: 5 | BI15: 0 | BJ15: 0 | BK15: 40 | BM15: D. Stockings | BN15: 3 | BO15: 9 | BP15: 0 | BQ15: 3 | BR15: 85 | BT15: H. Beardall | BU15: 2 | BV15: 5 | BW15: 0 | BX15: 0 | BY15: 34 | CA15: H. Beardall | CB15: 2 | CC15: 5 | CD15: 0 | CE15: 0 | CF15: 40 | CH15: D. Mackintosh | CI15: 1 | CJ15: 5 | CK15: 0 | CL15: 1 | CM15: 29 | CO15: J. Leefe | CP15: 4 | CQ15: 27 | CR15: 6 | CS15: 1 | CT15: 118 | CV15: Ro. Dickie | CW15: 1 | CX15: 2 | CY15: 0 | CZ15: 1 | DA15: 14 | DC15: J. Leefe | DD15: 1 | DE15: 6 | DF15: 0 | DG15: 1 | DH15: 14
A16: D. Bradman | B16: 1 | C16: 4 | D16: 0 | E16: 2 | F16: 8 | H16: J. Hancock | I16: 10 | J16: 62 | K16: 13 | L16: 13 | M16: 177 | O16: D. Stockings | P16: 2 | Q16: 10 | R16: 1 | S16: 1 | T16: 51 | V16: J. Hunt | W16: 16 | X16: 97 | Y16: 16 | Z16: 19 | AA16: 351 | AD16: D. Mackintosh | AE16: 1 | AF16: 5 | AG16: 0 | AH16: 1 | AI16: 29 | AK16: J. Hunt | AL16: 22 | AM16: 138 | AN16: 24 | AO16: 26 | AP16: 430 | AR16: Ro. Dickie | AS16: 2 | AT16: 2 | AU16: 0 | AV16: 1 | AW16: 15 | AY16: D. Mackintosh | AZ16: 1 | BA16: 5 | BB16: 0 | BC16: 1 | BD16: 29 | BF16: H. De Zulueta | BG16: 1 | BH16: 7 | BI16: 2 | BJ16: 2 | BK16: 29 | BM16: H. Beardall | BN16: 2 | BO16: 7 | BP16: 0 | BQ16: 1 | BR16: 25 | BT16: H. De Zulueta | BU16: 2 | BV16: 11 | BW16: 0 | BX16: 1 | BY16: 65 | CA16: J. Hancock | CB16: 11 | CC16: 50 | CD16: 9 | CE16: 9 | CF16: 130 | CH16: D. Stockings | CI16: 7 | CJ16: 24 | CK16: 1 | CL16: 4 | CM16: 177 | CO16: J. Thornton | CP16: 3 | CQ16: 15 | CR16: 4 | CS16: 1 | CT16: 50 | CV16: S. Halfhead | CW16: 2 | CX16: 11 | CY16: 0 | CZ16: 2 | DA16: 35 | DC16: J. Rogers | DD16: 1 | DE16: 9 | DF16: 4 | DG16: 3 | DH16: 12
A17: D. Mackintosh | B17: 1 | C17: 5 | D17: 0 | E17: 1 | F17: 29 | H17: J. Hunt | I17: 16 | J17: 101 | K17: 18 | L17: 22 | M17: 259 | O17: H. Beardall | P17: 2 | Q17: 5 | R17: 0 | S17: 1 | T17: 25 | V17: J. Leefe | W17: 2 | X17: 12 | Y17: 2 | Z17: 3 | AA17: 33 | AD17: D. Stockings | AE17: 2 | AF17: 7 | AG17: 0 | AH17: 1 | AI17: 71 | AK17: J. Leefe | AL17: 4 | AM17: 37 | AN17: 1 | AO17: 6 | AP17: 172 | AR17: Run Out | AS17: 2 | AT17: 0 | AU17: 0 | AV17: 3 | AW17: 0 | AY17: D. Stockings | AZ17: 4 | BA17: 12 | BB17: 0 | BC17: 3 | BD17: 107 | BF17: J. Hancock | BG17: 16 | BH17: 79 | BI17: 11 | BJ17: 15 | BK17: 230 | BM17: H. De Zulueta | BN17: 2 | BO17: 12 | BP17: 2 | BQ17: 4 | BR17: 58 | BT17: J. Hancock | BU17: 8 | BV17: 55 | BW17: 3 | BX17: 12 | BY17: 221 | CA17: J. Hunt | CB17: 10 | CC17: 50 | CD17: 11 | CE17: 13 | CF17: 152 | CH17: H. Beardall | CI17: 4 | CJ17: 12 | CK17: 0 | CL17: 0 | CM17: 74 | CO17: M. Kiernan | CP17: 1 | CQ17: 7 | CR17: 2 | CS17: 0 | CT17: 18 | CV17: T. Farley | CW17: 1 | CX17: 5 | CY17: 2 | CZ17: 1 | DA17: 10 | DC17: J. Thornton | DD17: 2 | DE17: 10 | DF17: 0 | DG17: 0 | DH17: 35
A18: D. Stockings | B18: 7 | C18: 24 | D18: 1 | E18: 4 | F18: 177 | H18: J. Kleiner-Mann | I18: 1 | J18: 3 | K18: 0 | L18: 1 | M18: 6 | O18: J. Hancock | P18: 11 | Q18: 64 | R18: 7 | S18: 13 | T18: 211 | V18: J. Rogers | W18: 4 | X18: 24 | Y18: 4 | Z18: 6 | AA18: 91 | AD18: H. Beardall | AE18: 2 | AF18: 9 | AG18: 0 | AH18: 0 | AI18: 52 | AK18: J. Moser | AL18: 1 | AM18: 6 | AN18: 0 | AO18: 0 | AP18: 16 | AR18: S. Beardall | AS18: 4 | AT18: 15 | AU18: 2 | AV18: 4 | AW18: 94 | AY18: H. Beardall | AZ18: 4 | BA18: 12 | BB18: 0 | BC18: 1 | BD18: 59 | BF18: J. Hunt | BG18: 17 | BH18: 84 | BI18: 14 | BJ18: 16 | BK18: 314 | BM18: J. Crook | BN18: 1 | BO18: 7 | BP18: 0 | BQ18: 1 | BR18: 49 | BT18: J. Hunt | BU18: 16 | BV18: 112 | BW18: 15 | BX18: 20 | BY18: 360 | CA18: J. Leefe | CB18: 7 | CC18: 54 | CD18: 2 | CE18: 11 | CF18: 210 | CH18: H. De Zulueta | CI18: 3 | CJ18: 18 | CK18: 2 | CL18: 3 | CM18: 94 | CO18: N. Fox | CP18: 1 | CQ18: 9 | CR18: 0 | CS18: 1 | CT18: 26 | CV18: T. Foot | CW18: 1 | CX18: 4 | CY18: 2 | CZ18: 2 | DA18: 8 | DC18: K. Haig | DD18: 1 | DE18: 10 | DF18: 1 | DG18: 1 | DH18: 23
A19: H. Beardall | B19: 6 | C19: 17 | D19: 0 | E19: 1 | F19: 99 | H19: J. Leefe | I19: 8 | J19: 56 | K19: 4 | L19: 10 | M19: 206 | O19: J. Hunt | P19: 14 | Q19: 91 | R19: 18 | S19: 16 | T19: 273 | V19: J. Thornton | W19: 10 | X19: 61 | Y19: 6 | Z19: 8 | AA19: 272 | AD19: H. De Zulueta | AE19: 3 | AF19: 18 | AG19: 2 | AH19: 5 | AI19: 93 | AK19: J. Rogers | AL19: 3 | AM19: 24 | AN19: 6 | AO19: 6 | AP19: 68 | AR19: S. Halfhead | AS19: 4 | AT19: 13 | AU19: 1 | AV19: 1 | AW19: 89 | AY19: H. De Zulueta | AZ19: 3 | BA19: 16 | BB19: 0 | BC19: 3 | BD19: 94 | BF19: J. Leefe | BG19: 8 | BH19: 59 | BI19: 7 | BJ19: 15 | BK19: 202 | BM19: J. Hancock | BN19: 9 | BO19: 62 | BP19: 11 | BQ19: 12 | BR19: 183 | BT19: J. Leefe | BU19: 6 | BV19: 48 | BW19: 4 | BX19: 4 | BY19: 194 | CA19: J. Moser | CB19: 1 | CC19: 6 | CD19: 0 | CE19: 0 | CF19: 16 | CH19: J. Crook | CI19: 1 | CJ19: 7 | CK19: 0 | CL19: 1 | CM19: 49 | CO19: N. Henry | CP19: 8 | CQ19: 52 | CR19: 7 | CS19: 9 | CT19: 252 | CV19: T. Wade | CW19: 1 | CX19: 3 | CY19: 0 | CZ19: 2 | DA19: 9 | DC19: M. Kiernan | DD19: 1 | DE19: 7 | DF19: 0 | DG19: 2 | DH19: 28
A20: H. De Zulueta | B20: 4 | C20: 23 | D20: 2 | E20: 5 | F20: 123 | H20: J. Reid | I20: 1 | J20: 2 | K20: 0 | L20: 0 | M20: 19 | O20: J. Leefe | P20: 9 | Q20: 73 | R20: 9 | S20: 11 | T20: 273 | V20: M. Kiernan | W20: 1 | X20: 7 | Y20: 0 | Z20: 2 | AA20: 28 | AD20: J. Crook | AE20: 1 | AF20: 7 | AG20: 0 | AH20: 1 | AI20: 49 | AK20: J. Thornton | AL20: 7 | AM20: 57 | AN20: 5 | AO20: 5 | AP20: 239 | AR20: T. Farley | AS20: 3 | AT20: 17 | AU20: 2 | AV20: 4 | AW20: 68 | AY20: J. Crook | AZ20: 1 | BA20: 7 | BB20: 0 | BC20: 1 | BD20: 49 | BF20: J. Moser | BG20: 2 | BH20: 12 | BI20: 0 | BJ20: 0 | BK20: 46 | BM20: J. Hunt | BN20: 20 | BO20: 127 | BP20: 26 | BQ20: 24 | BR20: 371 | BT20: J. Moser | BU20: 1 | BV20: 3 | BW20: 0 | BX20: 0 | BY20: 38 | CA20: J. Rogers | CB20: 1 | CC20: 6 | CD20: 1 | CE20: 2 | CF20: 7 | CH20: J. Hancock | CI20: 21 | CJ20: 133 | CK20: 17 | CL20: 29 | CM20: 439 | CO20: N. Runkel | CP20: 4 | CQ20: 37 | CR20: 3 | CS20: 17 | CT20: 145 | CV20: T. White | CW20: 3 | CX20: 22 | CY20: 3 | CZ20: 1 | DA20: 55 | DC20: N. Henry | DD20: 5 | DE20: 52 | DF20: 11 | DG20: 8 | DH20: 199
A21: J. Crook | B21: 1 | C21: 7 | D21: 0 | E21: 1 | F21: 49 | H21: J. Rogers | I21: 3 | J21: 20 | K21: 3 | L21: 4 | M21: 72 | O21: J. Moser | P21: 4 | Q21: 18 | R21: 0 | S21: 0 | T21: 125 | V21: N. Henry | W21: 19 | X21: 127 | Y21: 16 | Z21: 19 | AA21: 574 | AD21: J. Hancock | AE21: 13 | AF21: 77 | AG21: 9 | AH21: 13 | AI21: 280 | AK21: K. Haig | AL21: 1 | AM21: 10 | AN21: 1 | AO21: 1 | AP21: 23 | AR21: T. Foot | AS21: 1 | AT21: 4 | AU21: 2 | AV21: 2 | AW21: 8 | AY21: J. Hancock | AZ21: 12 | BA21: 88 | BB21: 12 | BC21: 18 | BD21: 304 | BF21: J. Rogers | BG21: 5 | BH21: 41 | BI21: 7 | BJ21: 10 | BK21: 142 | BM21: J. Kleiner-Mann | BN21: 1 | BO21: 3 | BP21: 0 | BQ21: 1 | BR21: 6 | BT21: J. Rogers | BU21: 2 | BV21: 8 | BW21: 0 | BX21: 1 | BY21: 51 | CA21: J. Thornton | CB21: 4 | CC21: 27 | CD21: 4 | CE21: 4 | CF21: 99 | CH21: J. Hunt | CI21: 32 | CJ21: 193 | CK21: 36 | CL21: 32 | CM21: 565 | CO21: O. Brett | CP21: 1 | CQ21: 3 | CR21: 2 | CS21: 1 | CT21: 5 | CV21: J. Moberly | CW21: 1 | CX21: 2 | CY21: 0 | CZ21: 0 | DA21: 16 | DC21: N. Runkel | DD21: 3 | DE21: 24 | DF21: 3 | DG21: 3 | DH21: 81
A22: J. Hancock | B22: 28 | C22: 167 | D22: 23 | E22: 33 | F22: 534 | H22: J. Thornton | I22: 7 | J22: 45 | K22: 6 | L22: 9 | M22: 167 | O22: J. Rogers | P22: 2 | Q22: 29 | R22: 6 | S22: 8 | T22: 72 | V22: N. Runkel | W22: 17 | X22: 133 | Y22: 5 | Z22: 31 | AA22: 542 | AD22: J. Hunt | AE22: 18 | AF22: 118 | AG22: 26 | AH22: 26 | AI22: 321 | AK22: M. Kiernan | AL22: 4 | AM22: 29 | AN22: 2 | AO22: 3 | AP22: 99 | AR22: T. Wade | AS22: 2 | AT22: 7 | AU22: 0 | AV22: 2 | AW22: 34 | AY22: J. Hunt | AZ22: 29 | BA22: 205 | BB22: 38 | BC22: 41 | BD22: 569 | BF22: J. Thornton | BG22: 11 | BH22: 61 | BI22: 4 | BJ22: 9 | BK22: 274 | BM22: J. Leefe | BN22: 6 | BO22: 39 | BP22: 9 | BQ22: 9 | BR22: 108 | BT22: J. Thornton | BU22: 3 | BV22: 20 | BW22: 1 | BX22: 0 | BY22: 96 | CA22: M. Kiernan | CB22: 1 | CC22: 7 | CD22: 2 | CE22: 0 | CF22: 18 | CH22: J. Leefe | CI22: 13 | CJ22: 101 | CK22: 7 | CL22: 19 | CM22: 365 | CO22: O. Thornton | CP22: 5 | CQ22: 27 | CR22: 8 | CS22: 7 | CT22: 80 | CV22: Grand Total | CW22: 33 | CX22: 118 | CY22: 15 | CZ22: 23 | DA22: 423 | DC22: O. Brett | DD22: 3 | DE22: 9 | DF22: 0 | DG22: 1 | DH22: 62
A23: J. Hunt | B23: 46 | C23: 289 | D23: 52 | E23: 57 | F23: 883 | H23: K. Haig | I23: 1 | J23: 10 | K23: 1 | L23: 1 | M23: 23 | O23: J. Thornton | P23: 5 | Q23: 37 | R23: 8 | S23: 1 | T23: 139 | V23: O. Brett | W23: 3 | X23: 14 | Y23: 0 | Z23: 0 | AA23: 114 | AD23: J. Kleiner-Mann | AE23: 1 | AF23: 3 | AG23: 0 | AH23: 1 | AI23: 6 | AK23: N. Fox | AL23: 1 | AM23: 9 | AN23: 0 | AO23: 1 | AP23: 26 | AR23: T. White | AS23: 7 | AT23: 52 | AU23: 5 | AV23: 11 | AW23: 173 | AY23: J. Kleiner-Mann | AZ23: 1 | BA23: 3 | BB23: 0 | BC23: 1 | BD23: 6 | BF23: M. Kiernan | BG23: 1 | BH23: 7 | BI23: 2 | BJ23: 0 | BK23: 18 | BM23: J. Moser | BN23: 2 | BO23: 9 | BP23: 0 | BQ23: 0 | BR23: 71 | BT23: K. Haig | BU23: 1 | BV23: 10 | BW23: 1 | BX23: 1 | BY23: 23 | CA23: N. Fox | CB23: 1 | CC23: 9 | CD23: 0 | CE23: 1 | CF23: 26 | CH23: J. Moser | CI23: 4 | CJ23: 18 | CK23: 0 | CL23: 0 | CM23: 125 | CO23: P. Briffett | CP23: 3 | CQ23: 9 | CR23: 2 | CS23: 3 | CT23: 43 | DC23: O. Thornton | DD23: 3 | DE23: 20 | DF23: 2 | DG23: 4 | DH23: 110
A24: J. Kleiner-Mann | B24: 1 | C24: 3 | D24: 0 | E24: 1 | F24: 6 | H24: M. Kemp | I24: 1 | J24: 12 | K24: 1 | L24: 1 | M24: 62 | O24: M. Kiernan | P24: 3 | Q24: 22 | R24: 2 | S24: 1 | T24: 71 | V24: O. Thornton | W24: 11 | X24: 58 | Y24: 4 | Z24: 10 | AA24: 285 | AD24: J. Leefe | AE24: 15 | AF24: 104 | AG24: 14 | AH24: 18 | AI24: 340 | AK24: N. Henry | AL24: 20 | AM24: 139 | AN24: 11 | AO24: 20 | AP24: 643 | AR24: J. Moberly | AS24: 1 | AT24: 1 | AU24: 0 | AV24: 0 | AW24: 9 | AY24: J. Leefe | AZ24: 11 | BA24: 82 | BB24: 8 | BC24: 9 | BD24: 310 | BF24: N. Fox | BG24: 1 | BH24: 9 | BI24: 0 | BJ24: 1 | BK24: 26 | BM24: J. Reid | BN24: 1 | BO24: 2 | BP24: 0 | BQ24: 0 | BR24: 19 | BT24: M. Kiernan | BU24: 2 | BV24: 15 | BW24: 0 | BX24: 1 | BY24: 53 | CA24: N. Henry | CB24: 14 | CC24: 104 | CD24: 10 | CE24: 14 | CF24: 451 | CH24: J. Rogers | CI24: 8 | CJ24: 64 | CK24: 9 | CL24: 15 | CM24: 223 | CO24: P. Girdler | CP24: 2 | CQ24: 12 | CR24: 3 | CS24: 2 | CT24: 36 | DC24: P. Briffett | DD24: 2 | DE24: 7 | DF24: 0 | DG24: 1 | DH24: 24
A25: J. Leefe | B25: 19 | C25: 141 | D25: 15 | E25: 24 | F25: 512 | H25: N. Henry | I25: 17 | J25: 141 | K25: 17 | L25: 15 | M25: 612 | O25: N. Fox | P25: 1 | Q25: 9 | R25: 0 | S25: 1 | T25: 26 | V25: P. Briffett | W25: 5 | X25: 15 | Y25: 1 | Z25: 3 | AA25: 72 | AD25: J. Moser | AE25: 3 | AF25: 12 | AG25: 0 | AH25: 0 | AI25: 109 | AK25: N. Runkel | AL25: 15 | AM25: 122 | AN25: 8 | AO25: 31 | AP25: 561 | AR25: Grand Total | AS25: 77 | AT25: 242 | AU25: 21 | AV25: 58 | AW25: 1102 | AY25: J. Moser | AZ25: 2 | BA25: 6 | BB25: 0 | BC25: 0 | BD25: 79 | BF25: N. Henry | BG25: 20 | BH25: 133 | BI25: 15 | BJ25: 25 | BK25: 563 | BM25: J. Rogers | BN25: 6 | BO25: 59 | BP25: 12 | BQ25: 15 | BR25: 177 | BT25: N. Henry | BU25: 12 | BV25: 90 | BW25: 8 | BX25: 13 | BY25: 448 | CA25: N. Runkel | CB25: 12 | CC25: 101 | CD25: 8 | CE25: 23 | CF25: 370 | CH25: J. Thornton | CI25: 14 | CJ25: 93 | CK25: 13 | CL25: 13 | CM25: 388 | CO25: Ra. Dickie | CP25: 1 | CQ25: 2 | CR25: 0 | CS25: 0 | CT25: 5 | DC25: S. Flakelar | DD25: 1 | DE25: 4 | DF25: 0 | DG25: 0 | DH25: 18
A26: J. Moser | B26: 4 | C26: 18 | D26: 0 | E26: 0 | F26: 125 | H26: N. Runkel | I26: 8 | J26: 74 | K26: 9 | L26: 22 | M26: 243 | O26: N. Henry | P26: 15 | Q26: 120 | R26: 17 | S26: 22 | T26: 466 | V26: P. Girdler | W26: 3 | X26: 25 | Y26: 4 | Z26: 6 | AA26: 66 | AD26: J. Reid | AE26: 1 | AF26: 2 | AG26: 0 | AH26: 0 | AI26: 19 | AK26: O. Brett | AL26: 5 | AM26: 22 | AN26: 2 | AO26: 4 | AP26: 133 | AY26: J. Reid | AZ26: 1 | BA26: 2 | BB26: 0 | BC26: 0 | BD26: 19 | BF26: N. Runkel | BG26: 15 | BH26: 94 | BI26: 5 | BJ26: 31 | BK26: 423 | BM26: J. Thornton | BN26: 15 | BO26: 96 | BP26: 15 | BQ26: 14 | BR26: 383 | BT26: N. Runkel | BU26: 9 | BV26: 68 | BW26: 4 | BX26: 22 | BY26: 335 | CA26: O. Brett | CB26: 6 | CC26: 22 | CD26: 2 | CE26: 4 | CF26: 129 | CH26: M. Kiernan | CI26: 2 | CJ26: 15 | CK26: 0 | CL26: 1 | CM26: 53 | CO26: Retired | CP26: 1 | CQ26: 0 | CR26: 0 | CS26: 1 | CT26: 0 | DC26: W. Strickland | DD26: 1 | DE26: 3 | DF26: 0 | DG26: 0 | DH26: 16
A27: J. Reid | B27: 1 | C27: 2 | D27: 0 | E27: 0 | F27: 19 | H27: O. Brett | I27: 2 | J27: 5 | K27: 0 | L27: 1 | M27: 40 | O27: N. Runkel | P27: 8 | Q27: 55 | R27: 5 | S27: 16 | T27: 274 | V27: Ra. Dickie | W27: 3 | X27: 8 | Y27: 0 | Z27: 1 | AA27: 42 | AD27: J. Rogers | AE27: 6 | AF27: 49 | AG27: 7 | AH27: 12 | AI27: 167 | AK27: O. Thornton | AL27: 6 | AM27: 31 | AN27: 2 | AO27: 3 | AP27: 174 | AY27: J. Rogers | AZ27: 4 | BA27: 32 | BB27: 6 | BC27: 8 | BD27: 93 | BF27: O. Brett | BG27: 5 | BH27: 19 | BI27: 2 | BJ27: 4 | BK27: 113 | BM27: M. Kemp | BN27: 1 | BO27: 12 | BP27: 1 | BQ27: 1 | BR27: 62 | BT27: O. Brett | BU27: 2 | BV27: 9 | BW27: 0 | BX27: 0 | BY27: 70 | CA27: O. Thornton | CB27: 5 | CC27: 32 | CD27: 8 | CE27: 5 | CF27: 95 | CH27: N. Henry | CI27: 36 | CJ27: 268 | CK27: 28 | CL27: 37 | CM27: 1149 | CO27: Run Out | CP27: 1 | CQ27: 0 | CR27: 0 | CS27: 1 | CT27: 0 | DC27: J. Moberly | DD27: 2 | DE27: 10 | DF27: 1 | DG27: 2 | DH27: 52
A28: J. Rogers | B28: 9 | C28: 73 | D28: 13 | E28: 18 | F28: 235 | H28: O. Thornton | I28: 6 | J28: 33 | K28: 8 | L28: 6 | M28: 92 | O28: O. Brett | P28: 4 | Q28: 15 | R28: 2 | S28: 4 | T28: 76 | V28: Ro. Dickie | W28: 2 | X28: 2 | Y28: 0 | Z28: 1 | AA28: 19 | AD28: J. Thornton | AE28: 11 | AF28: 67 | AG28: 14 | AH28: 7 | AI28: 242 | AK28: P. Briffett | AL28: 7 | AM28: 21 | AN28: 3 | AO28: 6 | AP28: 109 | AY28: J. Thornton | AZ28: 11 | BA28: 82 | BB28: 16 | BC28: 9 | BD28: 304 | BF28: O. Thornton | BG28: 9 | BH28: 47 | BI28: 10 | BJ28: 13 | BK28: 188 | BM28: M. Kiernan | BN28: 1 | BO28: 7 | BP28: 0 | BQ28: 2 | BR28: 28 | BT28: O. Thornton | BU28: 8 | BV28: 39 | BW28: 0 | BX28: 8 | BY28: 259 | CA28: P. Briffett | CB28: 5 | CC28: 18 | CD28: 3 | CE28: 5 | CF28: 91 | CH28: N. Runkel | CI28: 24 | CJ28: 184 | CK28: 12 | CL28: 42 | CM28: 742 | CO28: S. Halfhead | CP28: 1 | CQ28: 3 | CR28: 0 | CS28: 0 | CT28: 42 | DC28: Grand Total | DD28: 66 | DE28: 260 | DF28: 31 | DG28: 47 | DH28: 998
A29: J. Thornton | B29: 22 | C29: 143 | D29: 20 | E29: 18 | F29: 578 | H29: P. Briffett | I29: 4 | J29: 12 | K29: 0 | L29: 3 | M29: 75 | O29: O. Thornton | P29: 6 | Q29: 37 | R29: 6 | S29: 12 | T29: 189 | V29: S. Beardall | W29: 18 | X29: 73 | Y29: 3 | Z29: 26 | AA29: 359 | AD29: M. Kemp | AE29: 1 | AF29: 12 | AG29: 1 | AH29: 1 | AI29: 62 | AK29: P. Girdler | AL29: 3 | AM29: 21 | AN29: 2 | AO29: 5 | AP29: 64 | AY29: K. Haig | AZ29: 1 | BA29: 10 | BB29: 1 | BC29: 1 | BD29: 23 | BF29: P. Briffett | BG29: 8 | BH29: 19 | BI29: 4 | BJ29: 5 | BK29: 77 | BM29: N. Henry | BN29: 25 | BO29: 194 | BP29: 32 | BQ29: 29 | BR29: 753 | BT29: P. Briffett | BU29: 6 | BV29: 12 | BW29: 0 | BX29: 2 | BY29: 78 | CA29: P. Girdler | CB29: 2 | CC29: 10 | CD29: 4 | CE29: 2 | CF29: 11 | CH29: O. Brett | CI29: 5 | CJ29: 22 | CK29: 0 | CL29: 3 | CM29: 163 | CO29: T. Farley | CP29: 1 | CQ29: 8 | CR29: 0 | CS29: 2 | CT29: 35
A30: K. Haig | B30: 1 | C30: 10 | D30: 1 | E30: 1 | F30: 23 | H30: P. Girdler | I30: 4 | J30: 25 | K30: 6 | L30: 3 | M30: 83 | O30: P. Briffett | P30: 8 | Q30: 30 | R30: 4 | S30: 9 | T30: 151 | V30: S. Flakelar | W30: 1 | X30: 4 | Y30: 0 | Z30: 0 | AA30: 18 | AD30: N. Henry | AE30: 31 | AF30: 249 | AG30: 39 | AH30: 36 | AI30: 1009 | AK30: Ra. Dickie | AL30: 1 | AM30: 2 | AN30: 0 | AO30: 0 | AP30: 5 | AY30: M. Kemp | AZ30: 1 | BA30: 12 | BB30: 1 | BC30: 1 | BD30: 62 | BF30: P. Girdler | BG30: 2 | BH30: 10 | BI30: 4 | BJ30: 2 | BK30: 11 | BM30: N. Runkel | BN30: 12 | BO30: 93 | BP30: 7 | BQ30: 24 | BR30: 354 | BT30: P. Girdler | BU30: 1 | BV30: 9 | BW30: 0 | BX30: 3 | BY30: 41 | CA30: Run Out | CB30: 2 | CC30: 0 | CD30: 0 | CE30: 3 | CF30: 0 | CH30: O. Thornton | CI30: 13 | CJ30: 66 | CK30: 6 | CL30: 12 | CM30: 304 | CO30: T. Wade | CP30: 2 | CQ30: 8 | CR30: 0 | CS30: 0 | CT30: 47
A31: M. Kemp | B31: 1 | C31: 12 | D31: 1 | E31: 1 | F31: 62 | H31: Ra. Dickie | I31: 2 | J31: 7 | K31: 1 | L31: 0 | M31: 23 | O31: P. Girdler | P31: 1 | Q31: 5 | R31: 1 | S31: 1 | T31: 8 | V31: S. Halfhead | W31: 5 | X31: 15 | Y31: 0 | Z31: 1 | AA31: 102 | AD31: N. Runkel | AE31: 15 | AF31: 116 | AG31: 8 | AH31: 32 | AI31: 391 | AK31: Retired | AL31: 1 | AM31: 0 | AN31: 0 | AO31: 1 | AP31: 0 | AY31: M. Kiernan | AZ31: 3 | BA31: 22 | BB31: 0 | BC31: 3 | BD31: 81 | BF31: Ra. Dickie | BG31: 2 | BH31: 3 | BI31: 0 | BJ31: 1 | BK31: 12 | BM31: O. Brett | BN31: 1 | BO31: 3 | BP31: 0 | BQ31: 1 | BR31: 31 | BT31: Ra. Dickie | BU31: 1 | BV31: 2 | BW31: 0 | BX31: 0 | BY31: 5 | CA31: S. Beardall | CB31: 9 | CC31: 40 | CD31: 3 | CE31: 6 | CF31: 192 | CH31: P. Briffett | CI31: 11 | CJ31: 34 | CK31: 3 | CL31: 9 | CM31: 198 | CO31: T. White | CP31: 8 | CQ31: 66 | CR31: 7 | CS31: 10 | CT31: 264
A32: M. Kiernan | B32: 4 | C32: 29 | D32: 2 | E32: 3 | F32: 99 | H32: Ro. Dickie | I32: 3 | J32: 5 | K32: 0 | L32: 2 | M32: 44 | O32: Retired | P32: 1 | Q32: 0 | R32: 0 | S32: 1 | T32: 0 | V32: T. Farley | W32: 1 | X32: 2 | Y32: 0 | Z32: 1 | AA32: 8 | AD32: O. Brett | AE32: 4 | AF32: 12 | AG32: 0 | AH32: 1 | AI32: 97 | AK32: Ro. Dickie | AL32: 1 | AM32: 2 | AN32: 0 | AO32: 0 | AP32: 29 | AY32: N. Henry | AZ32: 31 | BA32: 255 | BB32: 35 | BC32: 31 | BD32: 1089 | BF32: Ro. Dickie | BG32: 2 | BH32: 2 | BI32: 0 | BJ32: 1 | BK32: 19 | BM32: O. Thornton | BN32: 10 | BO32: 57 | BP32: 10 | BQ32: 15 | BR32: 212 | BT32: Retired | BU32: 1 | BV32: 0 | BW32: 0 | BX32: 1 | BY32: 0 | CA32: S. Flakelar | CB32: 2 | CC32: 19 | CD32: 0 | CE32: 0 | CF32: 72 | CH32: P. Girdler | CI32: 6 | CJ32: 43 | CK32: 8 | CL32: 8 | CM32: 121 | CO32: J. Moberly | CP32: 1 | CQ32: 1 | CR32: 0 | CS32: 1 | CT32: 7
A33: N. Fox | B33: 1 | C33: 9 | D33: 0 | E33: 1 | F33: 26 | H33: Run Out | I33: 5 | J33: 0 | K33: 0 | L33: 6 | M33: 0 | O33: Ro. Dickie | P33: 1 | Q33: 3 | R33: 0 | S33: 0 | T33: 26 | V33: T. Wade | W33: 1 | X33: 1 | Y33: 0 | Z33: 1 | AA33: 4 | AD33: O. Thornton | AE33: 14 | AF33: 83 | AG33: 14 | AH33: 20 | AI33: 337 | AK33: Run Out | AL33: 2 | AM33: 0 | AN33: 0 | AO33: 2 | AP33: 0 | AY33: N. Runkel | AZ33: 18 | BA33: 168 | BB33: 14 | BC33: 38 | BD33: 636 | BF33: S. Beardall | BG33: 14 | BH33: 45 | BI33: 2 | BJ33: 8 | BK33: 236 | BM33: P. Briffett | BN33: 6 | BO33: 27 | BP33: 2 | BQ33: 8 | BR33: 129 | BT33: Ro. Dickie | BU33: 1 | BV33: 1 | BW33: 0 | BX33: 0 | BY33: 14 | CA33: S. Halfhead | CB33: 3 | CC33: 12 | CD33: 1 | CE33: 2 | CF33: 56 | CH33: Ra. Dickie | CI33: 4 | CJ33: 13 | CK33: 1 | CL33: 1 | CM33: 60 | CO33: Grand Total | CP33: 121 | CQ33: 421 | CR33: 68 | CS33: 89 | CT33: 1679
A34: N. Henry | B34: 51 | C34: 388 | D34: 50 | E34: 56 | F34: 1652 | H34: S. Beardall | I34: 8 | J34: 30 | K34: 4 | L34: 8 | M34: 127 | O34: Run Out | P34: 2 | Q34: 0 | R34: 0 | S34: 3 | T34: 0 | V34: T. White | W34: 15 | X34: 101 | Y34: 22 | Z34: 20 | AA34: 324 | AD34: P. Briffett | AE34: 6 | AF34: 20 | AG34: 2 | AH34: 4 | AI34: 104 | AK34: S. Beardall | AL34: 16 | AM34: 71 | AN34: 3 | AO34: 20 | AP34: 369 | AY34: O. Brett | AZ34: 4 | BA34: 15 | BB34: 0 | BC34: 1 | BD34: 117 | BF34: S. Flakelar | BG34: 2 | BH34: 19 | BI34: 0 | BJ34: 0 | BK34: 72 | BM34: P. Girdler | BN34: 5 | BO34: 36 | BP34: 7 | BQ34: 5 | BR34: 105 | BT34: Run Out | BU34: 1 | BV34: 0 | BW34: 0 | BX34: 1 | BY34: 0 | CA34: T. Greenwood | CB34: 1 | CC34: 1 | CD34: 0 | CE34: 0 | CF34: 5 | CH34: Ro. Dickie | CI34: 5 | CJ34: 8 | CK34: 0 | CL34: 2 | CM34: 75
A35: N. Runkel | B35: 33 | C35: 262 | D35: 19 | E35: 69 | F35: 1059 | H35: S. Flakelar | I35: 2 | J35: 14 | K35: 0 | L35: 1 | M35: 54 | O35: S. Beardall | P35: 10 | Q35: 41 | R35: 1 | S35: 7 | T35: 222 | V35: J. Moberly | W35: 2 | X35: 3 | Y35: 0 | Z35: 0 | AA35: 25 | AD35: P. Girdler | AE35: 3 | AF35: 21 | AG35: 8 | AH35: 4 | AI35: 41 | AK35: S. Flakelar | AL35: 3 | AM35: 21 | AN35: 0 | AO35: 1 | AP35: 116 | AY35: O. Thornton | AZ35: 14 | BA35: 81 | BB35: 8 | BC35: 15 | BD35: 378 | BF35: S. Halfhead | BG35: 3 | BH35: 7 | BI35: 0 | BJ35: 0 | BK35: 50 | BM35: Ra. Dickie | BN35: 4 | BO35: 13 | BP35: 1 | BQ35: 1 | BR35: 60 | BT35: S. Beardall | BU35: 10 | BV35: 36 | BW35: 0 | BX35: 7 | BY35: 238 | CA35: T. Wade | CB35: 1 | CC35: 4 | CD35: 1 | CE35: 0 | CF35: 10 | CH35: Run Out | CI35: 6 | CJ35: 0 | CK35: 0 | CL35: 8 | CM35: 0
A36: O. Brett | B36: 9 | C36: 34 | D36: 2 | E36: 5 | F36: 230 | H36: S. Halfhead | I36: 3 | J36: 16 | K36: 2 | L36: 3 | M36: 66 | O36: S. Flakelar | P36: 2 | Q36: 19 | R36: 0 | S36: 0 | T36: 96 | V36: T. Thurgood | W36: 2 | X36: 15 | Y36: 0 | Z36: 2 | AA36: 83 | AD36: Ra. Dickie | AE36: 4 | AF36: 13 | AG36: 1 | AH36: 1 | AI36: 60 | AK36: S. Halfhead | AL36: 2 | AM36: 4 | AN36: 0 | AO36: 1 | AP36: 29 | AY36: P. Briffett | AZ36: 9 | BA36: 38 | BB36: 1 | BC36: 10 | BD36: 221 | BF36: T. Greenwood | BG36: 1 | BH36: 1 | BI36: 0 | BJ36: 0 | BK36: 5 | BM36: Ro. Dickie | BN36: 5 | BO36: 9 | BP36: 0 | BQ36: 3 | BR36: 75 | BT36: S. Flakelar | BU36: 1 | BV36: 6 | BW36: 0 | BX36: 1 | BY36: 40 | CA36: T. White | CB36: 5 | CC36: 40 | CD36: 9 | CE36: 6 | CF36: 124 | CH36: S. Beardall | CI36: 36 | CJ36: 144 | CK36: 8 | CL36: 41 | CM36: 708
A37: O. Thornton | B37: 23 | C37: 128 | D37: 18 | E37: 28 | F37: 566 | H37: T. Farley | I37: 1 | J37: 4 | K37: 0 | L37: 1 | M37: 23 | O37: S. Halfhead | P37: 2 | Q37: 8 | R37: 0 | S37: 1 | T37: 56 | V37: W. Brett | W37: 1 | X37: 3 | Y37: 0 | Z37: 1 | AA37: 23 | AD37: Ro. Dickie | AE37: 3 | AF37: 6 | AG37: 0 | AH37: 2 | AI37: 45 | AK37: T. Wade | AL37: 1 | AM37: 4 | AN37: 1 | AO37: 0 | AP37: 10 | AY37: P. Girdler | AZ37: 6 | BA37: 45 | BB37: 7 | BC37: 8 | BD37: 146 | BF37: T. White | BG37: 14 | BH37: 88.5 | BI37: 17 | BJ37: 23 | BK37: 290 | BM37: Run Out | BN37: 4 | BO37: 0 | BP37: 0 | BQ37: 5 | BR37: 0 | BT37: S. Halfhead | BU37: 1 | BV37: 3 | BW37: 0 | BX37: 0 | BY37: 42 | CA37: W. Strickland | CB37: 1 | CC37: 3 | CD37: 0 | CE37: 0 | CF37: 16 | CH37: S. Flakelar | CI37: 4 | CJ37: 33 | CK37: 0 | CL37: 1 | CM37: 150
A38: P. Briffett | B38: 17 | C38: 57 | D38: 5 | E38: 15 | F38: 298 | H38: T. Greenwood | I38: 1 | J38: 1 | K38: 0 | L38: 0 | M38: 5 | O38: T. Farley | P38: 2 | Q38: 13 | R38: 2 | S38: 3 | T38: 45 | V38: R. Gunn | W38: 1 | X38: 1 | Y38: 0 | Z38: 0 | AA38: 0 | AD38: Run Out | AE38: 3 | AF38: 0 | AG38: 0 | AH38: 4 | AI38: 0 | AK38: T. White | AL38: 14 | AM38: 107 | AN38: 25 | AO38: 19 | AP38: 362 | AY38: Ra. Dickie | AZ38: 3 | BA38: 12 | BB38: 1 | BC38: 0 | BD38: 53 | BF38: W. Strickland | BG38: 1 | BH38: 3 | BI38: 0 | BJ38: 0 | BK38: 16 | BM38: S. Beardall | BN38: 17 | BO38: 68 | BP38: 5 | BQ38: 28 | BR38: 278 | BT38: T. Farley | BU38: 1 | BV38: 8 | BW38: 0 | BX38: 2 | BY38: 35 | CA38: J. Moberly | CB38: 2 | CC38: 2 | CD38: 1 | CE38: 1 | CF38: 7 | CH38: S. Halfhead | CI38: 6 | CJ38: 22 | CK38: 2 | CL38: 3 | CM38: 120
A39: P. Girdler | B39: 8 | C39: 55 | D39: 11 | E39: 10 | F39: 157 | H39: T. White | I39: 11 | J39: 84 | K39: 21 | L39: 15 | M39: 242 | O39: T. Foot | P39: 1 | Q39: 4 | R39: 2 | S39: 2 | T39: 8 | V39: C. Carne | W39: 1 | X39: 7 | Y39: 1 | Z39: 0 | AA39: 19 | AD39: S. Beardall | AE39: 16 | AF39: 58 | AG39: 3 | AH39: 17 | AI39: 245 | AK39: J. Moberly | AL39: 2 | AM39: 9 | AN39: 1 | AO39: 1 | AP39: 59 | AY39: Retired | AZ39: 1 | BA39: 0 | BB39: 0 | BC39: 1 | BD39: 0 | BF39: J. Moberly | BG39: 4 | BH39: 5 | BI39: 1 | BJ39: 1 | BK39: 32 | BM39: S. Flakelar | BN39: 2 | BO39: 12 | BP39: 0 | BQ39: 0 | BR39: 56 | BT39: T. Wade | BU39: 1 | BV39: 4 | BW39: 0 | BX39: 0 | BY39: 25 | CA39: T. Thurgood | CB39: 1 | CC39: 9 | CD39: 0 | CE39: 1 | CF39: 47 | CH39: T. Farley | CI39: 2 | CJ39: 6 | CK39: 0 | CL39: 2 | CM39: 31
A40: Ra. Dickie | B40: 5 | C40: 15 | D40: 1 | E40: 1 | F40: 65 | H40: J. Moberly | I40: 4 | J40: 12 | K40: 2 | L40: 3 | M40: 59 | O40: T. Wade | P40: 4 | Q40: 15 | R40: 1 | S40: 2 | T40: 66 | V40: L. Weston | W40: 1 | X40: 5 | Y40: 0 | Z40: 0 | AA40: 15 | AD40: S. Flakelar | AE40: 2 | AF40: 16 | AG40: 0 | AH40: 0 | AI40: 52 | AK40: T. Thurgood | AL40: 1 | AM40: 9 | AN40: 0 | AO40: 1 | AP40: 47 | AY40: Ro. Dickie | AZ40: 4 | BA40: 8 | BB40: 0 | BC40: 2 | BD40: 70 | BF40: T. Thurgood | BG40: 1 | BH40: 6 | BI40: 0 | BJ40: 1 | BK40: 36 | BM40: S. Halfhead | BN40: 6 | BO40: 24 | BP40: 1 | BQ40: 3 | BR40: 126 | BT40: T. White | BU40: 12 | BV40: 100 | BW40: 14 | BX40: 15 | BY40: 364 | CA40: W. Brett | CB40: 1 | CC40: 3 | CD40: 0 | CE40: 1 | CF40: 23 | CH40: T. Greenwood | CI40: 1 | CJ40: 1 | CK40: 0 | CL40: 0 | CM40: 5
A41: Retired | B41: 1 | C41: 0 | D41: 0 | E41: 1 | F41: 0 | H41: Grand Total | I41: 363 | J41: 900 | K41: 135 | L41: 171 | M41: 3353 | O41: T. White | P41: 12 | Q41: 101.5 | R41: 11 | S41: 17 | T41: 320 | V41: F. Lyons | W41: 1 | X41: 7 | Y41: 2 | Z41: 4 | AA41: 16 | AD41: S. Halfhead | AE41: 4 | AF41: 22 | AG41: 1 | AH41: 3 | AI41: 106 | AK41: W. Brett | AL41: 1 | AM41: 3 | AN41: 0 | AO41: 1 | AP41: 23 | AY41: Run Out | AZ41: 7 | BA41: 0 | BB41: 0 | BC41: 9 | BD41: 0 | BF41: C. Carne | BG41: 1 | BH41: 7 | BI41: 1 | BJ41: 0 | BK41: 19 | BM41: T. Farley | BN41: 3 | BO41: 11 | BP41: 2 | BQ41: 3 | BR41: 41 | BT41: J. Moberly | BU41: 2 | BV41: 8 | BW41: 1 | BX41: 1 | BY41: 52 | CA41: R. Beardall | CB41: 1 | CC41: 4 | CD41: 0 | CE41: 0 | CF41: 16 | CH41: T. Wade | CI41: 1 | CJ41: 1 | CK41: 0 | CL41: 1 | CM41: 4
A42: Ro. Dickie | B42: 6 | C42: 10 | D42: 0 | E42: 3 | F42: 89 | O42: W. Strickland | P42: 1 | Q42: 3 | R42: 0 | S42: 0 | T42: 16 | V42: R. Beardall | W42: 2 | X42: 6 | Y42: 1 | Z42: 1 | AA42: 27 | AD42: T. Farley | AE42: 1 | AF42: 2 | AG42: 0 | AH42: 1 | AI42: 8 | AK42: R. Gunn | AL42: 1 | AM42: 1 | AN42: 0 | AO42: 0 | AP42: 0 | AY42: S. Beardall | AZ42: 22 | BA42: 99 | BB42: 6 | BC42: 33 | BD42: 472 | BF42: F. Lyons | BG42: 1 | BH42: 7 | BI42: 2 | BJ42: 4 | BK42: 16 | BM42: T. Foot | BN42: 1 | BO42: 4 | BP42: 2 | BQ42: 2 | BR42: 8 | BT42: T. Thurgood | BU42: 1 | BV42: 6 | BW42: 0 | BX42: 1 | BY42: 36 | CA42: D. Romain | CB42: 1 | CC42: 1 | CD42: 0 | CE42: 0 | CF42: 4 | CH42: T. White | CI42: 27 | CJ42: 198.5 | CK42: 44 | CL42: 41 | CM42: 567
A43: Run Out | B43: 7 | C43: 0 | D43: 0 | E43: 9 | F43: 0 | O43: Grand Total | P43: 363 | Q43: 975.5 | R43: 126 | S43: 187 | T43: 3898 | V43: G. Wately | W43: 1 | X43: 6 | Y43: 0 | Z43: 2 | AA43: 32 | AD43: T. Greenwood | AE43: 1 | AF43: 1 | AG43: 0 | AH43: 0 | AI43: 5 | AK43: R. Beardall | AL43: 1 | AM43: 4 | AN43: 0 | AO43: 0 | AP43: 16 | AY43: S. Flakelar | AZ43: 3 | BA43: 18 | BB43: 0 | BC43: 1 | BD43: 96 | BF43: R. Beardall | BG43: 2 | BH43: 6 | BI43: 1 | BJ43: 1 | BK43: 27 | BM43: T. Wade | BN43: 3 | BO43: 8 | BP43: 0 | BQ43: 3 | BR43: 35 | BT43: R. Gunn | BU43: 1 | BV43: 1 | BW43: 0 | BX43: 0 | BY43: 0 | CA43: Grand Total | CB43: 220 | CC43: 765 | CD43: 99 | CE43: 134 | CF43: 2934 | CH43: J. Moberly | CI43: 2 | CJ43: 2 | CK43: 1 | CL43: 0 | CM43: 9
A44: S. Beardall | B44: 36 | C44: 144 | D44: 8 | E44: 41 | F44: 708 | V44: D. Romain | W44: 1 | X44: 1 | Y44: 0 | Z44: 0 | AA44: 4 | AD44: T. Wade | AE44: 2 | AF44: 5 | AG44: 0 | AH44: 1 | AI44: 26 | AK44: D. Romain | AL44: 1 | AM44: 1 | AN44: 0 | AO44: 0 | AP44: 4 | AY44: S. Halfhead | AZ44: 7 | BA44: 32 | BB44: 2 | BC44: 5 | BD44: 174 | BF44: D. Romain | BG44: 1 | BH44: 1 | BI44: 0 | BJ44: 0 | BK44: 4 | BM44: T. White | BN44: 21 | BO44: 146.5 | BP44: 31 | BQ44: 31 | BR44: 398 | BT44: Grand Total | BU44: 231 | BV44: 772 | BW44: 56 | BX44: 137 | BY44: 3676 | CH44: T. Thurgood | CI44: 2 | CJ44: 15 | CK44: 0 | CL44: 2 | CM44: 83
A45: S. Flakelar | B45: 5 | C45: 37 | D45: 0 | E45: 1 | F45: 168 | V45: Grand Total | W45: 385 | X45: 1008 | Y45: 103 | Z45: 197 | AA45: 4413 | AD45: T. White | AE45: 17 | AF45: 127.5 | AG45: 24 | AH45: 22 | AI45: 351 | AK45: Grand Total | AL45: 429 | AM45: 1171 | AN45: 134 | AO45: 219 | AP45: 4892 | AY45: T. Farley | AZ45: 4 | BA45: 19 | BB45: 2 | BC45: 5 | BD45: 76 | BF45: Grand Total | BG45: 352 | BH45: 1040.5 | BI45: 136 | BJ45: 217 | BK45: 4192 | BM45: J. Moberly | BN45: 2 | BO45: 5 | BP45: 0 | BQ45: 1 | BR45: 25 | CH45: W. Brett | CI45: 1 | CJ45: 3 | CK45: 0 | CL45: 1 | CM45: 23
A46: S. Halfhead | B46: 10 | C46: 39 | D46: 2 | E46: 5 | F46: 224 | AD46: W. Strickland | AE46: 1 | AF46: 3 | AG46: 0 | AH46: 0 | AI46: 16 | AY46: T. Foot | AZ46: 1 | BA46: 4 | BB46: 2 | BC46: 2 | BD46: 8 | BM46: C. Carne | BN46: 1 | BO46: 7 | BP46: 1 | BQ46: 0 | BR46: 19 | CH46: R. Gunn | CI46: 1 | CJ46: 1 | CK46: 0 | CL46: 0 | CM46: 0
A47: T. Farley | B47: 4 | C47: 19 | D47: 2 | E47: 5 | F47: 76 | AD47: J. Moberly | AE47: 3 | AF47: 5 | AG47: 1 | AH47: 2 | AI47: 16 | AY47: T. Wade | AZ47: 5 | BA47: 16 | BB47: 1 | BC47: 3 | BD47: 70 | BM47: L. Weston | BN47: 1 | BO47: 5 | BP47: 0 | BQ47: 0 | BR47: 15 | CH47: L. Weston | CI47: 1 | CJ47: 5 | CK47: 0 | CL47: 0 | CM47: 15
A48: T. Foot | B48: 1 | C48: 4 | D48: 2 | E48: 2 | F48: 8 | AD48: T. Thurgood | AE48: 1 | AF48: 6 | AG48: 0 | AH48: 1 | AI48: 36 | AY48: T. White | AZ48: 24 | BA48: 198 | BB48: 37 | BC48: 29 | BD48: 596 | BM48: F. Lyons | BN48: 1 | BO48: 7 | BP48: 2 | BQ48: 4 | BR48: 16 | CH48: F. Lyons | CI48: 1 | CJ48: 7 | CK48: 2 | CL48: 4 | CM48: 16
A49: T. Greenwood | B49: 1 | C49: 1 | D49: 0 | E49: 0 | F49: 5 | AD49: C. Carne | AE49: 1 | AF49: 7 | AG49: 1 | AH49: 0 | AI49: 19 | AY49: J. Moberly | AZ49: 2 | BA49: 10 | BB49: 1 | BC49: 2 | BD49: 52 | BM49: R. Beardall | BN49: 1 | BO49: 2 | BP49: 1 | BQ49: 1 | BR49: 11 | CH49: R. Beardall | CI49: 2 | CJ49: 6 | CK49: 1 | CL49: 1 | CM49: 27
A50: T. Wade | B50: 5 | C50: 16 | D50: 1 | E50: 3 | F50: 70 | AD50: L. Weston | AE50: 1 | AF50: 5 | AG50: 0 | AH50: 0 | AI50: 15 | AY50: T. Thurgood | AZ50: 1 | BA50: 9 | BB50: 0 | BC50: 1 | BD50: 47 | BM50: G. Wately | BN50: 1 | BO50: 6 | BP50: 0 | BQ50: 2 | BR50: 32 | CH50: G. Wately | CI50: 1 | CJ50: 6 | CK50: 0 | CL50: 2 | CM50: 32
A51: T. White | B51: 38 | C51: 286.5 | D51: 54 | E51: 52 | F51: 886 | AD51: F. Lyons | AE51: 1 | AF51: 7 | AG51: 2 | AH51: 4 | AI51: 16 | AY51: W. Brett | AZ51: 1 | BA51: 3 | BB51: 0 | BC51: 1 | BD51: 23 | BM51: Grand Total | BN51: 385 | BO51: 1346.5 | BP51: 209 | BQ51: 284 | BR51: 5054 | CH51: D. Romain | CI51: 1 | CJ51: 1 | CK51: 0 | CL51: 0 | CM51: 4
A52: W. Strickland | B52: 1 | C52: 3 | D52: 0 | E52: 0 | F52: 16 | AD52: R. Beardall | AE52: 1 | AF52: 2 | AG52: 1 | AH52: 1 | AI52: 11 | AY52: R. Gunn | AZ52: 1 | BA52: 1 | BB52: 0 | BC52: 0 | BD52: 0 | CH52: Grand Total | CI52: 594 | CJ52: 2000.5 | CK52: 237 | CL52: 377 | CM52: 8212
A53: (blank) | AD53: G. Wately | AE53: 1 | AF53: 6 | AG53: 0 | AH53: 2 | AI53: 32 | AY53: L. Weston | AZ53: 1 | BA53: 5 | BB53: 0 | BC53: 0 | BD53: 15
A54: J. Moberly | B54: 6 | C54: 15 | D54: 2 | E54: 3 | F54: 84 | AD54: Grand Total | AE54: 605 | AF54: 1470.5 | AG54: 209 | AH54: 278 | AI54: 5670 | AY54: G. Wately | AZ54: 1 | BA54: 6 | BB54: 0 | BC54: 2 | BD54: 32
A55: T. Thurgood | B55: 2 | C55: 15 | D55: 0 | E55: 2 | F55: 83 | AY55: Grand Total | AZ55: 484 | BA55: 1843 | BB55: 228 | BC55: 338 | BD55: 7472
A56: W. Brett | B56: 1 | C56: 3 | D56: 0 | E56: 1 | F56: 23
A57: R. Gunn | B57: 1 | C57: 1 | D57: 0 | E57: 0 | F57: 0
A58: C. Carne | B58: 1 | C58: 7 | D58: 1 | E58: 0 | F58: 19
A59: L. Weston | B59: 1 | C59: 5 | D59: 0 | E59: 0 | F59: 15
A60: F. Lyons | B60: 1 | C60: 7 | D60: 2 | E60: 4 | F60: 16
A61: R. Beardall | B61: 2 | C61: 6 | D61: 1 | E61: 1 | F61: 27
A62: G. Wately | B62: 1 | C62: 6 | D62: 0 | E62: 2 | F62: 32
A63: D. Romain | B63: 1 | C63: 1 | D63: 0 | E63: 0 | F63: 4
A64: Grand Total | B64: 1111 | C64: 2883.5 | D64: 364 | E64: 555 | F64: 11664

Sheet Complete Data Set
A1: Date | B1: Opposition | C1: Match Status | D1: Home/Away | E1: Captain | F1: TPCC Batting First | G1: TPCC Team Score | H1: TPCC Team Wickets | I1: Opposition Team Score | J1: Opposition Team Wickets | K1: TPCC Overs Bowled | L1: TPCC Overs Faced | M1: Batting Extras | N1: Bowling Extras | O1: Batsmen Position | P1: Batsmen Name | Q1: Batsmen Runs | R1: Batsmen Out | S1: 50 | T1: 100 | U1: Bowler Position | V1: Bowler Name | W1: Bowler Overs | X1: Bowler Maidens | Y1: Bowler Wickets | Z1: Bowler Runs
A2: 40650 | B2: Penn Street | C2: Win | D2: Home | E2: S. Beardall | F2: First | G2: 84 | H2: 3 | I2: 83 | J2: 9 | K2: 30.5 | L2: 18 | M2: 10 | N2: 6 | O2: 1 | P2: H. Beardall | Q2: 32 | R2: 1 | S2: 0 | T2: 0 | U2: 1 | V2: J. Hunt | W2: 5 | X2: 2 | Y2: 1 | Z2: 13
A3: 40650 | B3: Penn Street | C3: Win | D3: Home | E3: S. Beardall | F3: First | G3: 84 | H3: 3 | I3: 83 | J3: 9 | K3: 30.5 | L3: 18 | M3: 10 | N3: 6 | O3: 2 | P3: S. Bucknill | Q3: 34 | R3: 0 | S3: 0 | T3: 0 | U3: 2 | V3: J. Leefe | W3: 7 | X3: 3 | Y3: 2 | Z3: 13
A4: 40650 | B4: Penn Street | C4: Win | D4: Home | E4: S. Beardall | F4: First | G4: 84 | H4: 3 | I4: 83 | J4: 9 | K4: 30.5 | L4: 18 | M4: 10 | N4: 6 | O4: 3 | P4: P. Briffett | Q4: 8 | R4: 1 | S4: 0 | T4: 0 | U4: 3 | V4: N. Henry | W4: 6 | X4: 2 | Y4: 4 | Z4: 11
A5: 40650 | B5: Penn Street | C5: Win | D5: Home | E5: S. Beardall | F5: First | G5: 84 | H5: 3 | I5: 83 | J5: 9 | K5: 30.5 | L5: 18 | M5: 10 | N5: 6 | O5: 4 | P5: S. Beardall | Q5: 0 | R5: 1 | S5: 0 | T5: 0 | U5: 4 | V5: J. Moser | W5: 6 | X5: 0 | Y5: 0 | Z5: 30
A6: 40650 | B6: Penn Street | C6: Win | D6: Home | E6: S. Beardall | F6: First | G6: 84 | H6: 3 | I6: 83 | J6: 9 | K6: 30.5 | L6: 18 | M6: 10 | N6: 6 | O6: 5 | P6: J. Moser | Q6: 0 | R6: 0 | S6: 0 | T6: 0 | U6: 5 | V6: A. Harvey-Thompson | W6: 5 | X6: 3 | Y6: 0 | Z6: 7
A7: 40650 | B7: Penn Street | C7: Win | D7: Home | E7: S. Beardall | F7: First | G7: 84 | H7: 3 | I7: 83 | J7: 9 | K7: 30.5 | L7: 18 | M7: 10 | N7: 6 | O7: 6 | P7: 0 | Q7: 0 | R7: 0 | S7: 0 | T7: 0 | U7: 6 | V7: T. White | W7: 1.5 | X7: 0 | Y7: 2 | Z7: 3
A8: 40650 | B8: Penn Street | C8: Win | D8: Home | E8: S. Beardall | F8: First | G8: 84 | H8: 3 | I8: 83 | J8: 9 | K8: 30.5 | L8: 18 | M8: 10 | N8: 6 | O8: 7 | P8: 0 | Q8: 0 | R8: 0 | S8: 0 | T8: 0 | U8: 7 | V8: 0 | W8: 0 | X8: 0 | Y8: 0 | Z8: 0
A9: 40650 | B9: Penn Street | C9: Win | D9: Home | E9: S. Beardall | F9: First | G9: 84 | H9: 3 | I9: 83 | J9: 9 | K9: 30.5 | L9: 18 | M9: 10 | N9: 6 | O9: 8 | P9: 0 | Q9: 0 | R9: 0 | S9: 0 | T9: 0 | U9: 8 | V9: 0 | W9: 0 | X9: 0 | Y9: 0 | Z9: 0
A10: 40650 | B10: Penn Street | C10: Win | D10: Home | E10: S. Beardall | F10: First | G10: 84 | H10: 3 | I10: 83 | J10: 9 | K10: 30.5 | L10: 18 | M10: 10 | N10: 6 | O10: 9 | P10: 0 | Q10: 0 | R10: 0 | S10: 0 | T10: 0 | U10: 9 | V10: 0 | W10: 0 | X10: 0 | Y10: 0 | Z10: 0
A11: 40650 | B11: Penn Street | C11: Win | D11: Home | E11: S. Beardall | F11: First | G11: 84 | H11: 3 | I11: 83 | J11: 9 | K11: 30.5 | L11: 18 | M11: 10 | N11: 6 | O11: 10 | P11: 0 | Q11: 0 | R11: 0 | S11: 0 | T11: 0 | U11: 10 | V11: 0 | W11: 0 | X11: 0 | Y11: 0 | Z11: 0
A12: 40650 | B12: Penn Street | C12: Win | D12: Home | E12: S. Beardall | F12: First | G12: 84 | H12: 3 | I12: 83 | J12: 9 | K12: 30.5 | L12: 18 | M12: 10 | N12: 6 | O12: 11 | P12: 0 | Q12: 0 | R12: 0 | S12: 0 | T12: 0 | U12: 11 | V12: 0 | W12: 0 | X12: 0 | Y12: 0 | Z12: 0
A13: 40656 | B13: White Waltham | C13: Loss | D13: Away | E13: J. Hunt | F13: Second | G13: 68 | H13: 10 | I13: 192 | J13: 10 | K13: 36 | L13: 22 | M13: 19 | N13: 0 | O13: 1 | P13: Ro. Dickie | Q13: 17 | R13: 1 | S13: 0 | T13: 0 | U13: 1 | V13: J. Leefe | W13: 7 | X13: 0 | Y13: 0 | Z13: 50
A14: 40656 | B14: White Waltham | C14: Loss | D14: Away | E14: J. Hunt | F14: Second | G14: 68 | H14: 10 | I14: 192 | J14: 10 | K14: 36 | L14: 22 | M14: 19 | N14: 0 | O14: 2 | P14: J. Hunt | Q14: 0 | R14: 1 | S14: 0 | T14: 0 | U14: 2 | V14: T. White | W14: 9 | X14: 1 | Y14: 0 | Z14: 49
A15: 40656 | B15: White Waltham | C15: Loss | D15: Away | E15: J. Hunt | F15: Second | G15: 68 | H15: 10 | I15: 192 | J15: 10 | K15: 36 | L15: 22 | M15: 19 | N15: 0 | O15: 3 | P15: S. Halfhead | Q15: 0 | R15: 1 | S15: 0 | T15: 0 | U15: 3 | V15: J. Hunt | W15: 5 | X15: 1 | Y15: 1 | Z15: 18
A16: 40656 | B16: White Waltham | C16: Loss | D16: Away | E16: J. Hunt | F16: Second | G16: 68 | H16: 10 | I16: 192 | J16: 10 | K16: 36 | L16: 22 | M16: 19 | N16: 0 | O16: 4 | P16: C. Seigal | Q16: 0 | R16: 1 | S16: 0 | T16: 0 | U16: 4 | V16: N. Runkel | W16: 9 | X16: 1 | Y16: 6 | Z16: 44
A17: 40656 | B17: White Waltham | C17: Loss | D17: Away | E17: J. Hunt | F17: Second | G17: 68 | H17: 10 | I17: 192 | J17: 10 | K17: 36 | L17: 22 | M17: 19 | N17: 0 | O17: 5 | P17: P. Briffett | Q17: 0 | R17: 1 | S17: 0 | T17: 0 | U17: 5 | V17: N. Henry | W17: 6 | X17: 0 | Y17: 1 | Z17: 31
A18: 40656 | B18: White Waltham | C18: Loss | D18: Away | E18: J. Hunt | F18: Second | G18: 68 | H18: 10 | I18: 192 | J18: 10 | K18: 36 | L18: 22 | M18: 19 | N18: 0 | O18: 6 | P18: J. Leefe | Q18: 13 | R18: 1 | S18: 0 | T18: 0 | U18: 6 | V18: Run Out | W18: 0 | X18: 0 | Y18: 1 | Z18: 0
A19: 40656 | B19: White Waltham | C19: Loss | D19: Away | E19: J. Hunt | F19: Second | G19: 68 | H19: 10 | I19: 192 | J19: 10 | K19: 36 | L19: 22 | M19: 19 | N19: 0 | O19: 7 | P19: N. Henry | Q19: 13 | R19: 1 | S19: 0 | T19: 0 | U19: 7 | V19: Retired | W19: 0 | X19: 0 | Y19: 1 | Z19: 0
A20: 40656 | B20: White Waltham | C20: Loss | D20: Away | E20: J. Hunt | F20: Second | G20: 68 | H20: 10 | I20: 192 | J20: 10 | K20: 36 | L20: 22 | M20: 19 | N20: 0 | O20: 8 | P20: R. Hunt | Q20: 4 | R20: 1 | S20: 0 | T20: 0 | U20: 8 | V20: 0 | W20: 0 | X20: 0 | Y20: 0 | Z20: 0
A21: 40656 | B21: White Waltham | C21: Loss | D21: Away | E21: J. Hunt | F21: Second | G21: 68 | H21: 10 | I21: 192 | J21: 10 | K21: 36 | L21: 22 | M21: 19 | N21: 0 | O21: 9 | P21: T. White | Q21: 0 | R21: 1 | S21: 0 | T21: 0 | U21: 9 | V21: 0 | W21: 0 | X21: 0 | Y21: 0 | Z21: 0
A22: 40656 | B22: White Waltham | C22: Loss | D22: Away | E22: J. Hunt | F22: Second | G22: 68 | H22: 10 | I22: 192 | J22: 10 | K22: 36 | L22: 22 | M22: 19 | N22: 0 | O22: 10 | P22: Ra. Dickie | Q22: 0 | R22: 0 | S22: 0 | T22: 0 | U22: 10 | V22: 0 | W22: 0 | X22: 0 | Y22: 0 | Z22: 0
A23: 40656 | B23: White Waltham | C23: Loss | D23: Away | E23: J. Hunt | F23: Second | G23: 68 | H23: 10 | I23: 192 | J23: 10 | K23: 36 | L23: 22 | M23: 19 | N23: 0 | O23: 11 | P23: N. Runkel | Q23: 2 | R23: 1 | S23: 0 | T23: 0 | U23: 11 | V23: 0 | W23: 0 | X23: 0 | Y23: 0 | Z23: 0
A24: 40664 | B24: Brightwell-Cum-Sotwell | C24: Win | D24: Home | E24: S. Beardall | F24: Second | G24: 135 | H24: 2 | I24: 132 | J24: 7 | K24: 48 | L24: 26 | M24: 7 | N24: 3 | O24: 1 | P24: S. Beardall | Q24: 84 | R24: 0 | S24: 1 | T24: 0 | U24: 1 | V24: J. Hunt | W24: 8 | X24: 1 | Y24: 1 | Z24: 13
A25: 40664 | B25: Brightwell-Cum-Sotwell | C25: Win | D25: Home | E25: S. Beardall | F25: Second | G25: 135 | H25: 2 | I25: 132 | J25: 7 | K25: 48 | L25: 26 | M25: 7 | N25: 3 | O25: 2 | P25: P. Briffett | Q25: 16 | R25: 1 | S25: 0 | T25: 0 | U25: 2 | V25: N. Henry | W25: 7 | X25: 2 | Y25: 1 | Z25: 6
A26: 40664 | B26: Brightwell-Cum-Sotwell | C26: Win | D26: Home | E26: S. Beardall | F26: Second | G26: 135 | H26: 2 | I26: 132 | J26: 7 | K26: 48 | L26: 26 | M26: 7 | N26: 3 | O26: 3 | P26: Ro. Dickie | Q26: 19 | R26: 1 | S26: 0 | T26: 0 | U26: 3 | V26: T. White | W26: 6 | X26: 1 | Y26: 2 | Z26: 6
A27: 40664 | B27: Brightwell-Cum-Sotwell | C27: Win | D27: Home | E27: S. Beardall | F27: Second | G27: 135 | H27: 2 | I27: 132 | J27: 7 | K27: 48 | L27: 26 | M27: 7 | N27: 3 | O27: 4 | P27: J. Hunt | Q27: 9 | R27: 0 | S27: 0 | T27: 0 | U27: 4 | V27: J. Thornton | W27: 5 | X27: 3 | Y27: 0 | Z27: 4
A28: 40664 | B28: Brightwell-Cum-Sotwell | C28: Win | D28: Home | E28: S. Beardall | F28: Second | G28: 135 | H28: 2 | I28: 132 | J28: 7 | K28: 48 | L28: 26 | M28: 7 | N28: 3 | O28: 5 | P28: 0 | Q28: 0 | R28: 0 | S28: 0 | T28: 0 | U28: 5 | V28: J. Rogers | W28: 11 | X28: 2 | Y28: 2 | Z28: 24
A29: 40664 | B29: Brightwell-Cum-Sotwell | C29: Win | D29: Home | E29: S. Beardall | F29: Second | G29: 135 | H29: 2 | I29: 132 | J29: 7 | K29: 48 | L29: 26 | M29: 7 | N29: 3 | O29: 6 | P29: 0 | Q29: 0 | R29: 0 | S29: 0 | T29: 0 | U29: 6 | V29: Ro. Dickie | W29: 3 | X29: 0 | Y29: 0 | Z29: 26
A30: 40664 | B30: Brightwell-Cum-Sotwell | C30: Win | D30: Home | E30: S. Beardall | F30: Second | G30: 135 | H30: 2 | I30: 132 | J30: 7 | K30: 48 | L30: 26 | M30: 7 | N30: 3 | O30: 7 | P30: 0 | Q30: 0 | R30: 0 | S30: 0 | T30: 0 | U30: 7 | V30: P. Briffett | W30: 4 | X30: 0 | Y30: 1 | Z30: 32
A31: 40664 | B31: Brightwell-Cum-Sotwell | C31: Win | D31: Home | E31: S. Beardall | F31: Second | G31: 135 | H31: 2 | I31: 132 | J31: 7 | K31: 48 | L31: 26 | M31: 7 | N31: 3 | O31: 8 | P31: 0 | Q31: 0 | R31: 0 | S31: 0 | T31: 0 | U31: 8 | V31: C. Rogers | W31: 3 | X31: 0 | Y31: 0 | Z31: 12
A32: 40664 | B32: Brightwell-Cum-Sotwell | C32: Win | D32: Home | E32: S. Beardall | F32: Second | G32: 135 | H32: 2 | I32: 132 | J32: 7 | K32: 48 | L32: 26 | M32: 7 | N32: 3 | O32: 9 | P32: 0 | Q32: 0 | R32: 0 | S32: 0 | T32: 0 | U32: 9 | V32: S. Beardall | W32: 1 | X32: 0 | Y32: 0 | Z32: 6
A33: 40664 | B33: Brightwell-Cum-Sotwell | C33: Win | D33: Home | E33: S. Beardall | F33: Second | G33: 135 | H33: 2 | I33: 132 | J33: 7 | K33: 48 | L33: 26 | M33: 7 | N33: 3 | O33: 10 | P33: 0 | Q33: 0 | R33: 0 | S33: 0 | T33: 0 | U33: 10 | V33: 0 | W33: 0 | X33: 0 | Y33: 0 | Z33: 0
A34: 40664 | B34: Brightwell-Cum-Sotwell | C34: Win | D34: Home | E34: S. Beardall | F34: Second | G34: 135 | H34: 2 | I34: 132 | J34: 7 | K34: 48 | L34: 26 | M34: 7 | N34: 3 | O34: 11 | P34: 0 | Q34: 0 | R34: 0 | S34: 0 | T34: 0 | U34: 11 | V34: 0 | W34: 0 | X34: 0 | Y34: 0 | Z34: 0
A35: 40670 | B35: Greys Green (1) | C35: Loss | D35: Home | E35: S. Beardall | F35: Second | G35: 86 | H35: 10 | I35: 122 | J35: 7 | K35: 48 | L35: 28 | M35: 7 | N35: 3 | O35: 1 | P35: C. Simon | Q35: 0 | R35: 1 | S35: 0 | T35: 0 | U35: 1 | V35: J. Leefe | W35: 8 | X35: 1 | Y35: 0 | Z35: 17
A36: 40670 | B36: Greys Green (1) | C36: Loss | D36: Home | E36: S. Beardall | F36: Second | G36: 86 | H36: 10 | I36: 122 | J36: 7 | K36: 48 | L36: 28 | M36: 7 | N36: 3 | O36: 2 | P36: J. Hunt | Q36: 19 | R36: 1 | S36: 0 | T36: 0 | U36: 2 | V36: J. Hunt | W36: 5 | X36: 3 | Y36: 1 | Z36: 2
A37: 40670 | B37: Greys Green (1) | C37: Loss | D37: Home | E37: S. Beardall | F37: Second | G37: 86 | H37: 10 | I37: 122 | J37: 7 | K37: 48 | L37: 28 | M37: 7 | N37: 3 | O37: 3 | P37: R. Gunn | Q37: 0 | R37: 1 | S37: 0 | T37: 0 | U37: 3 | V37: N. Henry | W37: 17 | X37: 5 | Y37: 4 | Z37: 39
A38: 40670 | B38: Greys Green (1) | C38: Loss | D38: Home | E38: S. Beardall | F38: Second | G38: 86 | H38: 10 | I38: 122 | J38: 7 | K38: 48 | L38: 28 | M38: 7 | N38: 3 | O38: 4 | P38: P. Briffett | Q38: 15 | R38: 1 | S38: 0 | T38: 0 | U38: 4 | V38: T. White | W38: 14 | X38: 1 | Y38: 1 | Z38: 37
A39: 40670 | B39: Greys Green (1) | C39: Loss | D39: Home | E39: S. Beardall | F39: Second | G39: 86 | H39: 10 | I39: 122 | J39: 7 | K39: 48 | L39: 28 | M39: 7 | N39: 3 | O39: 5 | P39: D. Stockings | Q39: 17 | R39: 1 | S39: 0 | T39: 0 | U39: 5 | V39: S. Beardall | W39: 4 | X39: 0 | Y39: 1 | Z39: 24
A40: 40670 | B40: Greys Green (1) | C40: Loss | D40: Home | E40: S. Beardall | F40: Second | G40: 86 | H40: 10 | I40: 122 | J40: 7 | K40: 48 | L40: 28 | M40: 7 | N40: 3 | O40: 6 | P40: H. Beardall | Q40: 13 | R40: 1 | S40: 0 | T40: 0 | U40: 6 | V40: 0 | W40: 0 | X40: 0 | Y40: 0 | Z40: 0
A41: 40670 | B41: Greys Green (1) | C41: Loss | D41: Home | E41: S. Beardall | F41: Second | G41: 86 | H41: 10 | I41: 122 | J41: 7 | K41: 48 | L41: 28 | M41: 7 | N41: 3 | O41: 7 | P41: S. Beardall | Q41: 6 | R41: 1 | S41: 0 | T41: 0 | U41: 7 | V41: 0 | W41: 0 | X41: 0 | Y41: 0 | Z41: 0
A42: 40670 | B42: Greys Green (1) | C42: Loss | D42: Home | E42: S. Beardall | F42: Second | G42: 86 | H42: 10 | I42: 122 | J42: 7 | K42: 48 | L42: 28 | M42: 7 | N42: 3 | O42: 8 | P42: J. Leefe | Q42: 3 | R42: 1 | S42: 0 | T42: 0 | U42: 8 | V42: 0 | W42: 0 | X42: 0 | Y42: 0 | Z42: 0
A43: 40670 | B43: Greys Green (1) | C43: Loss | D43: Home | E43: S. Beardall | F43: Second | G43: 86 | H43: 10 | I43: 122 | J43: 7 | K43: 48 | L43: 28 | M43: 7 | N43: 3 | O43: 9 | P43: N. Henry | Q43: 6 | R43: 1 | S43: 0 | T43: 0 | U43: 9 | V43: 0 | W43: 0 | X43: 0 | Y43: 0 | Z43: 0
A44: 40670 | B44: Greys Green (1) | C44: Loss | D44: Home | E44: S. Beardall | F44: Second | G44: 86 | H44: 10 | I44: 122 | J44: 7 | K44: 48 | L44: 28 | M44: 7 | N44: 3 | O44: 10 | P44: T. White | Q44: 0 | R44: 0 | S44: 0 | T44: 0 | U44: 10 | V44: 0 | W44: 0 | X44: 0 | Y44: 0 | Z44: 0
A45: 40670 | B45: Greys Green (1) | C45: Loss | D45: Home | E45: S. Beardall | F45: Second | G45: 86 | H45: 10 | I45: 122 | J45: 7 | K45: 48 | L45: 28 | M45: 7 | N45: 3 | O45: 11 | P45: B. Bazell | Q45: 0 | R45: 1 | S45: 0 | T45: 0 | U45: 11 | V45: 0 | W45: 0 | X45: 0 | Y45: 0 | Z45: 0
A46: 40677 | B46: Crazies Hill | C46: Draw | D46: Away | E46: S. Beardall | F46: Second | G46: 123 | H46: 6 | I46: 222 | J46: 6 | K46: 36 | L46: 36 | M46: 10 | N46: 4 | O46: 1 | P46: C. Simon | Q46: 7 | R46: 1 | S46: 0 | T46: 0 | U46: 1 | V46: J. Leefe | W46: 9 | X46: 0 | Y46: 2 | Z46: 35
A47: 40677 | B47: Crazies Hill | C47: Draw | D47: Away | E47: S. Beardall | F47: Second | G47: 123 | H47: 6 | I47: 222 | J47: 6 | K47: 36 | L47: 36 | M47: 10 | N47: 4 | O47: 2 | P47: S. Bucknill | Q47: 1 | R47: 1 | S47: 0 | T47: 0 | U47: 2 | V47: S. Beardall | W47: 9 | X47: 0 | Y47: 2 | Z47: 66
A48: 40677 | B48: Crazies Hill | C48: Draw | D48: Away | E48: S. Beardall | F48: Second | G48: 123 | H48: 6 | I48: 222 | J48: 6 | K48: 36 | L48: 36 | M48: 10 | N48: 4 | O48: 3 | P48: S. Beardall | Q48: 14 | R48: 1 | S48: 0 | T48: 0 | U48: 3 | V48: A. Harvey-Thompson | W48: 13 | X48: 1 | Y48: 2 | Z48: 62
A49: 40677 | B49: Crazies Hill | C49: Draw | D49: Away | E49: S. Beardall | F49: Second | G49: 123 | H49: 6 | I49: 222 | J49: 6 | K49: 36 | L49: 36 | M49: 10 | N49: 4 | O49: 4 | P49: Ro. Dickie | Q49: 7 | R49: 1 | S49: 0 | T49: 0 | U49: 4 | V49: N. Runkel | W49: 4 | X49: 0 | Y49: 0 | Z49: 48
A50: 40677 | B50: Crazies Hill | C50: Draw | D50: Away | E50: S. Beardall | F50: Second | G50: 123 | H50: 6 | I50: 222 | J50: 6 | K50: 36 | L50: 36 | M50: 10 | N50: 4 | O50: 5 | P50: O. Brett | Q50: 21 | R50: 1 | S50: 0 | T50: 0 | U50: 5 | V50: O. Brett | W50: 1 | X50: 0 | Y50: 0 | Z50: 7
A51: 40677 | B51: Crazies Hill | C51: Draw | D51: Away | E51: S. Beardall | F51: Second | G51: 123 | H51: 6 | I51: 222 | J51: 6 | K51: 36 | L51: 36 | M51: 10 | N51: 4 | O51: 6 | P51: B. Bazell | Q51: 61 | R51: 1 | S51: 1 | T51: 0 | U51: 6 | V51: 0 | W51: 0 | X51: 0 | Y51: 0 | Z51: 0
A52: 40677 | B52: Crazies Hill | C52: Draw | D52: Away | E52: S. Beardall | F52: Second | G52: 123 | H52: 6 | I52: 222 | J52: 6 | K52: 36 | L52: 36 | M52: 10 | N52: 4 | O52: 7 | P52: J. Leefe | Q52: 1 | R52: 0 | S52: 0 | T52: 0 | U52: 7 | V52: 0 | W52: 0 | X52: 0 | Y52: 0 | Z52: 0
A53: 40677 | B53: Crazies Hill | C53: Draw | D53: Away | E53: S. Beardall | F53: Second | G53: 123 | H53: 6 | I53: 222 | J53: 6 | K53: 36 | L53: 36 | M53: 10 | N53: 4 | O53: 8 | P53: Ra. Dickie | Q53: 1 | R53: 0 | S53: 0 | T53: 0 | U53: 8 | V53: 0 | W53: 0 | X53: 0 | Y53: 0 | Z53: 0
A54: 40677 | B54: Crazies Hill | C54: Draw | D54: Away | E54: S. Beardall | F54: Second | G54: 123 | H54: 6 | I54: 222 | J54: 6 | K54: 36 | L54: 36 | M54: 10 | N54: 4 | O54: 9 | P54: 0 | Q54: 0 | R54: 0 | S54: 0 | T54: 0 | U54: 9 | V54: 0 | W54: 0 | X54: 0 | Y54: 0 | Z54: 0
A55: 40677 | B55: Crazies Hill | C55: Draw | D55: Away | E55: S. Beardall | F55: Second | G55: 123 | H55: 6 | I55: 222 | J55: 6 | K55: 36 | L55: 36 | M55: 10 | N55: 4 | O55: 10 | P55: 0 | Q55: 0 | R55: 0 | S55: 0 | T55: 0 | U55: 10 | V55: 0 | W55: 0 | X55: 0 | Y55: 0 | Z55: 0
A56: 40677 | B56: Crazies Hill | C56: Draw | D56: Away | E56: S. Beardall | F56: Second | G56: 123 | H56: 6 | I56: 222 | J56: 6 | K56: 36 | L56: 36 | M56: 10 | N56: 4 | O56: 11 | P56: 0 | Q56: 0 | R56: 0 | S56: 0 | T56: 0 | U56: 11 | V56: 0 | W56: 0 | X56: 0 | Y56: 0 | Z56: 0
A57: 40678 | B57: Britwell Salome | C57: Draw | D57: Away | E57: S. Beardall | F57: First | G57: 297 | H57: 6 | I57: 163 | J57: 8 | K57: 39 | L57: 34 | M57: 19 | N57: 25 | O57: 1 | P57: P. Briffett | Q57: 2 | R57: 1 | S57: 0 | T57: 0 | U57: 1 | V57: J. Leefe | W57: 10 | X57: 0 | Y57: 3 | Z57: 42
A58: 40678 | B58: Britwell Salome | C58: Draw | D58: Away | E58: S. Beardall | F58: First | G58: 297 | H58: 6 | I58: 163 | J58: 8 | K58: 39 | L58: 34 | M58: 19 | N58: 25 | O58: 2 | P58: A. Bignell | Q58: 0 | R58: 1 | S58: 0 | T58: 0 | U58: 2 | V58: S. Beardall | W58: 7 | X58: 1 | Y58: 1 | Z58: 28
A59: 40678 | B59: Britwell Salome | C59: Draw | D59: Away | E59: S. Beardall | F59: First | G59: 297 | H59: 6 | I59: 163 | J59: 8 | K59: 39 | L59: 34 | M59: 19 | N59: 25 | O59: 3 | P59: R. Gunn | Q59: 8 | R59: 1 | S59: 0 | T59: 0 | U59: 3 | V59: A. Bignell | W59: 10 | X59: 4 | Y59: 3 | Z59: 23
A60: 40678 | B60: Britwell Salome | C60: Draw | D60: Away | E60: S. Beardall | F60: First | G60: 297 | H60: 6 | I60: 163 | J60: 8 | K60: 39 | L60: 34 | M60: 19 | N60: 25 | O60: 4 | P60: J. Hunt | Q60: 149 | R60: 0 | S60: 0 | T60: 1 | U60: 4 | V60: P. Briffett | W60: 3 | X60: 0 | Y60: 0 | Z60: 33
A61: 40678 | B61: Britwell Salome | C61: Draw | D61: Away | E61: S. Beardall | F61: First | G61: 297 | H61: 6 | I61: 163 | J61: 8 | K61: 39 | L61: 34 | M61: 19 | N61: 25 | O61: 5 | P61: J. Hancock | Q61: 95 | R61: 1 | S61: 1 | T61: 0 | U61: 5 | V61: D. Stockings | W61: 3 | X61: 1 | Y61: 0 | Z61: 4
A62: 40678 | B62: Britwell Salome | C62: Draw | D62: Away | E62: S. Beardall | F62: First | G62: 297 | H62: 6 | I62: 163 | J62: 8 | K62: 39 | L62: 34 | M62: 19 | N62: 25 | O62: 6 | P62: D. Hyman | Q62: 14 | R62: 1 | S62: 0 | T62: 0 | U62: 6 | V62: J. Hancock | W62: 3 | X62: 1 | Y62: 0 | Z62: 5
A63: 40678 | B63: Britwell Salome | C63: Draw | D63: Away | E63: S. Beardall | F63: First | G63: 297 | H63: 6 | I63: 163 | J63: 8 | K63: 39 | L63: 34 | M63: 19 | N63: 25 | O63: 7 | P63: D. Stockings | Q63: 10 | R63: 1 | S63: 0 | T63: 0 | U63: 7 | V63: J. Hunt | W63: 3 | X63: 1 | Y63: 1 | Z63: 3
A64: 40678 | B64: Britwell Salome | C64: Draw | D64: Away | E64: S. Beardall | F64: First | G64: 297 | H64: 6 | I64: 163 | J64: 8 | K64: 39 | L64: 34 | M64: 19 | N64: 25 | O64: 8 | P64: 0 | Q64: 0 | R64: 0 | S64: 0 | T64: 0 | U64: 8 | V64: 0 | W64: 0 | X64: 0 | Y64: 0 | Z64: 0
A65: 40678 | B65: Britwell Salome | C65: Draw | D65: Away | E65: S. Beardall | F65: First | G65: 297 | H65: 6 | I65: 163 | J65: 8 | K65: 39 | L65: 34 | M65: 19 | N65: 25 | O65: 9 | P65: 0 | Q65: 0 | R65: 0 | S65: 0 | T65: 0 | U65: 9 | V65: 0 | W65: 0 | X65: 0 | Y65: 0 | Z65: 0
A66: 40678 | B66: Britwell Salome | C66: Draw | D66: Away | E66: S. Beardall | F66: First | G66: 297 | H66: 6 | I66: 163 | J66: 8 | K66: 39 | L66: 34 | M66: 19 | N66: 25 | O66: 10 | P66: 0 | Q66: 0 | R66: 0 | S66: 0 | T66: 0 | U66: 10 | V66: 0 | W66: 0 | X66: 0 | Y66: 0 | Z66: 0
A67: 40678 | B67: Britwell Salome | C67: Draw | D67: Away | E67: S. Beardall | F67: First | G67: 297 | H67: 6 | I67: 163 | J67: 8 | K67: 39 | L67: 34 | M67: 19 | N67: 25 | O67: 11 | P67: 0 | Q67: 0 | R67: 0 | S67: 0 | T67: 0 | U67: 11 | V67: 0 | W67: 0 | X67: 0 | Y67: 0 | Z67: 0
A68: 40684 | B68: BBC Caversham | C68: Cancelled (Opposition) | D68: Away | E68: 0 | F68: 0 | G68: 0 | H68: 0 | I68: 0 | J68: 0 | K68: 0 | L68: 0 | M68: 0 | N68: 0 | O68: 1 | P68: 0 | Q68: 0 | R68: 0 | S68: 0 | T68: 0 | U68: 1 | V68: 0 | W68: 0 | X68: 0 | Y68: 0 | Z68: 0
A69: 40684 | B69: BBC Caversham | C69: Cancelled (Opposition) | D69: Away | E69: 0 | F69: 0 | G69: 0 | H69: 0 | I69: 0 | J69: 0 | K69: 0 | L69: 0 | M69: 0 | N69: 0 | O69: 2 | P69: 0 | Q69: 0 | R69: 0 | S69: 0 | T69: 0 | U69: 2 | V69: 0 | W69: 0 | X69: 0 | Y69: 0 | Z69: 0
A70: 40684 | B70: BBC Caversham | C70: Cancelled (Opposition) | D70: Away | E70: 0 | F70: 0 | G70: 0 | H70: 0 | I70: 0 | J70: 0 | K70: 0 | L70: 0 | M70: 0 | N70: 0 | O70: 3 | P70: 0 | Q70: 0 | R70: 0 | S70: 0 | T70: 0 | U70: 3 | V70: 0 | W70: 0 | X70: 0 | Y70: 0 | Z70: 0
A71: 40684 | B71: BBC Caversham | C71: Cancelled (Opposition) | D71: Away | E71: 0 | F71: 0 | G71: 0 | H71: 0 | I71: 0 | J71: 0 | K71: 0 | L71: 0 | M71: 0 | N71: 0 | O71: 4 | P71: 0 | Q71: 0 | R71: 0 | S71: 0 | T71: 0 | U71: 4 | V71: 0 | W71: 0 | X71: 0 | Y71: 0 | Z71: 0
A72: 40684 | B72: BBC Caversham | C72: Cancelled (Opposition) | D72: Away | E72: 0 | F72: 0 | G72: 0 | H72: 0 | I72: 0 | J72: 0 | K72: 0 | L72: 0 | M72: 0 | N72: 0 | O72: 5 | P72: 0 | Q72: 0 | R72: 0 | S72: 0 | T72: 0 | U72: 5 | V72: 0 | W72: 0 | X72: 0 | Y72: 0 | Z72: 0
A73: 40684 | B73: BBC Caversham | C73: Cancelled (Opposition) | D73: Away | E73: 0 | F73: 0 | G73: 0 | H73: 0 | I73: 0 | J73: 0 | K73: 0 | L73: 0 | M73: 0 | N73: 0 | O73: 6 | P73: 0 | Q73: 0 | R73: 0 | S73: 0 | T73: 0 | U73: 6 | V73: 0 | W73: 0 | X73: 0 | Y73: 0 | Z73: 0
A74: 40684 | B74: BBC Caversham | C74: Cancelled (Opposition) | D74: Away | E74: 0 | F74: 0 | G74: 0 | H74: 0 | I74: 0 | J74: 0 | K74: 0 | L74: 0 | M74: 0 | N74: 0 | O74: 7 | P74: 0 | Q74: 0 | R74: 0 | S74: 0 | T74: 0 | U74: 7 | V74: 0 | W74: 0 | X74: 0 | Y74: 0 | Z74: 0
A75: 40684 | B75: BBC Caversham | C75: Cancelled (Opposition) | D75: Away | E75: 0 | F75: 0 | G75: 0 | H75: 0 | I75: 0 | J75: 0 | K75: 0 | L75: 0 | M75: 0 | N75: 0 | O75: 8 | P75: 0 | Q75: 0 | R75: 0 | S75: 0 | T75: 0 | U75: 8 | V75: 0 | W75: 0 | X75: 0 | Y75: 0 | Z75: 0
A76: 40684 | B76: BBC Caversham | C76: Cancelled (Opposition) | D76: Away | E76: 0 | F76: 0 | G76: 0 | H76: 0 | I76: 0 | J76: 0 | K76: 0 | L76: 0 | M76: 0 | N76: 0 | O76: 9 | P76: 0 | Q76: 0 | R76: 0 | S76: 0 | T76: 0 | U76: 9 | V76: 0 | W76: 0 | X76: 0 | Y76: 0 | Z76: 0
A77: 40684 | B77: BBC Caversham | C77: Cancelled (Opposition) | D77: Away | E77: 0 | F77: 0 | G77: 0 | H77: 0 | I77: 0 | J77: 0 | K77: 0 | L77: 0 | M77: 0 | N77: 0 | O77: 10 | P77: 0 | Q77: 0 | R77: 0 | S77: 0 | T77: 0 | U77: 10 | V77: 0 | W77: 0 | X77: 0 | Y77: 0 | Z77: 0
