Workbook
Name Names: 'Player Search'!$A$3:$A$123

Sheet Player Search
C2: B. Bazell
A3: B. Bazell
A4: C. Beardall | C4: Bowling | N4: Batting
A5: H. Beardall
A6: R. Beardall | D6: Summary | O6: Summary
A7: S. Beardall | D7: Total Innings | E7: Overs Bowled | F7: Runs Conceded | G7: Maidens | H7: Wickets | I7: Average | J7: Economy | K7: Strike Rate | O7: Total Innings | P7: Total Runs | Q7: High Score | R7: Not Outs | S7: Average | T7: 100s | U7: 50s
A8: A. Bignell | C8: All | D8: Unknown | E8: =SUM(E12:E22) -> 5 | F8: =SUM(F12:F22) -> 25 | G8: =SUM(G12:G22) -> 1 | H8: =SUM(H12:H22) -> 3 | I8: =IF(ISNUMBER(F8/H8)=TRUE,F8/H8,"") -> 8.3333333 | J8: =IF(ISNUMBER(F8/E8)=TRUE,F8/E8,"") -> 5 | K8: =IF(ISNUMBER(E8*6/H8)=TRUE,E8*6/H8,"") -> 10 | N8: All | O8: =SUM(O12:O22) -> 79 | P8: =SUM(P12:P22) -> 1085 | Q8: =MAX(Q12:Q22) -> 113 | R8: =SUM(R12:R22) -> 34 | S8: =IF(ISNUMBER(P8/(O8-R8))=TRUE,P8/(O8-R8),"") -> 24.111111 | T8: =SUM(T12:T22) -> 1 | U8: =SUM(U12:U22) -> 3
A9: B. Boddington
A10: D. Bradman | D10: By Year | O10: By Season
A11: O. Brett | C11: Year | D11: Total Innings | E11: Overs Bowled | F11: Runs Conceded | G11: Maidens | H11: Wickets | I11: Average | J11: Economy | K11: Strike Rate | N11: Year | O11: Total Innings | P11: Total Runs | Q11: High Score | R11: Not Outs | S11: Average | T11: 100s | U11: 50s
A12: W. Brett | C12: 2013 | D12: =IF(ISNUMBER(VLOOKUP($C$2,Bowling!V:AA,2,0))=TRUE,VLOOKUP($C$2,Bowling!V:AA,2,0),"") | E12: =IF(ISNUMBER(VLOOKUP($C$2,Bowling!V:AA,3,0))=TRUE,VLOOKUP($C$2,Bowling!V:AA,3,0),"") | F12: =IF(ISNUMBER(VLOOKUP($C$2,Bowling!V:AA,6,0))=TRUE,VLOOKUP($C$2,Bowling!V:AA,6,0),"") | G12: =IF(ISNUMBER(VLOOKUP($C$2,Bowling!V:AA,4,0))=TRUE,VLOOKUP($C$2,Bowling!V:AA,4,0),"") | H12: =IF(ISNUMBER(VLOOKUP($C$2,Bowling!V:AA,5,0))=TRUE,VLOOKUP($C$2,Bowling!V:AA,5,0),"") | I12: =IF(ISNUMBER(F12/H12)=TRUE,F12/H12,"") | J12: =IF(ISNUMBER(F12/E12)=TRUE,F12/E12,"") | K12: =IF(ISNUMBER(E12*6/H12)=TRUE,E12*6/H12,"") | N12: 2013 | O12: =IF(ISNUMBER(VLOOKUP($C$2,Batting!Y:AE,2,0))=TRUE,VLOOKUP($C$2,Batting!Y:AE,2,0),"") -> 4 | P12: =IF(ISNUMBER(VLOOKUP($C$2,Batting!Y:AE,3,0))=TRUE,VLOOKUP($C$2,Batting!Y:AE,3,0),"") -> 15 | Q12: =IF(ISNUMBER(VLOOKUP($C$2,Batting!Y:AE,4,0))=TRUE,VLOOKUP($C$2,Batting!Y:AE,4,0),"") -> 9 | R12: =IF(ISNUMBER(O12-VLOOKUP($C$2,Batting!Y:AE,5,0))=TRUE,O12-VLOOKUP($C$2,Batting!Y:AE,5,0),"") -> 2 | S12: =IF(ISNUMBER(P12/(O12-R12))=TRUE,P12/(O12-R12),"") -> 7.5 | T12: =IF(ISNUMBER(VLOOKUP($C$2,Batting!Y:AE,6,0))=TRUE,VLOOKUP($C$2,Batting!Y:AE,6,0),"") -> 0 | U12: =IF(ISNUMBER(VLOOKUP($C$2,Batting!Y:AE,7,0))=TRUE,VLOOKUP($C$2,Batting!Y:AE,7,0),"") -> 0
A13: P. Briffett | C13: 2012 | D13: =IF(ISNUMBER(VLOOKUP($C$2,Bowling!H:M,2,0))=TRUE,VLOOKUP($C$2,Bowling!H:M,2,0),"") | E13: =IF(ISNUMBER(VLOOKUP($C$2,Bowling!H:M,3,0))=TRUE,VLOOKUP($C$2,Bowling!H:M,3,0),"") | F13: =IF(ISNUMBER(VLOOKUP($C$2,Bowling!H:M,6,0))=TRUE,VLOOKUP($C$2,Bowling!H:M,6,0),"") | G13: =IF(ISNUMBER(VLOOKUP($C$2,Bowling!H:M,4,0))=TRUE,VLOOKUP($C$2,Bowling!H:M,4,0),"") | H13: =IF(ISNUMBER(VLOOKUP($C$2,Bowling!H:M,5,0))=TRUE,VLOOKUP($C$2,Bowling!H:M,5,0),"") | I13: =IF(ISNUMBER(F13/H13)=TRUE,F13/H13,"") | J13: =IF(ISNUMBER(F13/E13)=TRUE,F13/E13,"") | K13: =IF(ISNUMBER(E13*6/H13)=TRUE,E13*6/H13,"") | N13: 2012 | O13: =IF(ISNUMBER(VLOOKUP($C$2,Batting!Q:W,2,0))=TRUE,VLOOKUP($C$2,Batting!Q:W,2,0),"") -> 3 | P13: =IF(ISNUMBER(VLOOKUP($C$2,Batting!Q:W,3,0))=TRUE,VLOOKUP($C$2,Batting!Q:W,3,0),"") -> 22 | Q13: =IF(ISNUMBER(VLOOKUP($C$2,Batting!Q:W,4,0))=TRUE,VLOOKUP($C$2,Batting!Q:W,4,0),"") -> 9 | R13: =IF(ISNUMBER(O13-VLOOKUP($C$2,Batting!Q:W,5,0))=TRUE,O13-VLOOKUP($C$2,Batting!Q:W,5,0),"") -> 1 | S13: =IF(ISNUMBER(P13/(O13-R13))=TRUE,P13/(O13-R13),"") -> 11 | T13: =IF(ISNUMBER(VLOOKUP($C$2,Batting!Q:W,6,0))=TRUE,VLOOKUP($C$2,Batting!Q:W,6,0),"") -> 0 | U13: =IF(ISNUMBER(VLOOKUP($C$2,Batting!Q:W,7,0))=TRUE,VLOOKUP($C$2,Batting!Q:W,7,0),"") -> 0
A14: B. Bucknill | C14: 2011 | D14: =IF(ISNUMBER(VLOOKUP($C$2,Bowling!O:T,2,0))=TRUE,VLOOKUP($C$2,Bowling!O:T,2,0),"") -> 1 | E14: =IF(ISNUMBER(VLOOKUP($C$2,Bowling!O:T,3,0))=TRUE,VLOOKUP($C$2,Bowling!O:T,3,0),"") -> 1 | F14: =IF(ISNUMBER(VLOOKUP($C$2,Bowling!O:T,6,0))=TRUE,VLOOKUP($C$2,Bowling!O:T,6,0),"") -> 3 | G14: =IF(ISNUMBER(VLOOKUP($C$2,Bowling!O:T,4,0))=TRUE,VLOOKUP($C$2,Bowling!O:T,4,0),"") -> 0 | H14: =IF(ISNUMBER(VLOOKUP($C$2,Bowling!O:T,5,0))=TRUE,VLOOKUP($C$2,Bowling!O:T,5,0),"") -> 1 | I14: =IF(ISNUMBER(F14/H14)=TRUE,F14/H14,"") -> 3 | J14: =IF(ISNUMBER(F14/E14)=TRUE,F14/E14,"") -> 3 | K14: =IF(ISNUMBER(E14*6/H14)=TRUE,E14*6/H14,"") -> 6 | N14: 2011 | O14: =IF(ISNUMBER(VLOOKUP($C$2,Batting!I:O,2,0))=TRUE,VLOOKUP($C$2,Batting!I:O,2,0),"") -> 7 | P14: =IF(ISNUMBER(VLOOKUP($C$2,Batting!I:O,3,0))=TRUE,VLOOKUP($C$2,Batting!I:O,3,0),"") -> 127 | Q14: =IF(ISNUMBER(VLOOKUP($C$2,Batting!I:O,4,0))=TRUE,VLOOKUP($C$2,Batting!I:O,4,0),"") -> 61 | R14: =IF(ISNUMBER(O14-VLOOKUP($C$2,Batting!I:O,5,0))=TRUE,O14-VLOOKUP($C$2,Batting!I:O,5,0),"") -> 4 | S14: =IF(ISNUMBER(P14/(O14-R14))=TRUE,P14/(O14-R14),"") -> 42.333333 | T14: =IF(ISNUMBER(VLOOKUP($C$2,Batting!I:O,6,0))=TRUE,VLOOKUP($C$2,Batting!I:O,6,0),"") -> 0 | U14: =IF(ISNUMBER(VLOOKUP($C$2,Batting!I:O,7,0))=TRUE,VLOOKUP($C$2,Batting!I:O,7,0),"") -> 1
A15: S. Bucknill | C15: 2010 | D15: Unknown | E15: =IF(ISNUMBER(VLOOKUP($C$2,'2010'!$K$3:$O$41,2,0))=TRUE,VLOOKUP($C$2,'2010'!$K$3:$O$41,2,0),"") | F15: =IF(ISNUMBER(VLOOKUP($C$2,'2010'!$K$3:$O$41,3,0))=TRUE,VLOOKUP($C$2,'2010'!$K$3:$O$41,3,0),"") | G15: =IF(ISNUMBER(VLOOKUP($C$2,'2010'!$K$3:$O$41,4,0))=TRUE,VLOOKUP($C$2,'2010'!$K$3:$O$41,4,0),"") | H15: =IF(ISNUMBER(VLOOKUP($C$2,'2010'!$K$3:$O$41,5,0))=TRUE,VLOOKUP($C$2,'2010'!$K$3:$O$41,5,0),"") | I15: =IF(ISNUMBER(F15/H15)=TRUE,F15/H15,"") | J15: =IF(ISNUMBER(F15/E15)=TRUE,F15/E15,"") | K15: =IF(ISNUMBER(E15*6/H15)=TRUE,E15*6/H15,"") | N15: 2010 | O15: =IF(ISNUMBER(VLOOKUP($C$2,'2010'!$A$3:$H$60,2,0))=TRUE,VLOOKUP($C$2,'2010'!$A$3:$H$60,2,0),"") -> 9 | P15: =IF(ISNUMBER(VLOOKUP($C$2,'2010'!$A$3:$H$60,3,0))=TRUE,VLOOKUP($C$2,'2010'!$A$3:$H$60,3,0),"") -> 74 | Q15: =IF(ISNUMBER(VLOOKUP($C$2,'2010'!$A$3:$H$60,4,0))=TRUE,VLOOKUP($C$2,'2010'!$A$3:$H$60,4,0),"") -> 21 | R15: =IF(ISNUMBER(VLOOKUP($C$2,'2010'!$A$3:$H$60,5,0))=TRUE,VLOOKUP($C$2,'2010'!$A$3:$H$60,5,0),"") -> 4 | S15: =IF(ISNUMBER(P15/(O15-R15))=TRUE,P15/(O15-R15),"") -> 14.8 | T15: =IF(ISNUMBER(VLOOKUP($C$2,'2010'!$A$3:$H$60,7,0))=TRUE,VLOOKUP($C$2,'2010'!$A$3:$H$60,7,0),"") -> 0 | U15: =IF(ISNUMBER(VLOOKUP($C$2,'2010'!$A$3:$H$60,8,0))=TRUE,VLOOKUP($C$2,'2010'!$A$3:$H$60,8,0),"") -> 0
A16: T. Buys | C16: 2009 | D16: Unknown | E16: =IF(ISNUMBER(VLOOKUP($C$2,'2009'!$K$3:$O$43,2,0))=TRUE,VLOOKUP($C$2,'2009'!$K$3:$O$43,2,0),"") | F16: =IF(ISNUMBER(VLOOKUP($C$2,'2009'!$K$3:$O$43,3,0))=TRUE,VLOOKUP($C$2,'2009'!$K$3:$O$43,3,0),"") | G16: =IF(ISNUMBER(VLOOKUP($C$2,'2009'!$K$3:$O$43,4,0))=TRUE,VLOOKUP($C$2,'2009'!$K$3:$O$43,4,0),"") | H16: =IF(ISNUMBER(VLOOKUP($C$2,'2009'!$K$3:$O$43,5,0))=TRUE,VLOOKUP($C$2,'2009'!$K$3:$O$43,5,0),"") | I16: =IF(ISNUMBER(F16/H16)=TRUE,F16/H16,"") | J16: =IF(ISNUMBER(F16/E16)=TRUE,F16/E16,"") | K16: =IF(ISNUMBER(E16*6/H16)=TRUE,E16*6/H16,"") | N16: 2009 | O16: =IF(ISNUMBER(VLOOKUP($C$2,'2009'!$A$3:$H$60,2,0))=TRUE,VLOOKUP($C$2,'2009'!$A$3:$H$60,2,0),"") -> 10 | P16: =IF(ISNUMBER(VLOOKUP($C$2,'2009'!$A$3:$H$60,3,0))=TRUE,VLOOKUP($C$2,'2009'!$A$3:$H$60,3,0),"") -> 138 | Q16: =IF(ISNUMBER(VLOOKUP($C$2,'2009'!$A$3:$H$60,4,0))=TRUE,VLOOKUP($C$2,'2009'!$A$3:$H$60,4,0),"") -> 26 | R16: =IF(ISNUMBER(VLOOKUP($C$2,'2009'!$A$3:$H$60,5,0))=TRUE,VLOOKUP($C$2,'2009'!$A$3:$H$60,5,0),"") -> 5 | S16: =IF(ISNUMBER(P16/(O16-R16))=TRUE,P16/(O16-R16),"") -> 27.6 | T16: =IF(ISNUMBER(VLOOKUP($C$2,'2009'!$A$3:$H$60,7,0))=TRUE,VLOOKUP($C$2,'2009'!$A$3:$H$60,7,0),"") -> 0 | U16: =IF(ISNUMBER(VLOOKUP($C$2,'2009'!$A$3:$H$60,8,0))=TRUE,VLOOKUP($C$2,'2009'!$A$3:$H$60,8,0),"") -> 0
A17: G. Calenbourne | C17: 2008 | D17: Unknown | E17: =IF(ISNUMBER(VLOOKUP($C$2,'2008'!$K$3:$O$40,2,0))=TRUE,VLOOKUP($C$2,'2008'!$K$3:$O$40,2,0),"") | F17: =IF(ISNUMBER(VLOOKUP($C$2,'2008'!$K$3:$O$40,3,0))=TRUE,VLOOKUP($C$2,'2008'!$K$3:$O$40,3,0),"") | G17: =IF(ISNUMBER(VLOOKUP($C$2,'2008'!$K$3:$O$40,4,0))=TRUE,VLOOKUP($C$2,'2008'!$K$3:$O$40,4,0),"") | H17: =IF(ISNUMBER(VLOOKUP($C$2,'2008'!$K$3:$O$40,5,0))=TRUE,VLOOKUP($C$2,'2008'!$K$3:$O$40,5,0),"") | I17: =IF(ISNUMBER(F17/H17)=TRUE,F17/H17,"") | J17: =IF(ISNUMBER(F17/E17)=TRUE,F17/E17,"") | K17: =IF(ISNUMBER(E17*6/H17)=TRUE,E17*6/H17,"") | N17: 2008 | O17: =IF(ISNUMBER(VLOOKUP($C$2,'2008'!$A$3:$H$60,2,0))=TRUE,VLOOKUP($C$2,'2008'!$A$3:$H$60,2,0),"") -> 9 | P17: =IF(ISNUMBER(VLOOKUP($C$2,'2008'!$A$3:$H$60,3,0))=TRUE,VLOOKUP($C$2,'2008'!$A$3:$H$60,3,0),"") -> 80 | Q17: =IF(ISNUMBER(VLOOKUP($C$2,'2008'!$A$3:$H$60,4,0))=TRUE,VLOOKUP($C$2,'2008'!$A$3:$H$60,4,0),"") -> 25 | R17: =IF(ISNUMBER(VLOOKUP($C$2,'2008'!$A$3:$H$60,5,0))=TRUE,VLOOKUP($C$2,'2008'!$A$3:$H$60,5,0),"") -> 4 | S17: =IF(ISNUMBER(P17/(O17-R17))=TRUE,P17/(O17-R17),"") -> 16 | T17: =IF(ISNUMBER(VLOOKUP($C$2,'2008'!$A$3:$H$60,7,0))=TRUE,VLOOKUP($C$2,'2008'!$A$3:$H$60,7,0),"") -> 0 | U17: =IF(ISNUMBER(VLOOKUP($C$2,'2008'!$A$3:$H$60,8,0))=TRUE,VLOOKUP($C$2,'2008'!$A$3:$H$60,8,0),"") -> 0
A18: C. Carne | C18: 2007 | D18: Unknown | E18: =IF(ISNUMBER(VLOOKUP($C$2,'2007'!$K$3:$O$35,2,0))=TRUE,VLOOKUP($C$2,'2007'!$K$3:$O$35,2,0),"") | F18: =IF(ISNUMBER(VLOOKUP($C$2,'2007'!$K$3:$O$35,3,0))=TRUE,VLOOKUP($C$2,'2007'!$K$3:$O$35,3,0),"") | G18: =IF(ISNUMBER(VLOOKUP($C$2,'2007'!$K$3:$O$35,4,0))=TRUE,VLOOKUP($C$2,'2007'!$K$3:$O$35,4,0),"") | H18: =IF(ISNUMBER(VLOOKUP($C$2,'2007'!$K$3:$O$35,5,0))=TRUE,VLOOKUP($C$2,'2007'!$K$3:$O$35,5,0),"") | I18: =IF(ISNUMBER(F18/H18)=TRUE,F18/H18,"") | J18: =IF(ISNUMBER(F18/E18)=TRUE,F18/E18,"") | K18: =IF(ISNUMBER(E18*6/H18)=TRUE,E18*6/H18,"") | N18: 2007 | O18: =IF(ISNUMBER(VLOOKUP($C$2,'2007'!$A$3:$H$60,2,0))=TRUE,VLOOKUP($C$2,'2007'!$A$3:$H$60,2,0),"") -> 6 | P18: =IF(ISNUMBER(VLOOKUP($C$2,'2007'!$A$3:$H$60,3,0))=TRUE,VLOOKUP($C$2,'2007'!$A$3:$H$60,3,0),"") -> 40 | Q18: =IF(ISNUMBER(VLOOKUP($C$2,'2007'!$A$3:$H$60,4,0))=TRUE,VLOOKUP($C$2,'2007'!$A$3:$H$60,4,0),"") -> 16 | R18: =IF(ISNUMBER(VLOOKUP($C$2,'2007'!$A$3:$H$60,5,0))=TRUE,VLOOKUP($C$2,'2007'!$A$3:$H$60,5,0),"") -> 5 | S18: =IF(ISNUMBER(P18/(O18-R18))=TRUE,P18/(O18-R18),"") -> 40 | T18: =IF(ISNUMBER(VLOOKUP($C$2,'2007'!$A$3:$H$60,7,0))=TRUE,VLOOKUP($C$2,'2007'!$A$3:$H$60,7,0),"") -> 0 | U18: =IF(ISNUMBER(VLOOKUP($C$2,'2007'!$A$3:$H$60,8,0))=TRUE,VLOOKUP($C$2,'2007'!$A$3:$H$60,8,0),"") -> 0
A19: J. Crook | C19: 2006 | D19: Unknown | E19: =IF(ISNUMBER(VLOOKUP($C$2,'2006'!$K$3:$O$40,2,0))=TRUE,VLOOKUP($C$2,'2006'!$K$3:$O$40,2,0),"") -> 4 | F19: =IF(ISNUMBER(VLOOKUP($C$2,'2006'!$K$3:$O$40,3,0))=TRUE,VLOOKUP($C$2,'2006'!$K$3:$O$40,3,0),"") -> 22 | G19: =IF(ISNUMBER(VLOOKUP($C$2,'2006'!$K$3:$O$40,4,0))=TRUE,VLOOKUP($C$2,'2006'!$K$3:$O$40,4,0),"") -> 1 | H19: =IF(ISNUMBER(VLOOKUP($C$2,'2006'!$K$3:$O$40,5,0))=TRUE,VLOOKUP($C$2,'2006'!$K$3:$O$40,5,0),"") -> 2 | I19: =IF(ISNUMBER(F19/H19)=TRUE,F19/H19,"") -> 11 | J19: =IF(ISNUMBER(F19/E19)=TRUE,F19/E19,"") -> 5.5 | K19: =IF(ISNUMBER(E19*6/H19)=TRUE,E19*6/H19,"") -> 12 | N19: 2006 | O19: =IF(ISNUMBER(VLOOKUP($C$2,'2006'!$A$3:$H$60,2,0))=TRUE,VLOOKUP($C$2,'2006'!$A$3:$H$60,2,0),"") -> 6 | P19: =IF(ISNUMBER(VLOOKUP($C$2,'2006'!$A$3:$H$60,3,0))=TRUE,VLOOKUP($C$2,'2006'!$A$3:$H$60,3,0),"") -> 53 | Q19: =IF(ISNUMBER(VLOOKUP($C$2,'2006'!$A$3:$H$60,4,0))=TRUE,VLOOKUP($C$2,'2006'!$A$3:$H$60,4,0),"") -> 25 | R19: =IF(ISNUMBER(VLOOKUP($C$2,'2006'!$A$3:$H$60,5,0))=TRUE,VLOOKUP($C$2,'2006'!$A$3:$H$60,5,0),"") -> 2 | S19: =IF(ISNUMBER(P19/(O19-R19))=TRUE,P19/(O19-R19),"") -> 13.25 | T19: =IF(ISNUMBER(VLOOKUP($C$2,'2006'!$A$3:$H$60,7,0))=TRUE,VLOOKUP($C$2,'2006'!$A$3:$H$60,7,0),"") -> 0 | U19: =IF(ISNUMBER(VLOOKUP($C$2,'2006'!$A$3:$H$60,8,0))=TRUE,VLOOKUP($C$2,'2006'!$A$3:$H$60,8,0),"") -> 0
A20: H. De Zulueta | C20: 2005 | D20: Unknown | E20: =IF(ISNUMBER(VLOOKUP($C$2,'2005'!$K$3:$O$39,2,0))=TRUE,VLOOKUP($C$2,'2005'!$K$3:$O$39,2,0),"") | F20: =IF(ISNUMBER(VLOOKUP($C$2,'2005'!$K$3:$O$39,3,0))=TRUE,VLOOKUP($C$2,'2005'!$K$3:$O$39,3,0),"") | G20: =IF(ISNUMBER(VLOOKUP($C$2,'2005'!$K$3:$O$39,4,0))=TRUE,VLOOKUP($C$2,'2005'!$K$3:$O$39,4,0),"") | H20: =IF(ISNUMBER(VLOOKUP($C$2,'2005'!$K$3:$O$39,5,0))=TRUE,VLOOKUP($C$2,'2005'!$K$3:$O$39,5,0),"") | I20: =IF(ISNUMBER(F20/H20)=TRUE,F20/H20,"") | J20: =IF(ISNUMBER(F20/E20)=TRUE,F20/E20,"") | K20: =IF(ISNUMBER(E20*6/H20)=TRUE,E20*6/H20,"") | N20: 2005 | O20: =IF(ISNUMBER(VLOOKUP($C$2,'2005'!$A$3:$H$60,2,0))=TRUE,VLOOKUP($C$2,'2005'!$A$3:$H$60,2,0),"") -> 3 | P20: =IF(ISNUMBER(VLOOKUP($C$2,'2005'!$A$3:$H$60,3,0))=TRUE,VLOOKUP($C$2,'2005'!$A$3:$H$60,3,0),"") -> 15 | Q20: =IF(ISNUMBER(VLOOKUP($C$2,'2005'!$A$3:$H$60,4,0))=TRUE,VLOOKUP($C$2,'2005'!$A$3:$H$60,4,0),"") -> 10 | R20: =IF(ISNUMBER(VLOOKUP($C$2,'2005'!$A$3:$H$60,5,0))=TRUE,VLOOKUP($C$2,'2005'!$A$3:$H$60,5,0),"") -> 2 | S20: =IF(ISNUMBER(P20/(O20-R20))=TRUE,P20/(O20-R20),"") -> 15 | T20: =IF(ISNUMBER(VLOOKUP($C$2,'2005'!$A$3:$H$60,7,0))=TRUE,VLOOKUP($C$2,'2005'!$A$3:$H$60,7,0),"") -> 0 | U20: =IF(ISNUMBER(VLOOKUP($C$2,'2005'!$A$3:$H$60,8,0))=TRUE,VLOOKUP($C$2,'2005'!$A$3:$H$60,8,0),"") -> 0
A21: P. De Zulueta | C21: 2004 | D21: Unknown | E21: =IF(ISNUMBER(VLOOKUP($C$2,'2004'!$K$3:$O$39,2,0))=TRUE,VLOOKUP($C$2,'2004'!$K$3:$O$39,2,0),"") | F21: =IF(ISNUMBER(VLOOKUP($C$2,'2004'!$K$3:$O$39,3,0))=TRUE,VLOOKUP($C$2,'2004'!$K$3:$O$39,3,0),"") | G21: =IF(ISNUMBER(VLOOKUP($C$2,'2004'!$K$3:$O$39,4,0))=TRUE,VLOOKUP($C$2,'2004'!$K$3:$O$39,4,0),"") | H21: =IF(ISNUMBER(VLOOKUP($C$2,'2004'!$K$3:$O$39,5,0))=TRUE,VLOOKUP($C$2,'2004'!$K$3:$O$39,5,0),"") | I21: =IF(ISNUMBER(F21/H21)=TRUE,F21/H21,"") | J21: =IF(ISNUMBER(F21/E21)=TRUE,F21/E21,"") | K21: =IF(ISNUMBER(E21*6/H21)=TRUE,E21*6/H21,"") | N21: 2004 | O21: =IF(ISNUMBER(VLOOKUP($C$2,'2004'!$A$3:$H$60,2,0))=TRUE,VLOOKUP($C$2,'2004'!$A$3:$H$60,2,0),"") -> 11 | P21: =IF(ISNUMBER(VLOOKUP($C$2,'2004'!$A$3:$H$60,3,0))=TRUE,VLOOKUP($C$2,'2004'!$A$3:$H$60,3,0),"") -> 122 | Q21: =IF(ISNUMBER(VLOOKUP($C$2,'2004'!$A$3:$H$60,4,0))=TRUE,VLOOKUP($C$2,'2004'!$A$3:$H$60,4,0),"") -> 37 | R21: =IF(ISNUMBER(VLOOKUP($C$2,'2004'!$A$3:$H$60,5,0))=TRUE,VLOOKUP($C$2,'2004'!$A$3:$H$60,5,0),"") -> 2 | S21: =IF(ISNUMBER(P21/(O21-R21))=TRUE,P21/(O21-R21),"") -> 13.555556 | T21: =IF(ISNUMBER(VLOOKUP($C$2,'2004'!$A$3:$H$60,7,0))=TRUE,VLOOKUP($C$2,'2004'!$A$3:$H$60,7,0),"") -> 0 | U21: =IF(ISNUMBER(VLOOKUP($C$2,'2004'!$A$3:$H$60,8,0))=TRUE,VLOOKUP($C$2,'2004'!$A$3:$H$60,8,0),"") -> 0
A22: Ra. Dickie | C22: 2003 | D22: Unknown | E22: =IF(ISNUMBER(VLOOKUP($C$2,'2003'!$K$3:$O$22,2,0))=TRUE,VLOOKUP($C$2,'2003'!$K$3:$O$22,2,0),"") | F22: =IF(ISNUMBER(VLOOKUP($C$2,'2003'!$K$3:$O$22,3,0))=TRUE,VLOOKUP($C$2,'2003'!$K$3:$O$22,3,0),"") | G22: =IF(ISNUMBER(VLOOKUP($C$2,'2003'!$K$3:$O$22,4,0))=TRUE,VLOOKUP($C$2,'2003'!$K$3:$O$22,4,0),"") | H22: =IF(ISNUMBER(VLOOKUP($C$2,'2003'!$K$3:$O$22,5,0))=TRUE,VLOOKUP($C$2,'2003'!$K$3:$O$22,5,0),"") | I22: =IF(ISNUMBER(F22/H22)=TRUE,F22/H22,"") | J22: =IF(ISNUMBER(F22/E22)=TRUE,F22/E22,"") | K22: =IF(ISNUMBER(E22*6/H22)=TRUE,E22*6/H22,"") | N22: 2003 | O22: =IF(ISNUMBER(VLOOKUP($C$2,'2003'!$A$3:$H$60,2,0))=TRUE,VLOOKUP($C$2,'2003'!$A$3:$H$60,2,0),"") -> 11 | P22: =IF(ISNUMBER(VLOOKUP($C$2,'2003'!$A$3:$H$60,3,0))=TRUE,VLOOKUP($C$2,'2003'!$A$3:$H$60,3,0),"") -> 399 | Q22: =IF(ISNUMBER(VLOOKUP($C$2,'2003'!$A$3:$H$60,4,0))=TRUE,VLOOKUP($C$2,'2003'!$A$3:$H$60,4,0),"") -> 113 | R22: =IF(ISNUMBER(VLOOKUP($C$2,'2003'!$A$3:$H$60,5,0))=TRUE,VLOOKUP($C$2,'2003'!$A$3:$H$60,5,0),"") -> 3 | S22: =IF(ISNUMBER(P22/(O22-R22))=TRUE,P22/(O22-R22),"") -> 49.875 | T22: =IF(ISNUMBER(VLOOKUP($C$2,'2003'!$A$3:$H$60,7,0))=TRUE,VLOOKUP($C$2,'2003'!$A$3:$H$60,7,0),"") -> 1 | U22: =IF(ISNUMBER(VLOOKUP($C$2,'2003'!$A$3:$H$60,8,0))=TRUE,VLOOKUP($C$2,'2003'!$A$3:$H$60,8,0),"") -> 2
A23: Ro. Dickie
A24: A. Eykyn | C24: 2011 (Inclusive) Onwards
A25: T. Farley
A26: S. Flakelar | D26: By Location | O26: By Location
A27: T. Foot | C27: Location | D27: Total Innings | E27: Overs Bowled | F27: Runs Conceded | G27: Maidens | H27: Wickets | I27: Average | J27: Economy | K27: Strike Rate | N27: Location | O27: Total Innings | P27: Total Runs | Q27: High Score | R27: Not Outs | S27: Average | T27: 100s | U27: 50s
A28: T. Fost | C28: Home | D28: =IF(ISNUMBER(VLOOKUP($C$2,Bowling!AD:AI,2,0))=TRUE,VLOOKUP($C$2,Bowling!AD:AI,2,0),"") | E28: =IF(ISNUMBER(VLOOKUP($C$2,Bowling!AD:AI,3,0))=TRUE,VLOOKUP($C$2,Bowling!AD:AI,3,0),"") | F28: =IF(ISNUMBER(VLOOKUP($C$2,Bowling!AD:AI,6,0))=TRUE,VLOOKUP($C$2,Bowling!AD:AI,6,0),"") | G28: =IF(ISNUMBER(VLOOKUP($C$2,Bowling!AD:AI,4,0))=TRUE,VLOOKUP($C$2,Bowling!AD:AI,4,0),"") | H28: =IF(ISNUMBER(VLOOKUP($C$2,Bowling!AD:AI,5,0))=TRUE,VLOOKUP($C$2,Bowling!AD:AI,5,0),"") | I28: =IF(ISNUMBER(F28/H28)=TRUE,F28/H28,"") | J28: =IF(ISNUMBER(F28/E28)=TRUE,F28/E28,"") | K28: =IF(ISNUMBER(E28*6/H28)=TRUE,E28*6/H28,"") | N28: Home | O28: =IF(ISNUMBER(VLOOKUP($C$2,Batting!AG:AM,2,0))=TRUE,VLOOKUP($C$2,Batting!AG:AM,2,0),"") -> 5 | P28: =IF(ISNUMBER(VLOOKUP($C$2,Batting!AG:AM,3,0))=TRUE,VLOOKUP($C$2,Batting!AG:AM,3,0),"") -> 39 | Q28: =IF(ISNUMBER(VLOOKUP($C$2,Batting!AG:AM,4,0))=TRUE,VLOOKUP($C$2,Batting!AG:AM,4,0),"") -> 20 | R28: =IF(ISNUMBER(O28-VLOOKUP($C$2,Batting!AG:AM,5,0))=TRUE,O28-VLOOKUP($C$2,Batting!AG:AM,5,0),"") -> 3 | S28: =IF(ISNUMBER(P28/(O28-R28))=TRUE,P28/(O28-R28),"") -> 19.5 | T28: =IF(ISNUMBER(VLOOKUP($C$2,Batting!AG:AM,6,0))=TRUE,VLOOKUP($C$2,Batting!AG:AM,6,0),"") -> 0 | U28: =IF(ISNUMBER(VLOOKUP($C$2,Batting!AG:AM,7,0))=TRUE,VLOOKUP($C$2,Batting!AG:AM,7,0),"") -> 0
A29: N. Fox | C29: Away | D29: =IF(ISNUMBER(VLOOKUP($C$2,Bowling!AK:AP,2,0))=TRUE,VLOOKUP($C$2,Bowling!AK:AP,2,0),"") | E29: =IF(ISNUMBER(VLOOKUP($C$2,Bowling!AK:AP,3,0))=TRUE,VLOOKUP($C$2,Bowling!AK:AP,3,0),"") | F29: =IF(ISNUMBER(VLOOKUP($C$2,Bowling!AK:AP,6,0))=TRUE,VLOOKUP($C$2,Bowling!AK:AP,6,0),"") | G29: =IF(ISNUMBER(VLOOKUP($C$2,Bowling!AK:AP,4,0))=TRUE,VLOOKUP($C$2,Bowling!AK:AP,4,0),"") | H29: =IF(ISNUMBER(VLOOKUP($C$2,Bowling!AK:AP,5,0))=TRUE,VLOOKUP($C$2,Bowling!AK:AP,5,0),"") | I29: =IF(ISNUMBER(F29/H29)=TRUE,F29/H29,"") | J29: =IF(ISNUMBER(F29/E29)=TRUE,F29/E29,"") | K29: =IF(ISNUMBER(E29*6/H29)=TRUE,E29*6/H29,"") | N29: Away | O29: =IF(ISNUMBER(VLOOKUP($C$2,Batting!AO:AU,2,0))=TRUE,VLOOKUP($C$2,Batting!AO:AU,2,0),"") -> 7 | P29: =IF(ISNUMBER(VLOOKUP($C$2,Batting!AO:AU,3,0))=TRUE,VLOOKUP($C$2,Batting!AO:AU,3,0),"") -> 92 | Q29: =IF(ISNUMBER(VLOOKUP($C$2,Batting!AO:AU,4,0))=TRUE,VLOOKUP($C$2,Batting!AO:AU,4,0),"") -> 61 | R29: =IF(ISNUMBER(O29-VLOOKUP($C$2,Batting!AO:AU,5,0))=TRUE,O29-VLOOKUP($C$2,Batting!AO:AU,5,0),"") -> 3 | S29: =IF(ISNUMBER(P29/(O29-R29))=TRUE,P29/(O29-R29),"") -> 23 | T29: =IF(ISNUMBER(VLOOKUP($C$2,Batting!AO:AU,6,0))=TRUE,VLOOKUP($C$2,Batting!AO:AU,6,0),"") -> 0 | U29: =IF(ISNUMBER(VLOOKUP($C$2,Batting!AO:AU,7,0))=TRUE,VLOOKUP($C$2,Batting!AO:AU,7,0),"") -> 1
A30: P. Girdler | C30: Tour | D30: =IF(ISNUMBER(VLOOKUP($C$2,Bowling!AR:AW,2,0))=TRUE,VLOOKUP($C$2,Bowling!AR:AW,2,0),"") -> 1 | E30: =IF(ISNUMBER(VLOOKUP($C$2,Bowling!AR:AW,3,0))=TRUE,VLOOKUP($C$2,Bowling!AR:AW,3,0),"") -> 1 | F30: =IF(ISNUMBER(VLOOKUP($C$2,Bowling!AR:AW,6,0))=TRUE,VLOOKUP($C$2,Bowling!AR:AW,6,0),"") -> 3 | G30: =IF(ISNUMBER(VLOOKUP($C$2,Bowling!AR:AW,4,0))=TRUE,VLOOKUP($C$2,Bowling!AR:AW,4,0),"") -> 0 | H30: =IF(ISNUMBER(VLOOKUP($C$2,Bowling!AR:AW,5,0))=TRUE,VLOOKUP($C$2,Bowling!AR:AW,5,0),"") -> 1 | I30: =IF(ISNUMBER(F30/H30)=TRUE,F30/H30,"") -> 3 | J30: =IF(ISNUMBER(F30/E30)=TRUE,F30/E30,"") -> 3 | K30: =IF(ISNUMBER(E30*6/H30)=TRUE,E30*6/H30,"") -> 6 | N30: Tour | O30: =IF(ISNUMBER(VLOOKUP($C$2,Batting!AW:BC,2,0))=TRUE,VLOOKUP($C$2,Batting!AW:BC,2,0),"") -> 2 | P30: =IF(ISNUMBER(VLOOKUP($C$2,Batting!AW:BC,3,0))=TRUE,VLOOKUP($C$2,Batting!AW:BC,3,0),"") -> 33 | Q30: =IF(ISNUMBER(VLOOKUP($C$2,Batting!AW:BC,4,0))=TRUE,VLOOKUP($C$2,Batting!AW:BC,4,0),"") -> 24 | R30: =IF(ISNUMBER(O30-VLOOKUP($C$2,Batting!AW:BC,5,0))=TRUE,O30-VLOOKUP($C$2,Batting!AW:BC,5,0),"") -> 1 | S30: =IF(ISNUMBER(P30/(O30-R30))=TRUE,P30/(O30-R30),"") -> 33 | T30: =IF(ISNUMBER(VLOOKUP($C$2,Batting!AW:BC,6,0))=TRUE,VLOOKUP($C$2,Batting!AW:BC,6,0),"") -> 0 | U30: =IF(ISNUMBER(VLOOKUP($C$2,Batting!AW:BC,7,0))=TRUE,VLOOKUP($C$2,Batting!AW:BC,7,0),"") -> 0
A31: T. Greenwood
A32: R. Gunn | D32: By Innings | O32: By Innings
A33: K. Haig | C33: Innings | D33: Total Innings | E33: Overs Bowled | F33: Runs Conceded | G33: Maidens | H33: Wickets | I33: Average | J33: Economy | K33: Strike Rate | N33: Innings | O33: Total Innings | P33: Total Runs | Q33: High Score | R33: Not Outs | S33: Average | T33: 100s | U33: 50s
A34: V. Haig | C34: Bowling First | D34: =IF(ISNUMBER(VLOOKUP($C$2,Bowling!AY:BD,2,0))=TRUE,VLOOKUP($C$2,Bowling!AY:BD,2,0),"") -> 1 | E34: =IF(ISNUMBER(VLOOKUP($C$2,Bowling!AY:BD,3,0))=TRUE,VLOOKUP($C$2,Bowling!AY:BD,3,0),"") -> 1 | F34: =IF(ISNUMBER(VLOOKUP($C$2,Bowling!AY:BD,6,0))=TRUE,VLOOKUP($C$2,Bowling!AY:BD,6,0),"") -> 3 | G34: =IF(ISNUMBER(VLOOKUP($C$2,Bowling!AY:BD,4,0))=TRUE,VLOOKUP($C$2,Bowling!AY:BD,4,0),"") -> 0 | H34: =IF(ISNUMBER(VLOOKUP($C$2,Bowling!AY:BD,5,0))=TRUE,VLOOKUP($C$2,Bowling!AY:BD,5,0),"") -> 1 | I34: =IF(ISNUMBER(F34/H34)=TRUE,F34/H34,"") -> 3 | J34: =IF(ISNUMBER(F34/E34)=TRUE,F34/E34,"") -> 3 | K34: =IF(ISNUMBER(E34*6/H34)=TRUE,E34*6/H34,"") -> 6 | N34: Batting First | O34: =IF(ISNUMBER(VLOOKUP($C$2,Batting!BE:BK,2,0))=TRUE,VLOOKUP($C$2,Batting!BE:BK,2,0),"") -> 5 | P34: =IF(ISNUMBER(VLOOKUP($C$2,Batting!BE:BK,3,0))=TRUE,VLOOKUP($C$2,Batting!BE:BK,3,0),"") -> 23 | Q34: =IF(ISNUMBER(VLOOKUP($C$2,Batting!BE:BK,4,0))=TRUE,VLOOKUP($C$2,Batting!BE:BK,4,0),"") -> 9 | R34: =IF(ISNUMBER(O34-VLOOKUP($C$2,Batting!BE:BK,5,0))=TRUE,O34-VLOOKUP($C$2,Batting!BE:BK,5,0),"") -> 2 | S34: =IF(ISNUMBER(P34/(O34-R34))=TRUE,P34/(O34-R34),"") -> 7.6666667 | T34: =IF(ISNUMBER(VLOOKUP($C$2,Batting!BE:BK,6,0))=TRUE,VLOOKUP($C$2,Batting!BE:BK,6,0),"") -> 0 | U34: =IF(ISNUMBER(VLOOKUP($C$2,Batting!BE:BK,7,0))=TRUE,VLOOKUP($C$2,Batting!BE:BK,7,0),"") -> 0
A35: W. Hale | C35: Bowling Second | D35: =IF(ISNUMBER(VLOOKUP($C$2,Bowling!BF:BK,2,0))=TRUE,VLOOKUP($C$2,Bowling!BF:BK,2,0),"") | E35: =IF(ISNUMBER(VLOOKUP($C$2,Bowling!BF:BK,3,0))=TRUE,VLOOKUP($C$2,Bowling!BF:BK,3,0),"") | F35: =IF(ISNUMBER(VLOOKUP($C$2,Bowling!BF:BK,6,0))=TRUE,VLOOKUP($C$2,Bowling!BF:BK,6,0),"") | G35: =IF(ISNUMBER(VLOOKUP($C$2,Bowling!BF:BK,4,0))=TRUE,VLOOKUP($C$2,Bowling!BF:BK,4,0),"") | H35: =IF(ISNUMBER(VLOOKUP($C$2,Bowling!BF:BK,5,0))=TRUE,VLOOKUP($C$2,Bowling!BF:BK,5,0),"") | I35: =IF(ISNUMBER(F35/H35)=TRUE,F35/H35,"") | J35: =IF(ISNUMBER(F35/E35)=TRUE,F35/E35,"") | K35: =IF(ISNUMBER(E35*6/H35)=TRUE,E35*6/H35,"") | N35: Batting Second | O35: =IF(ISNUMBER(VLOOKUP($C$2,Batting!BM:BS,2,0))=TRUE,VLOOKUP($C$2,Batting!BM:BS,2,0),"") -> 9 | P35: =IF(ISNUMBER(VLOOKUP($C$2,Batting!BM:BS,3,0))=TRUE,VLOOKUP($C$2,Batting!BM:BS,3,0),"") -> 141 | Q35: =IF(ISNUMBER(VLOOKUP($C$2,Batting!BM:BS,4,0))=TRUE,VLOOKUP($C$2,Batting!BM:BS,4,0),"") -> 61 | R35: =IF(ISNUMBER(O35-VLOOKUP($C$2,Batting!BM:BS,5,0))=TRUE,O35-VLOOKUP($C$2,Batting!BM:BS,5,0),"") -> 5 | S35: =IF(ISNUMBER(P35/(O35-R35))=TRUE,P35/(O35-R35),"") -> 35.25 | T35: =IF(ISNUMBER(VLOOKUP($C$2,Batting!BM:BS,6,0))=TRUE,VLOOKUP($C$2,Batting!BM:BS,6,0),"") -> 0 | U35: =IF(ISNUMBER(VLOOKUP($C$2,Batting!BM:BS,7,0))=TRUE,VLOOKUP($C$2,Batting!BM:BS,7,0),"") -> 1
A36: S. Halfhead
A37: J. Hancock | D37: By Result | O37: By Result
A38: A. Harvey-Thompson | C38: Match Result | D38: Total Innings | E38: Overs Bowled | F38: Runs Conceded | G38: Maidens | H38: Wickets | I38: Average | J38: Economy | K38: Strike Rate | N38: Match Result | O38: Total Innings | P38: Total Runs | Q38: High Score | R38: Not Outs | S38: Average | T38: 100s | U38: 50s
A39: C. Henry | C39: Win | D39: =IF(ISNUMBER(VLOOKUP($C$2,Bowling!BM:BR,2,0))=TRUE,VLOOKUP($C$2,Bowling!BM:BR,2,0),"") -> 1 | E39: =IF(ISNUMBER(VLOOKUP($C$2,Bowling!BM:BR,3,0))=TRUE,VLOOKUP($C$2,Bowling!BM:BR,3,0),"") -> 1 | F39: =IF(ISNUMBER(VLOOKUP($C$2,Bowling!BM:BR,6,0))=TRUE,VLOOKUP($C$2,Bowling!BM:BR,6,0),"") -> 3 | G39: =IF(ISNUMBER(VLOOKUP($C$2,Bowling!BM:BR,4,0))=TRUE,VLOOKUP($C$2,Bowling!BM:BR,4,0),"") -> 0 | H39: =IF(ISNUMBER(VLOOKUP($C$2,Bowling!BM:BR,5,0))=TRUE,VLOOKUP($C$2,Bowling!BM:BR,5,0),"") -> 1 | I39: =IF(ISNUMBER(F39/H39)=TRUE,F39/H39,"") -> 3 | J39: =IF(ISNUMBER(F39/E39)=TRUE,F39/E39,"") -> 3 | K39: =IF(ISNUMBER(E39*6/H39)=TRUE,E39*6/H39,"") -> 6 | N39: Win | O39: =IF(ISNUMBER(VLOOKUP($C$2,Batting!BU:CA,2,0))=TRUE,VLOOKUP($C$2,Batting!BU:CA,2,0),"") -> 4 | P39: =IF(ISNUMBER(VLOOKUP($C$2,Batting!BU:CA,3,0))=TRUE,VLOOKUP($C$2,Batting!BU:CA,3,0),"") -> 50 | Q39: =IF(ISNUMBER(VLOOKUP($C$2,Batting!BU:CA,4,0))=TRUE,VLOOKUP($C$2,Batting!BU:CA,4,0),"") -> 24 | R39: =IF(ISNUMBER(O39-VLOOKUP($C$2,Batting!BU:CA,5,0))=TRUE,O39-VLOOKUP($C$2,Batting!BU:CA,5,0),"") -> 1 | S39: =IF(ISNUMBER(P39/(O39-R39))=TRUE,P39/(O39-R39),"") -> 16.666667 | T39: =IF(ISNUMBER(VLOOKUP($C$2,Batting!BU:CA,6,0))=TRUE,VLOOKUP($C$2,Batting!BU:CA,6,0),"") -> 0 | U39: =IF(ISNUMBER(VLOOKUP($C$2,Batting!BU:CA,7,0))=TRUE,VLOOKUP($C$2,Batting!BU:CA,7,0),"") -> 0
A40: N. Henry | C40: Loss | D40: =IF(ISNUMBER(VLOOKUP($C$2,Bowling!BT:BY,2,0))=TRUE,VLOOKUP($C$2,Bowling!BT:BY,2,0),"") | E40: =IF(ISNUMBER(VLOOKUP($C$2,Bowling!BT:BY,3,0))=TRUE,VLOOKUP($C$2,Bowling!BT:BY,3,0),"") | F40: =IF(ISNUMBER(VLOOKUP($C$2,Bowling!BT:BY,6,0))=TRUE,VLOOKUP($C$2,Bowling!BT:BY,6,0),"") | G40: =IF(ISNUMBER(VLOOKUP($C$2,Bowling!BT:BY,4,0))=TRUE,VLOOKUP($C$2,Bowling!BT:BY,4,0),"") | H40: =IF(ISNUMBER(VLOOKUP($C$2,Bowling!BT:BY,5,0))=TRUE,VLOOKUP($C$2,Bowling!BT:BY,5,0),"") | I40: =IF(ISNUMBER(F40/H40)=TRUE,F40/H40,"") | J40: =IF(ISNUMBER(F40/E40)=TRUE,F40/E40,"") | K40: =IF(ISNUMBER(E40*6/H40)=TRUE,E40*6/H40,"") | N40: Loss | O40: =IF(ISNUMBER(VLOOKUP($C$2,Batting!CC:CI,2,0))=TRUE,VLOOKUP($C$2,Batting!CC:CI,2,0),"") -> 5 | P40: =IF(ISNUMBER(VLOOKUP($C$2,Batting!CC:CI,3,0))=TRUE,VLOOKUP($C$2,Batting!CC:CI,3,0),"") -> 27 | Q40: =IF(ISNUMBER(VLOOKUP($C$2,Batting!CC:CI,4,0))=TRUE,VLOOKUP($C$2,Batting!CC:CI,4,0),"") -> 20 | R40: =IF(ISNUMBER(O40-VLOOKUP($C$2,Batting!CC:CI,5,0))=TRUE,O40-VLOOKUP($C$2,Batting!CC:CI,5,0),"") -> 2 | S40: =IF(ISNUMBER(P40/(O40-R40))=TRUE,P40/(O40-R40),"") -> 9 | T40: =IF(ISNUMBER(VLOOKUP($C$2,Batting!CC:CI,6,0))=TRUE,VLOOKUP($C$2,Batting!CC:CI,6,0),"") -> 0 | U40: =IF(ISNUMBER(VLOOKUP($C$2,Batting!CC:CI,7,0))=TRUE,VLOOKUP($C$2,Batting!CC:CI,7,0),"") -> 0
A41: S. Hopes | C41: Draw | D41: =IF(ISNUMBER(VLOOKUP($C$2,Bowling!CA:CF,2,0))=TRUE,VLOOKUP($C$2,Bowling!CA:CF,2,0),"") | E41: =IF(ISNUMBER(VLOOKUP($C$2,Bowling!CA:CF,3,0))=TRUE,VLOOKUP($C$2,Bowling!CA:CF,3,0),"") | F41: =IF(ISNUMBER(VLOOKUP($C$2,Bowling!CA:CF,6,0))=TRUE,VLOOKUP($C$2,Bowling!CA:CF,6,0),"") | G41: =IF(ISNUMBER(VLOOKUP($C$2,Bowling!CA:CF,4,0))=TRUE,VLOOKUP($C$2,Bowling!CA:CF,4,0),"") | H41: =IF(ISNUMBER(VLOOKUP($C$2,Bowling!CA:CF,5,0))=TRUE,VLOOKUP($C$2,Bowling!CA:CF,5,0),"") | I41: =IF(ISNUMBER(F41/H41)=TRUE,F41/H41,"") | J41: =IF(ISNUMBER(F41/E41)=TRUE,F41/E41,"") | K41: =IF(ISNUMBER(E41*6/H41)=TRUE,E41*6/H41,"") | N41: Draw | O41: =IF(ISNUMBER(VLOOKUP($C$2,Batting!CK:CQ,2,0))=TRUE,VLOOKUP($C$2,Batting!CK:CQ,2,0),"") -> 5 | P41: =IF(ISNUMBER(VLOOKUP($C$2,Batting!CK:CQ,3,0))=TRUE,VLOOKUP($C$2,Batting!CK:CQ,3,0),"") -> 87 | Q41: =IF(ISNUMBER(VLOOKUP($C$2,Batting!CK:CQ,4,0))=TRUE,VLOOKUP($C$2,Batting!CK:CQ,4,0),"") -> 61 | R41: =IF(ISNUMBER(O41-VLOOKUP($C$2,Batting!CK:CQ,5,0))=TRUE,O41-VLOOKUP($C$2,Batting!CK:CQ,5,0),"") -> 4 | S41: =IF(ISNUMBER(P41/(O41-R41))=TRUE,P41/(O41-R41),"") -> 87 | T41: =IF(ISNUMBER(VLOOKUP($C$2,Batting!CK:CQ,6,0))=TRUE,VLOOKUP($C$2,Batting!CK:CQ,6,0),"") -> 0 | U41: =IF(ISNUMBER(VLOOKUP($C$2,Batting!CK:CQ,7,0))=TRUE,VLOOKUP($C$2,Batting!CK:CQ,7,0),"") -> 1
...

Sheet Batting
I1: Date | J1: (Multiple Items) | Q1: Date | R1: (Multiple Items) | Y1: Date | Z1: (Multiple Items) | AG1: Home/Away | AH1: Home | AO1: Home/Away | AP1: Away | AW1: Home/Away | AX1: Tour | BE1: TPCC Batting First | BF1: First | BM1: TPCC Batting First | BN1: Second | BU1: Match Status | BV1: Win | CC1: Match Status | CD1: Loss | CK1: Match Status | CL1: Draw | CS1: Batsmen Position | CT1: 1 | DA1: Batsmen Position | DB1: 2 | DI1: Batsmen Position | DJ1: 3 | DQ1: Batsmen Position | DR1: 4 | DY1: Batsmen Position | DZ1: 5 | EG1: Batsmen Position | EH1: 6 | EO1: Batsmen Position | EP1: 7 | EW1: Batsmen Position | EX1: 8 | FE1: Batsmen Position | FF1: 9 | FM1: Batsmen Position | FN1: 10 | FU1: Batsmen Position | FV1: 11 | GC1: Captain | GD1: S. Beardall | GK1: Captain | GL1: J. Hunt | GS1: Captain | GT1: T. White | HA1: Captain | HB1: J. Hancock | HI1: Captain | HJ1: O. Thornton | HQ1: Captain | HR1: R. Gunn
B3: Values | J3: Values | R3: Values | Z3: Values | AH3: Values | AP3: Values | AX3: Values | BF3: Values | BN3: Values | BV3: Values | CD3: Values | CL3: Values | CT3: Values | DB3: Values | DJ3: Values | DR3: Values | DZ3: Values | EH3: Values | EP3: Values | EX3: Values | FF3: Values | FN3: Values | FV3: Values | GD3: Values | GL3: Values | GT3: Values | HB3: Values | HJ3: Values | HR3: Values
A4: Row Labels | B4: Count of Batsmen Runs | C4: Sum of Batsmen Runs2 | D4: Max of Batsmen Runs2 | E4: Sum of Batsmen Out | F4: Sum of 100 | G4: Sum of 50 | I4: Row Labels | J4: Count of Batsmen Runs | K4: Sum of Batsmen Runs2 | L4: Max of Batsmen Runs2 | M4: Sum of Batsmen Out | N4: Sum of 100 | O4: Sum of 50 | Q4: Row Labels | R4: Count of Batsmen Runs | S4: Sum of Batsmen Runs2 | T4: Max of Batsmen Runs2_2 | U4: Sum of Batsmen Out | V4: Sum of 100 | W4: Sum of 50 | Y4: Row Labels | Z4: Count of Batsmen Runs | AA4: Sum of Batsmen Runs2 | AB4: Max of Batsmen Runs2_2 | AC4: Sum of Batsmen Out | AD4: Sum of 100 | AE4: Sum of 50 | AG4: Row Labels | AH4: Count of Batsmen Runs | AI4: Sum of Batsmen Runs2 | AJ4: Max of Batsmen Runs2_2 | AK4: Sum of Batsmen Out | AL4: Sum of 100 | AM4: Sum of 50 | AO4: Row Labels | AP4: Count of Batsmen Runs | AQ4: Sum of Batsmen Runs2 | AR4: Max of Batsmen Runs2_2 | AS4: Sum of Batsmen Out | AT4: Sum of 100 | AU4: Sum of 50 | AW4: Row Labels | AX4: Count of Batsmen Runs | AY4: Sum of Batsmen Runs2 | AZ4: Max of Batsmen Runs2_2 | BA4: Sum of Batsmen Out | BB4: Sum of 100 | BC4: Sum of 50 | BE4: Row Labels | BF4: Count of Batsmen Runs | BG4: Sum of Batsmen Runs2 | BH4: Max of Batsmen Runs2_2 | BI4: Sum of Batsmen Out | BJ4: Sum of 100 | BK4: Sum of 50 | BM4: Row Labels | BN4: Count of Batsmen Runs | BO4: Sum of Batsmen Runs2 | BP4: Max of Batsmen Runs2_2 | BQ4: Sum of Batsmen Out | BR4: Sum of 100 | BS4: Sum of 50 | BU4: Row Labels | BV4: Count of Batsmen Runs | BW4: Sum of Batsmen Runs2 | BX4: Max of Batsmen Runs2_2 | BY4: Sum of Batsmen Out | BZ4: Sum of 100 | CA4: Sum of 50 | CC4: Row Labels | CD4: Count of Batsmen Runs | CE4: Sum of Batsmen Runs2 | CF4: Max of Batsmen Runs2_2 | CG4: Sum of Batsmen Out | CH4: Sum of 100 | CI4: Sum of 50 | CK4: Row Labels | CL4: Count of Batsmen Runs | CM4: Sum of Batsmen Runs2 | CN4: Max of Batsmen Runs2_2 | CO4: Sum of Batsmen Out | CP4: Sum of 100 | CQ4: Sum of 50 | CS4: Row Labels | CT4: Count of Batsmen Runs | CU4: Sum of Batsmen Runs2 | CV4: Max of Batsmen Runs2_2 | CW4: Sum of Batsmen Out | CX4: Sum of 100 | CY4: Sum of 50 | DA4: Row Labels | DB4: Count of Batsmen Runs | DC4: Sum of Batsmen Runs2 | DD4: Max of Batsmen Runs2_2 | DE4: Sum of Batsmen Out | DF4: Sum of 100 | DG4: Sum of 50 | DI4: Row Labels | DJ4: Count of Batsmen Runs | DK4: Sum of Batsmen Runs2 | DL4: Max of Batsmen Runs2_2 | DM4: Sum of Batsmen Out | DN4: Sum of 100 | DO4: Sum of 50 | DQ4: Row Labels | DR4: Count of Batsmen Runs | DS4: Sum of Batsmen Runs2 | DT4: Max of Batsmen Runs2_2 | DU4: Sum of Batsmen Out | DV4: Sum of 100 | DW4: Sum of 50 | DY4: Row Labels | DZ4: Count of Batsmen Runs | EA4: Sum of Batsmen Runs2 | EB4: Max of Batsmen Runs2_2 | EC4: Sum of Batsmen Out | ED4: Sum of 100 | EE4: Sum of 50 | EG4: Row Labels | EH4: Count of Batsmen Runs | EI4: Sum of Batsmen Runs2 | EJ4: Max of Batsmen Runs2_2 | EK4: Sum of Batsmen Out | EL4: Sum of 100 | EM4: Sum of 50 | EO4: Row Labels | EP4: Count of Batsmen Runs | EQ4: Sum of Batsmen Runs2 | ER4: Max of Batsmen Runs2_2 | ES4: Sum of Batsmen Out | ET4: Sum of 100 | EU4: Sum of 50 | EW4: Row Labels | EX4: Count of Batsmen Runs | EY4: Sum of Batsmen Runs2 | EZ4: Max of Batsmen Runs2_2 | FA4: Sum of Batsmen Out | FB4: Sum of 100 | FC4: Sum of 50 | FE4: Row Labels | FF4: Count of Batsmen Runs | FG4: Sum of Batsmen Runs2 | FH4: Max of Batsmen Runs2_2 | FI4: Sum of Batsmen Out | FJ4: Sum of 100 | FK4: Sum of 50 | FM4: Row Labels | FN4: Count of Batsmen Runs | FO4: Sum of Batsmen Runs2 | FP4: Max of Batsmen Runs2_2 | FQ4: Sum of Batsmen Out | FR4: Sum of 100 | FS4: Sum of 50 | FU4: Row Labels | FV4: Count of Batsmen Runs | FW4: Sum of Batsmen Runs2 | FX4: Max of Batsmen Runs2_2 | FY4: Sum of Batsmen Out | FZ4: Sum of 100 | GA4: Sum of 50 | GC4: Row Labels | GD4: Count of Batsmen Runs | GE4: Sum of Batsmen Runs2 | GF4: Max of Batsmen Runs2_2 | GG4: Sum of Batsmen Out | GH4: Sum of 100 | GI4: Sum of 50 | GK4: Row Labels | GL4: Count of Batsmen Runs | GM4: Sum of Batsmen Runs2 | GN4: Max of Batsmen Runs2_2 | GO4: Sum of Batsmen Out | GP4: Sum of 100 | GQ4: Sum of 50 | GS4: Row Labels | GT4: Count of Batsmen Runs | GU4: Sum of Batsmen Runs2 | GV4: Max of Batsmen Runs2_2 | GW4: Sum of Batsmen Out | GX4: Sum of 100 | GY4: Sum of 50 | HA4: Row Labels | HB4: Count of Batsmen Runs | HC4: Sum of Batsmen Runs2 | HD4: Max of Batsmen Runs2_2 | HE4: Sum of Batsmen Out | HF4: Sum of 100 | HG4: Sum of 50 | HI4: Row Labels | HJ4: Count of Batsmen Runs | HK4: Sum of Batsmen Runs2 | HL4: Max of Batsmen Runs2_2 | HM4: Sum of Batsmen Out | HN4: Sum of 100 | HO4: Sum of 50 | HQ4: Row Labels | HR4: Count of Batsmen Runs | HS4: Sum of Batsmen Runs2 | HT4: Max of Batsmen Runs2_2 | HU4: Sum of Batsmen Out | HV4: Sum of 100 | HW4: Sum of 50
A5: 0 | B5: 491 | C5: 0 | D5: 0 | E5: 0 | F5: 0 | G5: 0 | I5: 0 | J5: 151 | K5: 0 | L5: 0 | M5: 0 | N5: 0 | O5: 0 | Q5: 0 | R5: 163 | S5: 0 | T5: 0 | U5: 0 | V5: 0 | W5: 0 | Y5: 0 | Z5: 177 | AA5: 0 | AB5: 0 | AC5: 0 | AD5: 0 | AE5: 0 | AG5: 0 | AH5: 317 | AI5: 0 | AJ5: 0 | AK5: 0 | AL5: 0 | AM5: 0 | AO5: 0 | AP5: 151 | AQ5: 0 | AR5: 0 | AS5: 0 | AT5: 0 | AU5: 0 | AW5: 0 | AX5: 23 | AY5: 0 | AZ5: 0 | BA5: 0 | BB5: 0 | BC5: 0 | BE5: 0 | BF5: 78 | BG5: 0 | BH5: 0 | BI5: 0 | BJ5: 0 | BK5: 0 | BM5: 0 | BN5: 138 | BO5: 0 | BP5: 0 | BQ5: 0 | BR5: 0 | BS5: 0 | BU5: 0 | BV5: 139 | BW5: 0 | BX5: 0 | BY5: 0 | BZ5: 0 | CA5: 0 | CC5: 0 | CD5: 20 | CE5: 0 | CF5: 0 | CG5: 0 | CH5: 0 | CI5: 0 | CK5: 0 | CL5: 57 | CM5: 0 | CN5: 0 | CO5: 0 | CP5: 0 | CQ5: 0 | CS5: 0 | CT5: 25 | CU5: 0 | CV5: 0 | CW5: 0 | CX5: 0 | CY5: 0 | DA5: 0 | DB5: 25 | DC5: 0 | DD5: 0 | DE5: 0 | DF5: 0 | DG5: 0 | DI5: 0 | DJ5: 26 | DK5: 0 | DL5: 0 | DM5: 0 | DN5: 0 | DO5: 0 | DQ5: 0 | DR5: 28 | DS5: 0 | DT5: 0 | DU5: 0 | DV5: 0 | DW5: 0 | DY5: 0 | DZ5: 32 | EA5: 0 | EB5: 0 | EC5: 0 | ED5: 0 | EE5: 0 | EG5: 0 | EH5: 40 | EI5: 0 | EJ5: 0 | EK5: 0 | EL5: 0 | EM5: 0 | EO5: 0 | EP5: 48 | EQ5: 0 | ER5: 0 | ES5: 0 | ET5: 0 | EU5: 0 | EW5: 0 | EX5: 55 | EY5: 0 | EZ5: 0 | FA5: 0 | FB5: 0 | FC5: 0 | FE5: 0 | FF5: 65 | FG5: 0 | FH5: 0 | FI5: 0 | FJ5: 0 | FK5: 0 | FM5: 0 | FN5: 68 | FO5: 0 | FP5: 0 | FQ5: 0 | FR5: 0 | FS5: 0 | FU5: 0 | FV5: 79 | FW5: 0 | FX5: 0 | FY5: 0 | FZ5: 0 | GA5: 0 | GC5: 0 | GD5: 165 | GE5: 0 | GF5: 0 | GG5: 0 | GH5: 0 | GI5: 0 | GK5: 0 | GL5: 21 | GM5: 0 | GN5: 0 | GO5: 0 | GP5: 0 | GQ5: 0 | GS5: 0 | GT5: 15 | GU5: 0 | GV5: 0 | GW5: 0 | GX5: 0 | GY5: 0 | HA5: 0 | HB5: 14 | HC5: 0 | HD5: 0 | HE5: 0 | HF5: 0 | HG5: 0 | HI5: 0 | HJ5: 1 | HK5: 0 | HL5: 0 | HM5: 0 | HN5: 0 | HO5: 0 | HQ5: A. Harvey-Thompson | HR5: 1 | HS5: 4 | HT5: 4 | HU5: 1 | HV5: 0 | HW5: 0
A6: A. Bignell | B6: 8 | C6: 71 | D6: 32 | E6: 6 | F6: 0 | G6: 0 | I6: A. Bignell | J6: 2 | K6: 0 | L6: 0 | M6: 2 | N6: 0 | O6: 0 | Q6: A. Bignell | R6: 3 | S6: 51 | T6: 32 | U6: 1 | V6: 0 | W6: 0 | Y6: A. Bignell | Z6: 3 | AA6: 20 | AB6: 15 | AC6: 3 | AD6: 0 | AE6: 0 | AG6: A. Bignell | AH6: 3 | AI6: 20 | AJ6: 19 | AK6: 2 | AL6: 0 | AM6: 0 | AO6: A. Bignell | AP6: 5 | AQ6: 51 | AR6: 32 | AS6: 4 | AT6: 0 | AU6: 0 | AW6: B. Bazell | AX6: 2 | AY6: 33 | AZ6: 24 | BA6: 1 | BB6: 0 | BC6: 0 | BE6: A. Bignell | BF6: 3 | BG6: 0 | BH6: 0 | BI6: 3 | BJ6: 0 | BK6: 0 | BM6: A. Bignell | BN6: 5 | BO6: 71 | BP6: 32 | BQ6: 3 | BR6: 0 | BS6: 0 | BU6: A. Bignell | BV6: 4 | BW6: 67 | BX6: 32 | BY6: 2 | BZ6: 0 | CA6: 0 | CC6: A. Bignell | CD6: 1 | CE6: 0 | CF6: 0 | CG6: 1 | CH6: 0 | CI6: 0 | CK6: A. Bignell | CL6: 3 | CM6: 4 | CN6: 4 | CO6: 3 | CP6: 0 | CQ6: 0 | CS6: A. Bignell | CT6: 2 | CU6: 15 | CV6: 15 | CW6: 2 | CX6: 0 | CY6: 0 | DA6: A. Bignell | DB6: 1 | DC6: 0 | DD6: 0 | DE6: 1 | DF6: 0 | DG6: 0 | DI6: B. Watson | DJ6: 1 | DK6: 0 | DL6: 0 | DM6: 1 | DN6: 0 | DO6: 0 | DQ6: B. Watson | DR6: 1 | DS6: 19 | DT6: 19 | DU6: 1 | DV6: 0 | DW6: 0 | DY6: A. Bignell | DZ6: 1 | EA6: 0 | EB6: 0 | EC6: 1 | ED6: 0 | EE6: 0 | EG6: B. Bazell | EH6: 2 | EI6: 70 | EJ6: 61 | EK6: 2 | EL6: 0 | EM6: 1 | EO6: A. Bignell | EP6: 2 | EQ6: 5 | ER6: 4 | ES6: 2 | ET6: 0 | EU6: 0 | EW6: A. Bignell | EX6: 2 | EY6: 51 | EZ6: 32 | FA6: 0 | FB6: 0 | FC6: 0 | FE6: B. Bazell | FF6: 3 | FG6: 30 | FH6: 16 | FI6: 2 | FJ6: 0 | FK6: 0 | FM6: A. Harvey-Thompson | FN6: 2 | FO6: 5 | FP6: 4 | FQ6: 2 | FR6: 0 | FS6: 0 | FU6: A. Harvey-Thompson | FV6: 2 | FW6: 2 | FX6: 2 | FY6: 1 | FZ6: 0 | GA6: 0 | GC6: A. Bignell | GD6: 6 | GE6: 52 | GF6: 32 | GG6: 5 | GH6: 0 | GI6: 0 | GK6: A. Bignell | GL6: 1 | GM6: 19 | GN6: 19 | GO6: 0 | GP6: 0 | GQ6: 0 | GS6: B. Bazell | GT6: 1 | GU6: 24 | GV6: 24 | GW6: 0 | GX6: 0 | GY6: 0 | HA6: A. Bignell | HB6: 1 | HC6: 0 | HD6: 0 | HE6: 1 | HF6: 0 | HG6: 0 | HI6: C. Beardall | HJ6: 1 | HK6: 121 | HL6: 121 | HM6: 1 | HN6: 1 | HO6: 0 | HQ6: B. Bazell | HR6: 1 | HS6: 16 | HT6: 16 | HU6: 0 | HV6: 0 | HW6: 0
A7: A. Eykyn | B7: 1 | C7: 22 | D7: 22 | E7: 1 | F7: 0 | G7: 0 | I7: A. Eykyn | J7: 1 | K7: 22 | L7: 22 | M7: 1 | N7: 0 | O7: 0 | Q7: B. Bazell | R7: 3 | S7: 22 | T7: 9 | U7: 2 | V7: 0 | W7: 0 | Y7: B. Bazell | Z7: 4 | AA7: 15 | AB7: 9 | AC7: 2 | AD7: 0 | AE7: 0 | AG7: A. Eykyn | AH7: 1 | AI7: 22 | AJ7: 22 | AK7: 1 | AL7: 0 | AM7: 0 | AO7: A. Harvey-Thompson | AP7: 3 | AQ7: 7 | AR7: 4 | AS7: 2 | AT7: 0 | AU7: 0 | AW7: C. Beardall | AX7: 2 | AY7: 64 | AZ7: 46 | BA7: 2 | BB7: 0 | BC7: 0 | BE7: A. Harvey-Thompson | BF7: 1 | BG7: 2 | BH7: 2 | BI7: 0 | BJ7: 0 | BK7: 0 | BM7: A. Eykyn | BN7: 1 | BO7: 22 | BP7: 22 | BQ7: 1 | BR7: 0 | BS7: 0 | BU7: B. Bazell | BV7: 4 | BW7: 50 | BX7: 24 | BY7: 3 | BZ7: 0 | CA7: 0 | CC7: A. Eykyn | CD7: 1 | CE7: 22 | CF7: 22 | CG7: 1 | CH7: 0 | CI7: 0 | CK7: A. Harvey-Thompson | CL7: 1 | CM7: 4 | CN7: 4 | CO7: 1 | CP7: 0 | CQ7: 0 | CS7: B. Bazell | CT7: 1 | CU7: 24 | CV7: 24 | CW7: 0 | CX7: 0 | CY7: 0 | DA7: C. Beardall | DB7: 1 | DC7: 119 | DD7: 119 | DE7: 0 | DF7: 1 | DG7: 0 | DI7: C. Beardall | DJ7: 5 | DK7: 174 | DL7: 83 | DM7: 5 | DN7: 0 | DO7: 1 | DQ7: C. Beardall | DR7: 3 | DS7: 38 | DT7: 19 | DU7: 3 | DV7: 0 | DW7: 0 | DY7: C. Beardall | DZ7: 2 | EA7: 201 | EB7: 121 | EC7: 1 | ED7: 1 | EE7: 1 | EG7: C. Beardall | EH7: 3 | EI7: 52 | EJ7: 31 | EK7: 3 | EL7: 0 | EM7: 0 | EO7: A. Eykyn | EP7: 1 | EQ7: 22 | ER7: 22 | ES7: 1 | ET7: 0 | EU7: 0 | EW7: C. Henry | EX7: 2 | EY7: 0 | EZ7: 0 | FA7: 2 | FB7: 0 | FC7: 0 | FE7: B. Bucknill | FF7: 3 | FG7: 2 | FH7: 1 | FI7: 3 | FJ7: 0 | FK7: 0 | FM7: B. Bazell | FN7: 3 | FO7: 10 | FP7: 9 | FQ7: 2 | FR7: 0 | FS7: 0 | FU7: B. Bazell | FV7: 3 | FW7: 5 | FX7: 5 | FY7: 1 | FZ7: 0 | GA7: 0 | GC7: A. Eykyn | GD7: 1 | GE7: 22 | GF7: 22 | GG7: 1 | GH7: 0 | GI7: 0 | GK7: B. Bazell | GL7: 1 | GM7: 9 | GN7: 9 | GO7: 1 | GP7: 0 | GQ7: 0 | GS7: C. Simon | GT7: 1 | GU7: 5 | GV7: 5 | GW7: 1 | GX7: 0 | GY7: 0 | HA7: A. Harvey-Thompson | HB7: 1 | HC7: 0 | HD7: 0 | HE7: 1 | HF7: 0 | HG7: 0 | HI7: C. Simon | HJ7: 1 | HK7: 5 | HL7: 5 | HM7: 0 | HN7: 0 | HO7: 0 | HQ7: C. Seigal | HR7: 1 | HS7: 4 | HT7: 4 | HU7: 1 | HV7: 0 | HW7: 0
A8: A. Harvey-Thompson | B8: 4 | C8: 7 | D8: 4 | E8: 3 | F8: 0 | G8: 0 | I8: A. Harvey-Thompson | J8: 4 | K8: 7 | L8: 4 | M8: 3 | N8: 0 | O8: 0 | Q8: B. Bucknill | R8: 1 | S8: 1 | T8: 1 | U8: 1 | V8: 0 | W8: 0 | Y8: B. Watson | Z8: 1 | AA8: 0 | AB8: 0 | AC8: 1 | AD8: 0 | AE8: 0 | AG8: A. Harvey-Thompson | AH8: 1 | AI8: 0 | AJ8: 0 | AK8: 1 | AL8: 0 | AM8: 0 | AO8: B. Bazell | AP8: 7 | AQ8: 92 | AR8: 61 | AS8: 4 | AT8: 0 | AU8: 1 | AW8: C. Simon | AX8: 3 | AY8: 52 | AZ8: 32 | BA8: 3 | BB8: 0 | BC8: 0 | BE8: B. Bazell | BF8: 5 | BG8: 23 | BH8: 9 | BI8: 3 | BJ8: 0 | BK8: 0 | BM8: A. Harvey-Thompson | BN8: 3 | BO8: 5 | BP8: 4 | BQ8: 3 | BR8: 0 | BS8: 0 | BU8: B. Bucknill | BV8: 1 | BW8: 1 | BX8: 1 | BY8: 1 | BZ8: 0 | CA8: 0 | CC8: A. Harvey-Thompson | CD8: 3 | CE8: 3 | CF8: 2 | CG8: 2 | CH8: 0 | CI8: 0 | CK8: B. Bazell | CL8: 5 | CM8: 87 | CN8: 61 | CO8: 1 | CP8: 0 | CQ8: 1 | CS8: C. Beardall | CT8: 5 | CU8: 191 | CV8: 96 | CW8: 5 | CX8: 0 | CY8: 1 | DA8: C. Simon | DB8: 3 | DC8: 41 | DD8: 16 | DE8: 3 | DF8: 0 | DG8: 0 | DI8: C. Simon | DJ8: 2 | DK8: 46 | DL8: 46 | DM8: 1 | DN8: 0 | DO8: 0 | DQ8: C. Seigal | DR8: 1 | DS8: 0 | DT8: 0 | DU8: 1 | DV8: 0 | DW8: 0 | DY8: D. Stockings | DZ8: 1 | EA8: 17 | EB8: 17 | EC8: 1 | ED8: 0 | EE8: 0 | EG8: C. Simon | EH8: 3 | EI8: 27 | EJ8: 19 | EK8: 2 | EL8: 0 | EM8: 0 | EO8: B. Bazell | EP8: 2 | EQ8: 25 | ER8: 20 | ES8: 0 | ET8: 0 | EU8: 0 | EW8: C. Rogers | EX8: 1 | EY8: 12 | EZ8: 12 | FA8: 0 | FB8: 0 | FC8: 0 | FE8: C. Henry | FF8: 3 | FG8: 8 | FH8: 5 | FI8: 2 | FJ8: 0 | FK8: 0 | FM8: B. West | FN8: 2 | FO8: 12 | FP8: 8 | FQ8: 2 | FR8: 0 | FS8: 0 | FU8: C. Henry | FV8: 1 | FW8: 5 | FX8: 5 | FY8: 0 | FZ8: 0 | GA8: 0 | GC8: A. Harvey-Thompson | GD8: 2 | GE8: 3 | GF8: 2 | GG8: 1 | GH8: 0 | GI8: 0 | GK8: B. Bucknill | GL8: 2 | GM8: 2 | GN8: 1 | GO8: 2 | GP8: 0 | GQ8: 0 | GS8: H. Beardall | GT8: 1 | GU8: 31 | GV8: 31 | GW8: 0 | GX8: 0 | GY8: 0 | HA8: B. Bazell | HB8: 1 | HC8: 20 | HD8: 20 | HE8: 0 | HF8: 0 | HG8: 0 | HI8: J. Leefe | HJ8: 1 | HK8: 0 | HL8: 0 | HM8: 1 | HN8: 0 | HO8: 0 | HQ8: J. Thornton | HR8: 1 | HS8: 0 | HT8: 0 | HU8: 1 | HV8: 0 | HW8: 0
A9: B. Bazell | B9: 14 | C9: 164 | D9: 61 | E9: 7 | F9: 0 | G9: 1 | I9: B. Bazell | J9: 7 | K9: 127 | L9: 61 | M9: 3 | N9: 0 | O9: 1 | Q9: B. Watson | R9: 1 | S9: 19 | T9: 19 | U9: 1 | V9: 0 | W9: 0 | Y9: C. Beardall | Z9: 7 | AA9: 311 | AB9: 121 | AC9: 7 | AD9: 1 | AE9: 1 | AG9: B. Bazell | AH9: 5 | AI9: 39 | AJ9: 20 | AK9: 2 | AL9: 0 | AM9: 0 | AO9: B. Bucknill | AP9: 1 | AQ9: 0 | AR9: 0 | AS9: 1 | AT9: 0 | AU9: 0 | AW9: D. Stockings | AX9: 1 | AY9: 8 | AZ9: 8 | BA9: 1 | BB9: 0 | BC9: 0 | BE9: B. Bucknill | BF9: 3 | BG9: 2 | BH9: 1 | BI9: 3 | BJ9: 0 | BK9: 0 | BM9: B. Bazell | BN9: 9 | BO9: 141 | BP9: 61 | BQ9: 4 | BR9: 0 | BS9: 1 | BU9: B. Watson | BV9: 1 | BW9: 19 | BX9: 19 | BY9: 1 | BZ9: 0 | CA9: 0 | CC9: B. Bazell | CD9: 5 | CE9: 27 | CF9: 20 | CG9: 3 | CH9: 0 | CI9: 0 | CK9: B. Bucknill | CL9: 2 | CM9: 1 | CN9: 1 | CO9: 2 | CP9: 0 | CQ9: 0 | CS9: C. Rogers | CT9: 1 | CU9: 16 | CV9: 16 | CW9: 1 | CX9: 0 | CY9: 0 | DA9: H. Beardall | DB9: 5 | DC9: 149 | DD9: 91 | DE9: 4 | DF9: 0 | DG9: 1 | DI9: D. Stockings | DJ9: 1 | DK9: 21 | DL9: 21 | DM9: 1 | DN9: 0 | DO9: 0 | DQ9: D. Mackintosh | DR9: 1 | DS9: 28 | DT9: 28 | DU9: 0 | DV9: 0 | DW9: 0 | DY9: H. Beardall | DZ9: 1 | EA9: 39 | EB9: 39 | EC9: 1 | ED9: 0 | EE9: 0 | EG9: D. Hyman | EH9: 1 | EI9: 14 | EJ9: 14 | EK9: 1 | EL9: 0 | EM9: 0 | EO9: C. Beardall | EP9: 1 | EQ9: 18 | ER9: 18 | ES9: 1 | ET9: 0 | EU9: 0 | EW9: C. Simon | EX9: 2 | EY9: 9 | EZ9: 8 | FA9: 2 | FB9: 0 | FC9: 0 | FE9: C. Simon | FF9: 1 | FG9: 5 | FH9: 5 | FI9: 0 | FJ9: 0 | FK9: 0 | FM9: C. Henry | FN9: 2 | FO9: 7 | FP9: 5 | FQ9: 0 | FR9: 0 | FS9: 0 | FU9: J. Moser | FV9: 1 | FW9: 17 | FX9: 17 | FY9: 0 | FZ9: 0 | GA9: 0 | GC9: B. Bazell | GD9: 10 | GE9: 95 | GF9: 61 | GG9: 6 | GH9: 0 | GI9: 1 | GK9: C. Beardall | GL9: 3 | GM9: 17 | GN9: 13 | GO9: 3 | GP9: 0 | GQ9: 0 | GS9: J. Hunt | GT9: 2 | GU9: 184 | GV9: 104 | GW9: 1 | GX9: 1 | GY9: 1 | HA9: B. West | HB9: 2 | HC9: 12 | HD9: 8 | HE9: 2 | HF9: 0 | HG9: 0 | HI9: J. Moberly | HJ9: 1 | HK9: 0 | HL9: 0 | HM9: 1 | HN9: 0 | HO9: 0 | HQ9: N. Runkel | HR9: 1 | HS9: 2 | HT9: 2 | HU9: 0 | HV9: 0 | HW9: 0
A10: B. Bucknill | B10: 3 | C10: 2 | D10: 1 | E10: 3 | F10: 0 | G10: 0 | I10: B. Bucknill | J10: 2 | K10: 1 | L10: 1 | M10: 2 | N10: 0 | O10: 0 | Q10: C. Beardall | R10: 10 | S10: 295 | T10: 96 | U10: 9 | V10: 0 | W10: 2 | Y10: C. Henry | Z10: 3 | AA10: 13 | AB10: 5 | AC10: 1 | AD10: 0 | AE10: 0 | AG10: B. Bucknill | AH10: 2 | AI10: 2 | AJ10: 1 | AK10: 2 | AL10: 0 | AM10: 0 | AO10: B. Watson | AP10: 1 | AQ10: 0 | AR10: 0 | AS10: 1 | AT10: 0 | AU10: 0 | AW10: H. Beardall | AX10: 4 | AY10: 63 | AZ10: 31 | BA10: 2 | BB10: 0 | BC10: 0 | BE10: B. Watson | BF10: 1 | BG10: 19 | BH10: 19 | BI10: 1 | BJ10: 0 | BK10: 0 | BM10: B. Watson | BN10: 1 | BO10: 0 | BP10: 0 | BQ10: 1 | BR10: 0 | BS10: 0 | BU10: C. Beardall | BV10: 12 | BW10: 478 | BX10: 121 | BY10: 11 | BZ10: 2 | CA10: 1 | CC10: B. West | CD10: 1 | CE10: 4 | CF10: 4 | CG10: 1 | CH10: 0 | CI10: 0 | CK10: B. Watson | CL10: 1 | CM10: 0 | CN10: 0 | CO10: 1 | CP10: 0 | CQ10: 0 | CS10: C. Simon | CT10: 12 | CU10: 148 | CV10: 41 | CW10: 12 | CX10: 0 | CY10: 0 | DA10: J. Hunt | DB10: 5 | DC10: 262 | DD10: 127 | DE10: 5 | DF10: 2 | DG10: 0 | DI10: H. Beardall | DJ10: 4 | DK10: 83 | DL10: 31 | DM10: 3 | DN10: 0 | DO10: 0 | DQ10: D. Stockings | DR10: 4 | DS10: 89 | DT10: 41 | DU10: 3 | DV10: 0 | DW10: 0 | DY10: J. Crook | DZ10: 1 | EA10: 0 | EB10: 0 | EC10: 1 | ED10: 0 | EE10: 0 | EG10: H. Beardall | EH10: 3 | EI10: 24 | EJ10: 13 | EK10: 2 | EL10: 0 | EM10: 0 | EO10: C. Henry | EP10: 1 | EQ10: 3 | ER10: 3 | ES10: 1 | ET10: 0 | EU10: 0 | EW10: D. Stockings | EX10: 1 | EY10: 0 | EZ10: 0 | FA10: 1 | FB10: 0 | FC10: 0 | FE10: H. De Zulueta | FF10: 1 | FG10: 0 | FH10: 0 | FI10: 1 | FJ10: 0 | FK10: 0 | FM10: C. Rogers | FN10: 3 | FO10: 9 | FP10: 9 | FQ10: 3 | FR10: 0 | FS10: 0 | FU10: N. Henry | FV10: 4 | FW10: 16 | FX10: 9 | FY10: 2 | FZ10: 0 | GA10: 0 | GC10: B. Bucknill | GD10: 1 | GE10: 0 | GF10: 0 | GG10: 1 | GH10: 0 | GI10: 0 | GK10: C. Henry | GL10: 3 | GM10: 12 | GN10: 5 | GO10: 0 | GP10: 0 | GQ10: 0 | GS10: J. Moberly | GT10: 2 | GU10: 9 | GV10: 9 | GW10: 2 | GX10: 0 | GY10: 0 | HA10: C. Beardall | HB10: 3 | HC10: 134 | HD10: 80 | HE10: 2 | HF10: 0 | HG10: 1 | HI10: J. Thornton | HJ10: 1 | HK10: 6 | HL10: 6 | HM10: 1 | HN10: 0 | HO10: 0 | HQ10: O. Brett | HR10: 1 | HS10: 12 | HT10: 12 | HU10: 1 | HV10: 0 | HW10: 0
A11: B. Watson | B11: 2 | C11: 19 | D11: 19 | E11: 2 | F11: 0 | G11: 0 | I11: B. West | J11: 2 | K11: 12 | L11: 8 | M11: 2 | N11: 0 | O11: 0 | Q11: C. Henry | R11: 4 | S11: 10 | T11: 5 | U11: 2 | V11: 0 | W11: 0 | Y11: C. Rogers | Z11: 4 | AA11: 28 | AB11: 16 | AC11: 3 | AD11: 0 | AE11: 0 | AG11: B. Watson | AH11: 1 | AI11: 19 | AJ11: 19 | AK11: 1 | AL11: 0 | AM11: 0 | AO11: C. Beardall | AP11: 5 | AQ11: 109 | AR11: 31 | AS11: 5 | AT11: 0 | AU11: 0 | AW11: J. Hunt | AX11: 5 | AY11: 247 | AZ11: 79 | BA11: 4 | BB11: 0 | BC11: 3 | BE11: B. West | BF11: 1 | BG11: 8 | BH11: 8 | BI11: 1 | BJ11: 0 | BK11: 0 | BM11: B. West | BN11: 1 | BO11: 4 | BP11: 4 | BQ11: 1 | BR11: 0 | BS11: 0 | BU11: C. Henry | BV11: 1 | BW11: 2 | BX11: 2 | BY11: 1 | BZ11: 0 | CA11: 0 | CC11: C. Beardall | CD11: 3 | CE11: 83 | CF11: 46 | CG11: 3 | CH11: 0 | CI11: 0 | CK11: B. West | CL11: 1 | CM11: 8 | CN11: 8 | CO11: 1 | CP11: 0 | CQ11: 0 | CS11: H. Beardall | CT11: 3 | CU11: 59 | CV11: 32 | CW11: 3 | CX11: 0 | CY11: 0 | DA11: J. Moberly | DB11: 10 | DC11: 84 | DD11: 30 | DE11: 10 | DF11: 0 | DG11: 0 | DI11: J. Hancock | DJ11: 5 | DK11: 221 | DL11: 99 | DM11: 3 | DN11: 0 | DO11: 2 | DQ11: H. Beardall | DR11: 1 | DS11: 0 | DT11: 0 | DU11: 1 | DV11: 0 | DW11: 0 | DY11: J. Hancock | DZ11: 8 | EA11: 453 | EB11: 101 | EC11: 5 | ED11: 1 | EE11: 4 | EG11: J. Hancock | EH11: 4 | EI11: 202 | EJ11: 84 | EK11: 2 | EL11: 0 | EM11: 2 | EO11: C. Rogers | EP11: 1 | EQ11: 3 | ER11: 3 | ES11: 1 | ET11: 0 | EU11: 0 | EW11: H. De Zulueta | EX11: 1 | EY11: 6 | EZ11: 6 | FA11: 1 | FB11: 0 | FC11: 0 | FE11: J. Hancock | FF11: 1 | FG11: 1 | FH11: 1 | FI11: 1 | FJ11: 0 | FK11: 0 | FM11: C. Seigal | FN11: 1 | FO11: 4 | FP11: 4 | FQ11: 1 | FR11: 0 | FS11: 0 | FU11: N. Runkel | FV11: 4 | FW11: 5 | FX11: 2 | FY11: 1 | FZ11: 0 | GA11: 0 | GC11: B. Watson | GD11: 2 | GE11: 19 | GF11: 19 | GG11: 2 | GH11: 0 | GI11: 0 | GK11: C. Rogers | GL11: 1 | GM11: 12 | GN11: 12 | GO11: 0 | GP11: 0 | GQ11: 0 | GS11: J. Reid | GT11: 1 | GU11: 0 | GV11: 0 | GW11: 1 | GX11: 0 | GY11: 0 | HA11: C. Henry | HB11: 1 | HC11: 2 | HD11: 2 | HE11: 1 | HF11: 0 | HG11: 0 | HI11: O. Thornton | HJ11: 1 | HK11: 24 | HL11: 24 | HM11: 1 | HN11: 0 | HO11: 0 | HQ11: O. Thornton | HR11: 1 | HS11: 42 | HT11: 42 | HU11: 1 | HV11: 0 | HW11: 0
A12: B. West | B12: 2 | C12: 12 | D12: 8 | E12: 2 | F12: 0 | G12: 0 | I12: C. Beardall | J12: 3 | K12: 187 | L12: 119 | M12: 2 | N12: 1 | O12: 0 | Q12: C. Rogers | R12: 2 | S12: 12 | T12: 9 | U12: 2 | V12: 0 | W12: 0 | Y12: C. Simon | Z12: 10 | AA12: 103 | AB12: 41 | AC12: 7 | AD12: 0 | AE12: 0 | AG12: B. West | AH12: 2 | AI12: 12 | AJ12: 8 | AK12: 2 | AL12: 0 | AM12: 0 | AO12: C. Henry | AP12: 7 | AQ12: 19 | AR12: 5 | AS12: 4 | AT12: 0 | AU12: 0 | AW12: J. Moberly | AX12: 3 | AY12: 13 | AZ12: 9 | BA12: 3 | BB12: 0 | BC12: 0 | BE12: C. Beardall | BF12: 15 | BG12: 672 | BH12: 121 | BI12: 13 | BJ12: 2 | BK12: 3 | BM12: C. Beardall | BN12: 5 | BO12: 121 | BP12: 46 | BQ12: 5 | BR12: 0 | BS12: 0 | BU12: C. Rogers | BV12: 2 | BW12: 25 | BX12: 16 | BY12: 2 | BZ12: 0 | CA12: 0 | CC12: C. Henry | CD12: 6 | CE12: 19 | CF12: 5 | CG12: 3 | CH12: 0 | CI12: 0 | CK12: C. Beardall | CL12: 5 | CM12: 232 | CN12: 96 | CO12: 4 | CP12: 0 | CQ12: 2 | CS12: J. Hunt | CT12: 7 | CU12: 323 | CV12: 122 | CW12: 5 | CX12: 1 | CY12: 1 | DA12: J. Rogers | DB12: 3 | DC12: 33 | DD12: 24 | DE12: 3 | DF12: 0 | DG12: 0 | DI12: J. Hunt | DJ12: 7 | DK12: 379 | DL12: 80 | DM12: 4 | DN12: 0 | DO12: 5 | DQ12: J. Hancock | DR12: 4 | DS12: 147 | DT12: 41 | DU12: 2 | DV12: 0 | DW12: 0 | DY12: J. Hunt | DZ12: 7 | EA12: 141 | EB12: 41 | EC12: 5 | ED12: 0 | EE12: 0 | EG12: J. Hunt | EH12: 4 | EI12: 92 | EJ12: 42 | EK12: 4 | EL12: 0 | EM12: 0 | EO12: C. Seigal | EP12: 1 | EQ12: 4 | ER12: 4 | ES12: 1 | ET12: 0 | EU12: 0 | EW12: J. Hunt | EX12: 1 | EY12: 24 | EZ12: 24 | FA12: 1 | FB12: 0 | FC12: 0 | FE12: J. Leefe | FF12: 3 | FG12: 24 | FH12: 11 | FI12: 3 | FJ12: 0 | FK12: 0 | FM12: C. Simon | FN12: 1 | FO12: 3 | FP12: 3 | FQ12: 1 | FR12: 0 | FS12: 0 | FU12: P. Girdler | FV12: 1 | FW12: 1 | FX12: 1 | FY12: 0 | FZ12: 0 | GA12: 0 | GC12: C. Beardall | GD12: 13 | GE12: 521 | GF12: 119 | GG12: 12 | GH12: 1 | GI12: 2 | GK12: C. Seigal | GL12: 1 | GM12: 0 | GN12: 0 | GO12: 1 | GP12: 0 | GQ12: 0 | GS12: M. Kemp | GT12: 1 | GU12: 5 | GV12: 5 | GW12: 0 | GX12: 0 | GY12: 0 | HA12: C. Rogers | HB12: 1 | HC12: 16 | HD12: 16 | HE12: 1 | HF12: 0 | HG12: 0 | HI12: Ro. Dickie | HJ12: 1 | HK12: 3 | HL12: 3 | HM12: 1 | HN12: 0 | HO12: 0 | HQ12: P. Briffett | HR12: 1 | HS12: 6 | HT12: 6 | HU12: 1 | HV12: 0 | HW12: 0
A13: C. Beardall | B13: 20 | C13: 793 | D13: 121 | E13: 18 | F13: 2 | G13: 3 | I13: C. Henry | J13: 2 | K13: 0 | L13: 0 | M13: 2 | N13: 0 | O13: 0 | Q13: C. Simon | R13: 5 | S13: 57 | T13: 21 | U13: 5 | V13: 0 | W13: 0 | Y13: D. Stockings | Z13: 3 | AA13: 61 | AB13: 21 | AC13: 2 | AD13: 0 | AE13: 0 | AG13: C. Beardall | AH13: 13 | AI13: 620 | AJ13: 121 | AK13: 11 | AL13: 2 | AM13: 3 | AO13: C. Rogers | AP13: 4 | AQ13: 37 | AR13: 16 | AS13: 3 | AT13: 0 | AU13: 0 | AW13: J. Thornton | AX13: 3 | AY13: 47 | AZ13: 29 | BA13: 2 | BB13: 0 | BC13: 0 | BE13: C. Henry | BF13: 4 | BG13: 8 | BH13: 5 | BI13: 3 | BJ13: 0 | BK13: 0 | BM13: C. Henry | BN13: 5 | BO13: 15 | BP13: 5 | BQ13: 2 | BR13: 0 | BS13: 0 | BU13: C. Simon | BV13: 11 | BW13: 153 | BX13: 46 | BY13: 9 | BZ13: 0 | CA13: 0 | CC13: C. Rogers | CD13: 2 | CE13: 12 | CF13: 12 | CG13: 1 | CH13: 0 | CI13: 0 | CK13: C. Henry | CL13: 2 | CM13: 2 | CN13: 2 | CO13: 1 | CP13: 0 | CQ13: 0 | CS13: J. Leefe | CT13: 2 | CU13: 3 | CV13: 3 | CW13: 2 | CX13: 0 | CY13: 0 | DA13: N. Henry | DB13: 1 | DC13: 6 | DD13: 6 | DE13: 1 | DF13: 0 | DG13: 0 | DI13: J. Moberly | DJ13: 2 | DK13: 8 | DL13: 4 | DM13: 2 | DN13: 0 | DO13: 0 | DQ13: J. Hunt | DR13: 10 | DS13: 335 | DT13: 149 | DU13: 7 | DV13: 1 | DW13: 1 | DY13: J. Leefe | DZ13: 1 | EA13: 20 | EB13: 20 | EC13: 0 | ED13: 0 | EE13: 0 | EG13: J. Leefe | EH13: 4 | EI13: 28 | EJ13: 13 | EK13: 3 | EL13: 0 | EM13: 0 | EO13: C. Simon | EP13: 2 | EQ13: 13 | ER13: 7 | ES13: 1 | ET13: 0 | EU13: 0 | EW13: J. Leefe | EX13: 5 | EY13: 25 | EZ13: 7 | FA13: 3 | FB13: 0 | FC13: 0 | FE13: J. Thornton | FF13: 1 | FG13: 4 | FH13: 4 | FI13: 0 | FJ13: 0 | FK13: 0 | FM13: C. Wellbelove | FN13: 1 | FO13: 0 | FP13: 0 | FQ13: 1 | FR13: 0 | FS13: 0 | FU13: T. Greenwood | FV13: 1 | FW13: 1 | FX13: 1 | FY13: 0 | FZ13: 0 | GA13: 0 | GC13: C. Henry | GD13: 5 | GE13: 9 | GF13: 5 | GG13: 4 | GH13: 0 | GI13: 0 | GK13: C. Simon | GL13: 6 | GM13: 111 | GN13: 46 | GO13: 5 | GP13: 0 | GQ13: 0 | GS13: N. Henry | GT13: 1 | GU13: 20 | GV13: 20 | GW13: 1 | GX13: 0 | GY13: 0 | HA13: C. Simon | HB13: 1 | HC13: 1 | HD13: 1 | HE13: 1 | HF13: 0 | HG13: 0 | HI13: S. Halfhead | HJ13: 1 | HK13: 4 | HL13: 4 | HM13: 1 | HN13: 0 | HO13: 0 | HQ13: R. Gunn | HR13: 1 | HS13: 5 | HT13: 5 | HU13: 1 | HV13: 0 | HW13: 0
A14: C. Henry | B14: 9 | C14: 23 | D14: 5 | E14: 5 | F14: 0 | G14: 0 | I14: C. Seigal | J14: 3 | K14: 8 | L14: 4 | M14: 3 | N14: 0 | O14: 0 | Q14: C. Wellbelove | R14: 1 | S14: 0 | T14: 0 | U14: 1 | V14: 0 | W14: 0 | Y14: H. Beardall | Z14: 10 | AA14: 221 | AB14: 91 | AC14: 8 | AD14: 0 | AE14: 1 | AG14: C. Henry | AH14: 2 | AI14: 4 | AJ14: 2 | AK14: 1 | AL14: 0 | AM14: 0 | AO14: C. Seigal | AP14: 3 | AQ14: 8 | AR14: 4 | AS14: 3 | AT14: 0 | AU14: 0 | AW14: N. Runkel | AX14: 1 | AY14: 0 | AZ14: 0 | BA14: 1 | BB14: 0 | BC14: 0 | BE14: C. Rogers | BF14: 3 | BG14: 12 | BH14: 9 | BI14: 3 | BJ14: 0 | BK14: 0 | BM14: C. Rogers | BN14: 3 | BO14: 28 | BP14: 16 | BQ14: 2 | BR14: 0 | BS14: 0 | BU14: D. Mackintosh | BV14: 1 | BW14: 28 | BX14: 28 | BY14: 0 | BZ14: 0 | CA14: 0 | CC14: C. Seigal | CD14: 2 | CE14: 4 | CF14: 4 | CG14: 2 | CH14: 0 | CI14: 0 | CK14: C. Rogers | CL14: 2 | CM14: 3 | CN14: 3 | CO14: 2 | CP14: 0 | CQ14: 0 | CS14: J. Moberly | CT14: 2 | CU14: 27 | CV14: 27 | CW14: 2 | CX14: 0 | CY14: 0 | DA14: O. Brett | DB14: 1 | DC14: 22 | DD14: 22 | DE14: 1 | DF14: 0 | DG14: 0 | DI14: J. Rogers | DJ14: 1 | DK14: 28 | DL14: 28 | DM14: 1 | DN14: 0 | DO14: 0 | DQ14: J. Kleiner-Mann | DR14: 1 | DS14: 1 | DT14: 1 | DU14: 1 | DV14: 0 | DW14: 0 | DY14: J. Moberly | DZ14: 4 | EA14: 10 | EB14: 8 | EC14: 4 | ED14: 0 | EE14: 0 | EG14: J. Moberly | EH14: 2 | EI14: 17 | EJ14: 13 | EK14: 2 | EL14: 0 | EM14: 0 | EO14: D. Mackey | EP14: 1 | EQ14: 0 | ER14: 0 | ES14: 1 | ET14: 0 | EU14: 0 | EW14: J. Moser | EX14: 1 | EY14: 20 | EZ14: 20 | FA14: 1 | FB14: 0 | FC14: 0 | FE14: N. Henry | FF14: 6 | FG14: 40 | FH14: 17 | FI14: 6 | FJ14: 0 | FK14: 0 | FM14: D. Bradman | FN14: 1 | FO14: 1 | FP14: 1 | FQ14: 1 | FR14: 0 | FS14: 0 | FU14: T. White | FV14: 5 | FW14: 13 | FX14: 5 | FY14: 0 | FZ14: 0 | GA14: 0 | GC14: C. Rogers | GD14: 4 | GE14: 12 | GF14: 9 | GG14: 4 | GH14: 0 | GI14: 0 | GK14: D. Mackey | GL14: 1 | GM14: 0 | GN14: 0 | GO14: 1 | GP14: 0 | GQ14: 0 | GS14: P. Briffett | GT14: 1 | GU14: 1 | GV14: 1 | GW14: 0 | GX14: 0 | GY14: 0 | HA14: C. Wellbelove | HB14: 1 | HC14: 0 | HD14: 0 | HE14: 1 | HF14: 0 | HG14: 0 | HI14: T. Wade | HJ14: 1 | HK14: 1 | HL14: 1 | HM14: 1 | HN14: 0 | HO14: 0 | HQ14: Ro. Dickie | HR14: 1 | HS14: 0 | HT14: 0 | HU14: 1 | HV14: 0 | HW14: 0
A15: C. Rogers | B15: 6 | C15: 40 | D15: 16 | E15: 5 | F15: 0 | G15: 0 | I15: C. Simon | J15: 11 | K15: 132 | L15: 46 | M15: 10 | N15: 0 | O15: 0 | Q15: D. Bradman | R15: 1 | S15: 1 | T15: 1 | U15: 1 | V15: 0 | W15: 0 | Y15: J. Hancock | Z15: 8 | AA15: 317 | AB15: 93 | AC15: 2 | AD15: 0 | AE15: 3 | AG15: C. Rogers | AH15: 2 | AI15: 3 | AJ15: 3 | AK15: 2 | AL15: 0 | AM15: 0 | AO15: C. Simon | AP15: 9 | AQ15: 96 | AR15: 21 | AS15: 7 | AT15: 0 | AU15: 0 | AW15: O. Thornton | AX15: 4 | AY15: 170 | AZ15: 56 | BA15: 4 | BB15: 0 | BC15: 1 | BE15: C. Simon | BF15: 14 | BG15: 103 | BH15: 21 | BI15: 13 | BJ15: 0 | BK15: 0 | BM15: C. Seigal | BN15: 3 | BO15: 8 | BP15: 4 | BQ15: 3 | BR15: 0 | BS15: 0 | BU15: D. Stockings | BV15: 2 | BW15: 29 | BX15: 21 | BY15: 2 | BZ15: 0 | CA15: 0 | CC15: C. Simon | CD15: 9 | CE15: 98 | CF15: 32 | CG15: 8 | CH15: 0 | CI15: 0 | CK15: C. Seigal | CL15: 1 | CM15: 4 | CN15: 4 | CO15: 1 | CP15: 0 | CQ15: 0 | CS15: J. Rogers | CT15: 1 | CU15: 32 | CV15: 32 | CW15: 1 | CX15: 0 | CY15: 0 | DA15: O. Thornton | DB15: 11 | DC15: 749 | DD15: 110 | DE15: 8 | DF15: 2 | DG15: 6 | DI15: N. Phillips | DJ15: 1 | DK15: 1 | DL15: 1 | DM15: 1 | DN15: 0 | DO15: 0 | DQ15: J. Moberly | DR15: 3 | DS15: 66 | DT15: 44 | DU15: 3 | DV15: 0 | DW15: 0 | DY15: J. Moser | DZ15: 1 | EA15: 0 | EB15: 0 | EC15: 0 | ED15: 0 | EE15: 0 | EG15: J. Phillips | EH15: 1 | EI15: 40 | EJ15: 40 | EK15: 0 | EL15: 0 | EM15: 0 | EO15: D. Stockings | EP15: 1 | EQ15: 10 | ER15: 10 | ES15: 1 | ET15: 0 | EU15: 0 | EW15: J. Rogers | EX15: 1 | EY15: 25 | EZ15: 25 | FA15: 0 | FB15: 0 | FC15: 0 | FE15: N. Runkel | FF15: 4 | FG15: 17 | FH15: 13 | FI15: 2 | FJ15: 0 | FK15: 0 | FM15: H. De Zulueta | FN15: 1 | FO15: 28 | FP15: 28 | FQ15: 0 | FR15: 0 | FS15: 0 | FU15: Grand Total | FV15: 101 | FW15: 65 | FX15: 17 | FY15: 5 | FZ15: 0 | GA15: 0 | GC15: C. Seigal | GD15: 1 | GE15: 4 | GF15: 4 | GG15: 1 | GH15: 0 | GI15: 0 | GK15: H. Beardall | GL15: 2 | GM15: 15 | GN15: 12 | GO15: 2 | GP15: 0 | GQ15: 0 | GS15: R. Gunn | GT15: 1 | GU15: 16 | GV15: 16 | GW15: 1 | GX15: 0 | GY15: 0 | HA15: H. De Zulueta | HB15: 1 | HC15: 6 | HD15: 6 | HE15: 1 | HF15: 0 | HG15: 0 | HI15: B. Johnson | HJ15: 1 | HK15: 20 | HL15: 20 | HM15: 1 | HN15: 0 | HO15: 0 | HQ15: T. Wade | HR15: 1 | HS15: 12 | HT15: 12 | HU15: 1 | HV15: 0 | HW15: 0
