Workbook

Sheet Pivots
A3: Date | B3: Opposition | C3: Home/Away | D3: Match Status | F3: Row Labels | G3: Count of Opposition
A4: 40650 | B4: Penn Street | C4: Home | D4: Win | F4: Win | G4: 7
A5: 40656 | B5: White Waltham | C5: Away | D5: Loss | F5: Draw | G5: 7
A6: 40664 | B6: Brightwell-Cum-Sotwell | C6: Home | D6: Win | F6: Loss | G6: 10
A7: 40670 | B7: Greys Green (1) | C7: Home | D7: Loss | F7: Cancelled | G7: 9
A8: 40677 | B8: Crazies Hill | C8: Away | D8: Draw | F8: Grand Total | G8: 33
A9: 40678 | B9: Britwell Salome | C9: Away | D9: Draw
A10: 40684 | B10: BBC Caversham | C10: Away | D10: Cancelled
A11: 40685 | B11: Checkendon | C11: Home | D11: Loss | F11: Home/Away | G11: Home | I11: Home/Away | J11: Away
A12: 40692 | B12: Odney | C12: Away | D12: Draw | L12: Home/Away | M12: Tour
A13: 40698 | B13: Harpsden (1) | C13: Home | D13: Win | F13: Row Labels | G13: Count of Opposition | I13: Row Labels | J13: Count of Opposition
A14: 40699 | B14: Warborough | C14: Away | D14: Loss | F14: Win | G14: 6 | I14: Draw | J14: 6 | L14: Row Labels | M14: Count of Opposition
A15: 40705 | B15: Invalids | C15: Home | D15: Win | F15: Draw | G15: 1 | I15: Loss | J15: 5 | L15: Win | M15: 1
A16: 40706 | B16: Stonor (1) | C16: Away | D16: Cancelled | F16: Loss | G16: 4 | I16: Cancelled | J16: 3 | L16: Loss | M16: 1
A17: 40711 | B17: Nettlebed | C17: Home | D17: Cancelled | F17: Cancelled | G17: 6 | I17: Grand Total | J17: 14 | L17: Grand Total | M17: 2
A18: 40713 | B18: Cuxham | C18: Away | D18: Draw | F18: Grand Total | G18: 17
A19: 40719 | B19: Optimists | C19: Tour | D19: Win
A20: 40720 | B20: Luxembourg | C20: Tour | D20: Loss
A21: 40725 | B21: Woodcote | C21: Home | D21: Cancelled
A22: 40727 | B22: Dorchester | C22: Away | D22: Cancelled
A23: 40734 | B23: Flycatchers | C23: Home | D23: Loss
A24: 40740 | B24: Crossbatters | C24: Home | D24: Cancelled
A25: 40741 | B25: Theberton | C25: Home | D25: Cancelled
A26: 40748 | B26: Penywern Taverners | C26: Home | D26: Cancelled
A27: 40755 | B27: Henley | C27: Home | D27: Win
A28: 40761 | B28: West Wycombe | C28: Away | D28: Draw
A29: 40769 | B29: Privateers | C29: Home | D29: Draw
A30: 40776 | B30: Bledlow Village | C30: Home | D30: Loss
... A36: 40810 | B36: Greys Green (2) | C36: Away | D36: Loss
A37: Grand Total

Sheet Fixture Summary
B2: =Pivots!A3 -> Date | C2: =Pivots!B3 -> Opposition | D2: =Pivots!C3 -> Home/Away | E2: =Pivots!D3 -> Match Status | G2: Overall Match Summary | J2: Home Fixtures
B3: =Pivots!A4 -> 40650 | C3: =Pivots!B4 -> Penn Street | D3: =Pivots!C4 -> Home | E3: =Pivots!D4 -> Win | G3: =Pivots!F4 -> Win | H3: =Pivots!G4 -> 7 | J3: =Pivots!F14 -> Win | K3: =Pivots!G14 -> 6
B4: =Pivots!A5 -> 40656 | C4: =Pivots!B5 -> White Waltham | D4: =Pivots!C5 -> Away | E4: =Pivots!D5 -> Loss | G4: =Pivots!F5 -> Draw | H4: =Pivots!G5 -> 7 | J4: =Pivots!F15 -> Draw | K4: =Pivots!G15 -> 1
B5: =Pivots!A6 -> 40664 | C5: =Pivots!B6 -> Brightwell-Cum-Sotwell | D5: =Pivots!C6 -> Home | E5: =Pivots!D6 -> Win | G5: =Pivots!F6 -> Loss | H5: =Pivots!G6 -> 10 | J5: =Pivots!F16 -> Loss | K5: =Pivots!G16 -> 4
B6: =Pivots!A7 -> 40670 | C6: =Pivots!B7 -> Greys Green (1) | D6: =Pivots!C7 -> Home | E6: =Pivots!D7 -> Loss | G6: =Pivots!F7 -> Cancelled | H6: =Pivots!G7 -> 9 | J6: =Pivots!F17 -> Cancelled | K6: =Pivots!G17 -> 6
B7: =Pivots!A8 -> 40677 | C7: =Pivots!B8 -> Crazies Hill | D7: =Pivots!C8 -> Away | E7: =Pivots!D8 -> Draw
B8: =Pivots!A9 -> 40678 | C8: =Pivots!B9 -> Britwell Salome | D8: =Pivots!C9 -> Away | E8: =Pivots!D9 -> Draw
B9: =Pivots!A10 -> 40684 | C9: =Pivots!B10 -> BBC Caversham | D9: =Pivots!C10 -> Away | E9: =Pivots!D10 -> Cancelled
B10: =Pivots!A11 -> 40685 | C10: =Pivots!B11 -> Checkendon | D10: =Pivots!C11 -> Home | E10: =Pivots!D11 -> Loss
B11: =Pivots!A12 -> 40692 | C11: =Pivots!B12 -> Odney | D11: =Pivots!C12 -> Away | E11: =Pivots!D12 -> Draw
B12: =Pivots!A13 -> 40698 | C12: =Pivots!B13 -> Harpsden (1) | D12: =Pivots!C13 -> Home | E12: =Pivots!D13 -> Win
B13: =Pivots!A14 -> 40699 | C13: =Pivots!B14 -> Warborough | D13: =Pivots!C14 -> Away | E13: =Pivots!D14 -> Loss
B14: =Pivots!A15 -> 40705 | C14: =Pivots!B15 -> Invalids | D14: =Pivots!C15 -> Home | E14: =Pivots!D15 -> Win
B15: =Pivots!A16 -> 40706 | C15: =Pivots!B16 -> Stonor (1) | D15: =Pivots!C16 -> Away | E15: =Pivots!D16 -> Cancelled
B16: =Pivots!A17 -> 40711 | C16: =Pivots!B17 -> Nettlebed | D16: =Pivots!C17 -> Home | E16: =Pivots!D17 -> Cancelled
B17: =Pivots!A18 -> 40713 | C17: =Pivots!B18 -> Cuxham | D17: =Pivots!C18 -> Away | E17: =Pivots!D18 -> Draw
B18: =Pivots!A19 -> 40719 | C18: =Pivots!B19 -> Optimists | D18: =Pivots!C19 -> Tour | E18: =Pivots!D19 -> Win
B19: =Pivots!A20 -> 40720 | C19: =Pivots!B20 -> Luxembourg | D19: =Pivots!C20 -> Tour | E19: =Pivots!D20 -> Loss | G19: Away Fixtures | J19: Tour Fixtures
B20: =Pivots!A21 -> 40725 | C20: =Pivots!B21 -> Woodcote | D20: =Pivots!C21 -> Home | E20: =Pivots!D21 -> Cancelled | G20: =Pivots!I14 -> Draw | H20: =Pivots!J14 -> 6 | J20: =Pivots!L15 -> Win | K20: =Pivots!M15 -> 1
B21: =Pivots!A22 -> 40727 | C21: =Pivots!B22 -> Dorchester | D21: =Pivots!C22 -> Away | E21: =Pivots!D22 -> Cancelled | G21: =Pivots!I15 -> Loss | H21: =Pivots!J15 -> 5 | J21: =Pivots!L16 -> Loss | K21: =Pivots!M16 -> 1
B22: =Pivots!A23 -> 40734 | C22: =Pivots!B23 -> Flycatchers | D22: =Pivots!C23 -> Home | E22: =Pivots!D23 -> Loss | G22: =Pivots!I16 -> Cancelled | H22: =Pivots!J16 -> 3
B23: =Pivots!A24 -> 40740 | C23: =Pivots!B24 -> Crossbatters | D23: =Pivots!C24 -> Home | E23: =Pivots!D24 -> Cancelled
B24: =Pivots!A25 -> 40741 | C24: =Pivots!B25 -> Theberton | D24: =Pivots!C25 -> Home | E24: =Pivots!D25 -> Cancelled
B25: =Pivots!A26 -> 40748 | C25: =Pivots!B26 -> Penywern Taverners | D25: =Pivots!C26 -> Home | E25: =Pivots!D26 -> Cancelled
B26: =Pivots!A27 -> 40755 | C26: =Pivots!B27 -> Henley | D26: =Pivots!C27 -> Home | E26: =Pivots!D27 -> Win
B27: =Pivots!A28 -> 40761 | C27: =Pivots!B28 -> West Wycombe | D27: =Pivots!C28 -> Away | E27: =Pivots!D28 -> Draw
B28: =Pivots!A29 -> 40769 | C28: =Pivots!B29 -> Privateers | D28: =Pivots!C29 -> Home | E28: =Pivots!D29 -> Draw
B29: =Pivots!A30 -> 40776 | C29: =Pivots!B30 -> Bledlow Village | D29: =Pivots!C30 -> Home | E29: =Pivots!D30 -> Loss
B30: =Pivots!A31 -> 40782 | C30: =Pivots!B31 -> Stonor (2) | D30: =Pivots!C31 -> Home | E30: =Pivots!D31 -> Cancelled
B31: =Pivots!A32 -> 40783 | C31: =Pivots!B32 -> Ipsden | D31: =Pivots!C32 -> Home | E31: =Pivots!D32 -> Win
B32: =Pivots!A33 -> 40790 | C32: =Pivots!B33 -> Middleton Stoney | D32: =Pivots!C33 -> Away | E32: =Pivots!D33 -> Loss
B33: =Pivots!A34 -> 40797 | C33: =Pivots!B34 -> Medmenham | D33: =Pivots!C34 -> Away | E33: =Pivots!D34 -> Draw
B34: =Pivots!A35 -> 40804 | C34: =Pivots!B35 -> Harpsden (2) | D34: =Pivots!C35 -> Away | E34: =Pivots!D35 -> Loss
B35: =Pivots!A36 -> 40810 | C35: =Pivots!B36 -> Greys Green (2) | D35: =Pivots!C36 -> Away | E35: =Pivots!D36 -> Loss

Sheet Batting Summary
A1: Player | B1: Runs | D1: Player | E1: Runs | Q1: Home/Away | R1: (All)
A2: J. Hunt | B2: 523 | D2: J. Hunt | E2: 523 | U2: Home Batting Average by Position
A3: J. Hancock | B3: 454 | D3: J. Hancock | E3: 454 | S3: Values
A4: S. Beardall | B4: 338 | D4: S. Beardall | E4: 338 | Q4: Batsmen Name | R4: Bowler Position | S4: Sum of Batsmen Runs | T4: Sum of Batsmen Out | U4: Player | V4: Position | W4: Average
A5: O. Thornton | B5: 276 | D5: O. Thornton | E5: 276 | Q5: A. Bignell | R5: 2 | S5: 0 | T5: 1 | U5: =IF(Q5="",U4,Q5) -> A. Bignell | V5: =R5 -> 2 | W5: =S5/T5 -> 0
A6: R. Gunn | B6: 223 | D6: R. Gunn | E6: 223 | R6: 5 | S6: 0 | T6: 1 | U6: =IF(Q6="",U5,Q6) -> A. Bignell | V6: =R6 -> 5 | W6: =S6/T6 -> 0
A7: T. Wade | B7: 188 | D7: T. Wade | E7: 188 | Q7: A. Eykyn | R7: 7 | S7: 22 | T7: 1 | U7: =IF(Q7="",U6,Q7) -> A. Eykyn | V7: =R7 -> 7 | W7: =S7/T7 -> 22
A8: C. Beardall | B8: 187 | D8: C. Beardall | E8: 187 | Q8: A. Harvey-Thompson | R8: 10 | S8: 5 | T8: 2 | U8: =IF(Q8="",U7,Q8) -> A. Harvey-Thompson | V8: =R8 -> 10 | W8: =S8/T8 -> 2.5
A9: H. Beardall | B9: 168 | D9: H. Beardall | E9: 168 | R9: 11 | S9: 2 | T9: 1 | U9: =IF(Q9="",U8,Q9) -> A. Harvey-Thompson | V9: =R9 -> 11 | W9: =S9/T9 -> 2
A10: C. Simon | B10: 132 | D10: C. Simon | E10: 132 | Q10: B. Bazell | R10: 1 | S10: 24 | T10: 0 | U10: =IF(Q10="",U9,Q10) -> B. Bazell | V10: =R10 -> 1 | W10: =S10/T10 -> #DIV/0!
A11: B. Bazell | B11: 127 | D11: B. Bazell | E11: 127 | R11: 6 | S11: 61 | T11: 1 | U11: =IF(Q11="",U10,Q11) -> B. Bazell | V11: =R11 -> 6 | W11: =S11/T11 -> 61
A12: P. Briffett | B12: 119 | D12: P. Briffett | E12: 119 | R12: 7 | S12: 20 | T12: 0 | U12: =IF(Q12="",U11,Q12) -> B. Bazell | V12: =R12 -> 7 | W12: =S12/T12 -> #DIV/0!
A13: J. Leefe | B13: 72 | D13: Other | E13: 845 | R13: 9 | S13: 22 | T13: 1 | U13: =IF(Q13="",U12,Q13) -> B. Bazell | V13: =R13 -> 9 | W13: =S13/T13 -> 22
A14: P. De Zulueta | B14: 70 | R14: 10 | S14: 0 | T14: 0 | U14: =IF(Q14="",U13,Q14) -> B. Bazell | V14: =R14 -> 10 | W14: =S14/T14 -> #DIV/0!
A15: R. Dickie | B15: 66 | R15: 11 | S15: 0 | T15: 1 | U15: =IF(Q15="",U14,Q15) -> B. Bazell | V15: =R15 -> 11 | W15: =S15/T15 -> 0
A16: O. Brett | B16: 61 | Q16: B. Bucknell | R16: 9 | S16: 0 | T16: 1 | U16: =IF(Q16="",U15,Q16) -> B. Bucknell | V16: =R16 -> 9 | W16: =S16/T16 -> 0
A17: N. Henry | B17: 56 | Q17: B. Bucknill | R17: 9 | S17: 1 | T17: 1 | U17: =IF(Q17="",U16,Q17) -> B. Bucknill | V17: =R17 -> 9 | W17: =S17/T17 -> 1
A18: S. Halfhead | B18: 54 | Q18: B. West | R18: 10 | S18: 12 | T18: 2 | U18: =IF(Q18="",U17,Q18) -> B. West | V18: =R18 -> 10 | W18: =S18/T18 -> 6
A19: S. Bucknill | B19: 42 | Q19: C. Beardall | R19: 2 | S19: 119 | T19: 0 | U19: =IF(Q19="",U18,Q19) -> C. Beardall | V19: =R19 -> 2 | W19: =S19/T19 -> #DIV/0!
A20: J. Phillips | B20: 40 | R20: 3 | S20: 68 | T20: 2 | U20: =IF(Q20="",U19,Q20) -> C. Beardall | V20: =R20 -> 3 | W20: =S20/T20 -> 34
A21: M. Kiernan | B21: 40 | Q21: C. Henry | R21: 8 | S21: 0 | T21: 2 | U21: =IF(Q21="",U20,Q21) -> C. Henry | V21: =R21 -> 8 | W21: =S21/T21 -> 0
A22: T. White | B22: 39 | Q22: C. Seigal | R22: 4 | S22: 0 | T22: 1 | U22: =IF(Q22="",U21,Q22) -> C. Seigal | V22: =R22 -> 4 | W22: =S22/T22 -> 0
A23: J. Moberly | B23: 37 | R23: 7 | S23: 4 | T23: 1 | U23: =IF(Q23="",U22,Q23) -> C. Seigal | V23: =R23 -> 7 | W23: =S23/T23 -> 4
A24: J. Moser | B24: 37 | R24: 10 | S24: 4 | T24: 1 | U24: =IF(Q24="",U23,Q24) -> C. Seigal | V24: =R24 -> 10 | W24: =S24/T24 -> 4
A25: D. Mackintosh | B25: 28 | Q25: C. Simon | R25: 1 | S25: 55 | T25: 7 | U25: =IF(Q25="",U24,Q25) -> C. Simon | V25: =R25 -> 1 | W25: =S25/T25 -> 7.8571429
A26: T. Farley | B26: 28 | R26: 2 | S26: 11 | T26: 1 | U26: =IF(Q26="",U25,Q26) -> C. Simon | V26: =R26 -> 2 | W26: =S26/T26 -> 11
A27: D. Stockings | B27: 27 | R27: 3 | S27: 46 | T27: 0 | U27: =IF(Q27="",U26,Q27) -> C. Simon | V27: =R27 -> 3 | W27: =S27/T27 -> #DIV/0!
A28: N. Runkell | B28: 27 | R28: 6 | S28: 19 | T28: 1 | U28: =IF(Q28="",U27,Q28) -> C. Simon | V28: =R28 -> 6 | W28: =S28/T28 -> 19
A29: A. Eykyn | B29: 22 | R29: 8 | S29: 1 | T29: 1 | U29: =IF(Q29="",U28,Q29) -> C. Simon | V29: =R29 -> 8 | W29: =S29/T29 -> 1
A30: D. Hyman | B30: 14 | Q30: D. Hyman | R30: 6 | S30: 14 | T30: 1 | U30: =IF(Q30="",U29,Q30) -> D. Hyman | V30: =R30 -> 6 | W30: =S30/T30 -> 14
A31: W. Strickland | B31: 13 | Q31: D. Mackintosh | R31: 4 | S31: 28 | T31: 0 | U31: =IF(Q31="",U30,Q31) -> D. Mackintosh | V31: =R31 -> 4 | W31: =S31/T31 -> #DIV/0!
A32: B. West | B32: 12 | Q32: D. Stockings | R32: 5 | S32: 17 | T32: 1 | U32: =IF(Q32="",U31,Q32) -> D. Stockings | V32: =R32 -> 5 | W32: =S32/T32 -> 17
A33: T. Foot | B33: 12 | R33: 7 | S33: 10 | T33: 1 | U33: =IF(Q33="",U32,Q33) -> D. Stockings | V33: =R33 -> 7 | W33: =S33/T33 -> 10
A34: S. Bucknell | B34: 11 | R34: 8 | S34: 0 | T34: 1 | U34: =IF(Q34="",U33,Q34) -> D. Stockings | V34: =R34 -> 8 | W34: =S34/T34 -> 0
A35: C. Seigal | B35: 8 | Q35: H. Beardall | R35: 1 | S35: 35 | T35: 2 | U35: =IF(Q35="",U34,Q35) -> H. Beardall | V35: =R35 -> 1 | W35: =S35/T35 -> 17.5
A36: T. Fost | B36: 8 | R36: 2 | S36: 12 | T36: 1 | U36: =IF(Q36="",U35,Q36) -> H. Beardall | V36: =R36 -> 2 | W36: =S36/T36 -> 12
A37: A. Harvey-Thompson | B37: 7 | R37: 3 | S37: 31 | T37: 0 | U37: =IF(Q37="",U36,Q37) -> H. Beardall | V37: =R37 -> 3 | W37: =S37/T37 -> #DIV/0!
A38: J. Thornton | B38: 4 | R38: 5 | S38: 39 | T38: 1 | U38: =IF(Q38="",U37,Q38) -> H. Beardall | V38: =R38 -> 5 | W38: =S38/T38 -> 39
A39: R. Hunt | B39: 4 | R39: 6 | S39: 16 | T39: 2 | U39: =IF(Q39="",U38,Q39) -> H. Beardall | V39: =R39 -> 6 | W39: =S39/T39 -> 8
A40: S. Flakelar | B40: 3 | R40: 7 | S40: 35 | T40: 2 | U40: =IF(Q40="",U39,Q40) -> H. Beardall | V40: =R40 -> 7 | W40: =S40/T40 -> 17.5
A41: B. Bucknill | B41: 1 | Q41: J. Hancock | R41: 3 | S41: 47 | T41: 2 | U41: =IF(Q41="",U40,Q41) -> J. Hancock | V41: =R41 -> 3 | W41: =S41/T41 -> 23.5
A42: N. Fox | B42: 1 | R42: 4 | S42: 82 | T42: 1 | U42: =IF(Q42="",U41,Q42) -> J. Hancock | V42: =R42 -> 4 | W42: =S42/T42 -> 82
A43: Ra. Dickie | B43: 1 | R43: 5 | S43: 176 | T43: 3 | U43: =IF(Q43="",U42,Q43) -> J. Hancock | V43: =R43 -> 5 | W43: =S43/T43 -> 58.666667
A44: A. Bignell | B44: 0 | R44: 6 | S44: 149 | T44: 1 | U44: =IF(Q44="",U43,Q44) -> J. Hancock | V44: =R44 -> 6 | W44: =S44/T44 -> 149
A45: B. Bucknell | B45: 0 | Q45: J. Hunt | R45: 1 | S45: 40 | T45: 0 | U45: =IF(Q45="",U44,Q45) -> J. Hunt | V45: =R45 -> 1 | W45: =S45/T45 -> #DIV/0!
A46: C. Henry | B46: 0 | R46: 2 | S46: 146 | T46: 3 | U46: =IF(Q46="",U45,Q46) -> J. Hunt | V46: =R46 -> 2 | W46: =S46/T46 -> 48.666667
R47: 3 | S47: 79 | T47: 1 | U47: =IF(Q47="",U46,Q47) -> J. Hunt | V47: =R47 -> 3 | W47: =S47/T47 -> 79
R48: 4 | S48: 181 | T48: 3 | U48: =IF(Q48="",U47,Q48) -> J. Hunt | V48: =R48 -> 4 | W48: =S48/T48 -> 60.333333
R49: 5 | S49: 77 | T49: 2 | U49: =IF(Q49="",U48,Q49) -> J. Hunt | V49: =R49 -> 5 | W49: =S49/T49 -> 38.5
Q50: J. Leefe | R50: 1 | S50: 3 | T50: 1 | U50: =IF(Q50="",U49,Q50) -> J. Leefe | V50: =R50 -> 1 | W50: =S50/T50 -> 3
R51: 6 | S51: 13 | T51: 1 | U51: =IF(Q51="",U50,Q51) -> J. Leefe | V51: =R51 -> 6 | W51: =S51/T51 -> 13
R52: 7 | S52: 1 | T52: 0 | U52: =IF(Q52="",U51,Q52) -> J. Leefe | V52: =R52 -> 7 | W52: =S52/T52 -> #DIV/0!
R53: 8 | S53: 9 | T53: 2 | U53: =IF(Q53="",U52,Q53) -> J. Leefe | V53: =R53 -> 8 | W53: =S53/T53 -> 4.5
R54: 9 | S54: 24 | T54: 3 | U54: =IF(Q54="",U53,Q54) -> J. Leefe | V54: =R54 -> 9 | W54: =S54/T54 -> 8
R55: 10 | S55: 22 | T55: 0 | U55: =IF(Q55="",U54,Q55) -> J. Leefe | V55: =R55 -> 10 | W55: =S55/T55 -> #DIV/0!
Q56: J. Moberly | R56: 2 | S56: 23 | T56: 2 | U56: =IF(Q56="",U55,Q56) -> J. Moberly | V56: =R56 -> 2 | W56: =S56/T56 -> 11.5
R57: 5 | S57: 8 | T57: 2 | U57: =IF(Q57="",U56,Q57) -> J. Moberly | V57: =R57 -> 5 | W57: =S57/T57 -> 4
R58: 7 | S58: 6 | T58: 1 | U58: =IF(Q58="",U57,Q58) -> J. Moberly | V58: =R58 -> 7 | W58: =S58/T58 -> 6
Q59: J. Moser | R59: 5 | S59: 0 | T59: 0 | U59: =IF(Q59="",U58,Q59) -> J. Moser | V59: =R59 -> 5 | W59: =S59/T59 -> #DIV/0!
R60: 8 | S60: 20 | T60: 1 | U60: =IF(Q60="",U59,Q60) -> J. Moser | V60: =R60 -> 8 | W60: =S60/T60 -> 20
R61: 10 | S61: 0 | T61: 1 | U61: =IF(Q61="",U60,Q61) -> J. Moser | V61: =R61 -> 10 | W61: =S61/T61 -> 0
R62: 11 | S62: 17 | T62: 0 | U62: =IF(Q62="",U61,Q62) -> J. Moser | V62: =R62 -> 11 | W62: =S62/T62 -> #DIV/0!
Q63: J. Phillips | R63: 6 | S63: 40 | T63: 0 | U63: =IF(Q63="",U62,Q63) -> J. Phillips | V63: =R63 -> 6 | W63: =S63/T63 -> #DIV/0!
Q64: J. Thornton | R64: 6 | S64: 0 | T64: 1 | U64: =IF(Q64="",U63,Q64) -> J. Thornton | V64: =R64 -> 6 | W64: =S64/T64 -> 0
R65: 7 | S65: 0 | T65: 1 | U65: =IF(Q65="",U64,Q65) -> J. Thornton | V65: =R65 -> 7 | W65: =S65/T65 -> 0
R66: 9 | S66: 4 | T66: 0 | U66: =IF(Q66="",U65,Q66) -> J. Thornton | V66: =R66 -> 9 | W66: =S66/T66 -> #DIV/0!
Q67: M. Kiernan | R67: 6 | S67: 33 | T67: 1 | U67: =IF(Q67="",U66,Q67) -> M. Kiernan | V67: =R67 -> 6 | W67: =S67/T67 -> 33
R68: 7 | S68: 7 | T68: 2 | U68: =IF(Q68="",U67,Q68) -> M. Kiernan | V68: =R68 -> 7 | W68: =S68/T68 -> 3.5
Q69: N. Fox | R69: 6 | S69: 1 | T69: 0 | U69: =IF(Q69="",U68,Q69) -> N. Fox | V69: =R69 -> 6 | W69: =S69/T69 -> #DIV/0!
Q70: N. Henry | R70: 7 | S70: 13 | T70: 2 | U70: =IF(Q70="",U69,Q70) -> N. Henry | V70: =R70 -> 7 | W70: =S70/T70 -> 6.5
R71: 8 | S71: 13 | T71: 2 | U71: =IF(Q71="",U70,Q71) -> N. Henry | V71: =R71 -> 8 | W71: =S71/T71 -> 6.5
R72: 9 | S72: 23 | T72: 3 | U72: =IF(Q72="",U71,Q72) -> N. Henry | V72: =R72 -> 9 | W72: =S72/T72 -> 7.6666667
R73: 11 | S73: 7 | T73: 0 | U73: =IF(Q73="",U72,Q73) -> N. Henry | V73: =R73 -> 11 | W73: =S73/T73 -> #DIV/0!
Q74: N. Runkell | R74: 1 | S74: 4 | T74: 1 | U74: =IF(Q74="",U73,Q74) -> N. Runkell | V74: =R74 -> 1 | W74: =S74/T74 -> 4
R75: 7 | S75: 5 | T75: 1 | U75: =IF(Q75="",U74,Q75) -> N. Runkell | V75: =R75 -> 7 | W75: =S75/T75 -> 5
R76: 9 | S76: 13 | T76: 1 | U76: =IF(Q76="",U75,Q76) -> N. Runkell | V76: =R76 -> 9 | W76: =S76/T76 -> 13
R77: 11 | S77: 5 | T77: 1 | U77: =IF(Q77="",U76,Q77) -> N. Runkell | V77: =R77 -> 11 | W77: =S77/T77 -> 5
Q78: O. Brett | R78: 1 | S78: 18 | T78: 2 | U78: =IF(Q78="",U77,Q78) -> O. Brett | V78: =R78 -> 1 | W78: =S78/T78 -> 9
R79: 2 | S79: 22 | T79: 1 | U79: =IF(Q79="",U78,Q79) -> O. Brett | V79: =R79 -> 2 | W79: =S79/T79 -> 22
R80: 5 | S80: 21 | T80: 1 | U80: =IF(Q80="",U79,Q80) -> O. Brett | V80: =R80 -> 5 | W80: =S80/T80 -> 21
R81: 7 | S81: 0 | T81: 1 | U81: =IF(Q81="",U80,Q81) -> O. Brett | V81: =R81 -> 7 | W81: =S81/T81 -> 0
Q82: O. Thornton | R82: 1 | S82: 29 | T82: 1 | U82: =IF(Q82="",U81,Q82) -> O. Thornton | V82: =R82 -> 1 | W82: =S82/T82 -> 29
R83: 2 | S83: 126 | T83: 2 | U83: =IF(Q83="",U82,Q83) -> O. Thornton | V83: =R83 -> 2 | W83: =S83/T83 -> 63
R84: 3 | S84: 44 | T84: 2 | U84: =IF(Q84="",U83,Q84) -> O. Thornton | V84: =R84 -> 3 | W84: =S84/T84 -> 22
R85: 4 | S85: 77 | T85: 1 | U85: =IF(Q85="",U84,Q85) -> O. Thornton | V85: =R85 -> 4 | W85: =S85/T85 -> 77
Q86: P. Briffett | R86: 1 | S86: 10 | T86: 2 | U86: =IF(Q86="",U85,Q86) -> P. Briffett | V86: =R86 -> 1 | W86: =S86/T86 -> 5
R87: 2 | S87: 40 | T87: 5 | U87: =IF(Q87="",U86,Q87) -> P. Briffett | V87: =R87 -> 2 | W87: =S87/T87 -> 8
R88: 3 | S88: 8 | T88: 2 | U88: =IF(Q88="",U87,Q88) -> P. Briffett | V88: =R88 -> 3 | W88: =S88/T88 -> 4
R89: 4 | S89: 17 | T89: 2 | U89: =IF(Q89="",U88,Q89) -> P. Briffett | V89: =R89 -> 4 | W89: =S89/T89 -> 8.5
R90: 5 | S90: 4 | T90: 3 | U90: =IF(Q90="",U89,Q90) -> P. Briffett | V90: =R90 -> 5 | W90: =S90/T90 -> 1.3333333
R91: 6 | S91: 10 | T91: 2 | U91: =IF(Q91="",U90,Q91) -> P. Briffett | V91: =R91 -> 6 | W91: =S91/T91 -> 5
R92: 7 | S92: 30 | T92: 0 | U92: =IF(Q92="",U91,Q92) -> P. Briffett | V92: =R92 -> 7 | W92: =S92/T92 -> #DIV/0!
Q93: P. De Zulueta | R93: 7 | S93: 70 | T93: 0 | U93: =IF(Q93="",U92,Q93) -> P. De Zulueta | V93: =R93 -> 7 | W93: =S93/T93 -> #DIV/0!
Q94: R. Dickie | R94: 1 | S94: 17 | T94: 1 | U94: =IF(Q94="",U93,Q94) -> R. Dickie | V94: =R94 -> 1 | W94: =S94/T94 -> 17
R95: 3 | S95: 21 | T95: 2 | U95: =IF(Q95="",U94,Q95) -> R. Dickie | V95: =R95 -> 3 | W95: =S95/T95 -> 10.5
R96: 4 | S96: 17 | T96: 3 | U96: =IF(Q96="",U95,Q96) -> R. Dickie | V96: =R96 -> 4 | W96: =S96/T96 -> 5.6666667
R97: 5 | S97: 11 | T97: 1 | U97: =IF(Q97="",U96,Q97) -> R. Dickie | V97: =R97 -> 5 | W97: =S97/T97 -> 11
R98: 8 | S98: 0 | T98: 1 | U98: =IF(Q98="",U97,Q98) -> R. Dickie | V98: =R98 -> 8 | W98: =S98/T98 -> 0
Q99: R. Gunn | R99: 3 | S99: 53 | T99: 3 | U99: =IF(Q99="",U98,Q99) -> R. Gunn | V99: =R99 -> 3 | W99: =S99/T99 -> 17.666667
R100: 4 | S100: 106 | T100: 2 | U100: =IF(Q100="",U99,Q100) -> R. Gunn | V100: =R100 -> 4 | W100: =S100/T100 -> 53
...

Sheet Bowling Summary
A1: Bowler | B1: Wickets
A2: N. Henry | B2: 22 | D2: N. Henry | E2: 22
A3: A. Harvey-Thompson | B3: 17 | D3: A. Harvey-Thompson | E3: 17
A4: T. White | B4: 17 | D4: T. White | E4: 17
A5: J. Hunt | B5: 16 | D5: J. Hunt | E5: 16
A6: N. Runkell | B6: 16 | D6: N. Runkell | E6: 16
A7: J. Hancock | B7: 13 | D7: J. Hancock | E7: 13
A8: O. Thornton | B8: 12 | D8: O. Thornton | E8: 12
A9: J. Leefe | B9: 11 | D9: J. Leefe | E9: 11
A10: P. Briffett | B10: 9 | D10: P. Briffett | E10: 9
A11: J. Rogers | B11: 8 | D11: J. Rogers | E11: 8
A12: S. Beardall | B12: 7 | D12: S. Beardall | E12: 7
A13: A. Bignell | B13: 5 | D13: A. Bignell | E13: 5
... A17: T. Farley | B17: 3 | D17: Other | E17: 21
A18: A. Eykyn | B18: 2
A19: B. West | B19: 2
A20: C. Beardall | B20: 2
A21: T. Foot | B21: 2
A22: T. Wade | B22: 2
A23: B. Bazell | B23: 1
A24: B. Bucknell | B24: 1
A25: D. Mackintosh | B25: 1
A26: D. Stockings | B26: 1
A27: H. Beardall | B27: 1
A28: J. Thornton | B28: 1
A29: M. Kiernan | B29: 1
... A38: W. Strickland | B38: 0

Sheet Combined Data
A1: Ctrl+q
A4: Date | B4: Opposition | C4: Match Status | D4: Home/Away | E4: TPCC Batting First | F4: TPCC Team Score | G4: TPCC Team Wickets | H4: Opposition Team Score | I4: Opposition Team Wickets | J4: TPCC Overs Bowled | K4: TPCC Overs Faced | L4: Batting Extras | M4: Bowling Extras | N4: Batsmen Position | O4: Batsmen Name | P4: Batsmen Runs | Q4: Batsmen Out | R4: Bowler Position | S4: Bowler Name | T4: Bowler Overs | U4: Bowler Maidens | V4: Bowler Wickets | W4: Bowler Runs
A5: 40650 | B5: Penn Street | C5: Win | D5: Home | E5: First | F5: 84 | G5: 3 | H5: 83 | I5: 9 | J5: 30.5 | K5: 18 | L5: 10 | M5: 6 | N5: 1 | O5: H. Beardall | P5: 32 | Q5: 1 | R5: 1 | S5: J. Hunt | T5: 5 | U5: 2 | V5: 1 | W5: 13
A6: 40650 | B6: Penn Street | C6: Win | D6: Home | E6: First | F6: 84 | G6: 3 | H6: 83 | I6: 9 | J6: 30.5 | K6: 18 | L6: 10 | M6: 6 | N6: 2 | O6: S. Bucknill | P6: 34 | Q6: 0 | R6: 2 | S6: J. Leefe | T6: 7 | U6: 3 | V6: 2 | W6: 13
A7: 40650 | B7: Penn Street | C7: Win | D7: Home | E7: First | F7: 84 | G7: 3 | H7: 83 | I7: 9 | J7: 30.5 | K7: 18 | L7: 10 | M7: 6 | N7: 3 | O7: P. Briffett | P7: 8 | Q7: 1 | R7: 3 | S7: N. Henry | T7: 6 | U7: 2 | V7: 4 | W7: 11
A8: 40650 | B8: Penn Street | C8: Win | D8: Home | E8: First | F8: 84 | G8: 3 | H8: 83 | I8: 9 | J8: 30.5 | K8: 18 | L8: 10 | M8: 6 | N8: 4 | O8: S. Beardall | P8: 0 | Q8: 1 | R8: 4 | S8: J. Moser | T8: 6 | U8: 0 | V8: 0 | W8: 30
A9: 40650 | B9: Penn Street | C9: Win | D9: Home | E9: First | F9: 84 | G9: 3 | H9: 83 | I9: 9 | J9: 30.5 | K9: 18 | L9: 10 | M9: 6 | N9: 5 | O9: J. Moser | P9: 0 | Q9: 0 | R9: 5 | S9: A. Harvey-Thompson | T9: 5 | U9: 3 | V9: 0 | W9: 7
A10: 40650 | B10: Penn Street | C10: Win | D10: Home | E10: First | F10: 84 | G10: 3 | H10: 83 | I10: 9 | J10: 30.5 | K10: 18 | L10: 10 | M10: 6 | N10: 6 | O10: 0 | P10: 0 | Q10: 0 | R10: 6 | S10: T. White | T10: 1.5 | U10: 0 | V10: 2 | W10: 3
A11: 40650 | B11: Penn Street | C11: Win | D11: Home | E11: First | F11: 84 | G11: 3 | H11: 83 | I11: 9 | J11: 30.5 | K11: 18 | L11: 10 | M11: 6 | N11: 7 | O11: 0 | P11: 0 | Q11: 0 | R11: 7 | S11: 0 | T11: 0 | U11: 0 | V11: 0 | W11: 0
A12: 40650 | B12: Penn Street | C12: Win | D12: Home | E12: First | F12: 84 | G12: 3 | H12: 83 | I12: 9 | J12: 30.5 | K12: 18 | L12: 10 | M12: 6 | N12: 8 | O12: 0 | P12: 0 | Q12: 0 | R12: 8 | S12: 0 | T12: 0 | U12: 0 | V12: 0 | W12: 0
A13: 40650 | B13: Penn Street | C13: Win | D13: Home | E13: First | F13: 84 | G13: 3 | H13: 83 | I13: 9 | J13: 30.5 | K13: 18 | L13: 10 | M13: 6 | N13: 9 | O13: 0 | P13: 0 | Q13: 0 | R13: 9 | S13: 0 | T13: 0 | U13: 0 | V13: 0 | W13: 0
A14: 40650 | B14: Penn Street | C14: Win | D14: Home | E14: First | F14: 84 | G14: 3 | H14: 83 | I14: 9 | J14: 30.5 | K14: 18 | L14: 10 | M14: 6 | N14: 10 | O14: 0 | P14: 0 | Q14: 0 | R14: 10 | S14: 0 | T14: 0 | U14: 0 | V14: 0 | W14: 0
A15: 40650 | B15: Penn Street | C15: Win | D15: Home | E15: First | F15: 84 | G15: 3 | H15: 83 | I15: 9 | J15: 30.5 | K15: 18 | L15: 10 | M15: 6 | N15: 11 | O15: 0 | P15: 0 | Q15: 0 | R15: 11 | S15: 0 | T15: 0 | U15: 0 | V15: 0 | W15: 0
A16: 40656 | B16: White Waltham | C16: Loss | D16: Away | E16: Second | F16: 68 | G16: 10 | H16: 192 | I16: 10 | J16: 36 | K16: 22 | L16: 19 | M16: 0 | N16: 1 | O16: R. Dickie | P16: 17 | Q16: 1 | R16: 1 | S16: J. Leefe | T16: 7 | U16: 0 | V16: 0 | W16: 50
A17: 40656 | B17: White Waltham | C17: Loss | D17: Away | E17: Second | F17: 68 | G17: 10 | H17: 192 | I17: 10 | J17: 36 | K17: 22 | L17: 19 | M17: 0 | N17: 2 | O17: J. Hunt | P17: 0 | Q17: 1 | R17: 2 | S17: T. White | T17: 9 | U17: 1 | V17: 0 | W17: 49
A18: 40656 | B18: White Waltham | C18: Loss | D18: Away | E18: Second | F18: 68 | G18: 10 | H18: 192 | I18: 10 | J18: 36 | K18: 22 | L18: 19 | M18: 0 | N18: 3 | O18: S. Halfhead | P18: 0 | Q18: 1 | R18: 3 | S18: J. Hunt | T18: 5 | U18: 1 | V18: 1 | W18: 18
A19: 40656 | B19: White Waltham | C19: Loss | D19: Away | E19: Second | F19: 68 | G19: 10 | H19: 192 | I19: 10 | J19: 36 | K19: 22 | L19: 19 | M19: 0 | N19: 4 | O19: C. Seigal | P19: 0 | Q19: 1 | R19: 4 | S19: N. Runkell | T19: 9 | U19: 1 | V19: 6 | W19: 44
A20: 40656 | B20: White Waltham | C20: Loss | D20: Away | E20: Second | F20: 68 | G20: 10 | H20: 192 | I20: 10 | J20: 36 | K20: 22 | L20: 19 | M20: 0 | N20: 5 | O20: P. Briffett | P20: 0 | Q20: 1 | R20: 5 | S20: N. Henry | T20: 6 | U20: 0 | V20: 1 | W20: 31
A21: 40656 | B21: White Waltham | C21: Loss | D21: Away | E21: Second | F21: 68 | G21: 10 | H21: 192 | I21: 10 | J21: 36 | K21: 22 | L21: 19 | M21: 0 | N21: 6 | O21: J. Leefe | P21: 13 | Q21: 1 | R21: 6 | S21: Run Out | T21: 0 | U21: 0 | V21: 1 | W21: 0
A22: 40656 | B22: White Waltham | C22: Loss | D22: Away | E22: Second | F22: 68 | G22: 10 | H22: 192 | I22: 10 | J22: 36 | K22: 22 | L22: 19 | M22: 0 | N22: 7 | O22: N. Henry | P22: 13 | Q22: 1 | R22: 7 | S22: Retired | T22: 0 | U22: 0 | V22: 1 | W22: 0
A23: 40656 | B23: White Waltham | C23: Loss | D23: Away | E23: Second | F23: 68 | G23: 10 | H23: 192 | I23: 10 | J23: 36 | K23: 22 | L23: 19 | M23: 0 | N23: 8 | O23: R. Hunt | P23: 4 | Q23: 1 | R23: 8 | S23: 0 | T23: 0 | U23: 0 | V23: 0 | W23: 0
A24: 40656 | B24: White Waltham | C24: Loss | D24: Away | E24: Second | F24: 68 | G24: 10 | H24: 192 | I24: 10 | J24: 36 | K24: 22 | L24: 19 | M24: 0 | N24: 9 | O24: T. White | P24: 0 | Q24: 1 | R24: 9 | S24: 0 | T24: 0 | U24: 0 | V24: 0 | W24: 0
A25: 40656 | B25: White Waltham | C25: Loss | D25: Away | E25: Second | F25: 68 | G25: 10 | H25: 192 | I25: 10 | J25: 36 | K25: 22 | L25: 19 | M25: 0 | N25: 10 | O25: Ra. Dickie | P25: 0 | Q25: 0 | R25: 10 | S25: 0 | T25: 0 | U25: 0 | V25: 0 | W25: 0
A26: 40656 | B26: White Waltham | C26: Loss | D26: Away | E26: Second | F26: 68 | G26: 10 | H26: 192 | I26: 10 | J26: 36 | K26: 22 | L26: 19 | M26: 0 | N26: 11 | O26: N. Runkell | P26: 2 | Q26: 1 | R26: 11 | S26: 0 | T26: 0 | U26: 0 | V26: 0 | W26: 0
A27: 40664 | B27: Brightwell-Cum-Sotwell | C27: Win | D27: Home | E27: Second | F27: 135 | G27: 2 | H27: 132 | I27: 7 | J27: 48 | K27: 26 | L27: 7 | M27: 3 | N27: 1 | O27: S. Beardall | P27: 84 | Q27: 0 | R27: 1 | S27: J. Hunt | T27: 8 | U27: 1 | V27: 1 | W27: 13
A28: 40664 | B28: Brightwell-Cum-Sotwell | C28: Win | D28: Home | E28: Second | F28: 135 | G28: 2 | H28: 132 | I28: 7 | J28: 48 | K28: 26 | L28: 7 | M28: 3 | N28: 2 | O28: P. Briffett | P28: 16 | Q28: 1 | R28: 2 | S28: N. Henry | T28: 7 | U28: 2 | V28: 1 | W28: 6
A29: 40664 | B29: Brightwell-Cum-Sotwell | C29: Win | D29: Home | E29: Second | F29: 135 | G29: 2 | H29: 132 | I29: 7 | J29: 48 | K29: 26 | L29: 7 | M29: 3 | N29: 3 | O29: R. Dickie | P29: 19 | Q29: 1 | R29: 3 | S29: T. White | T29: 6 | U29: 1 | V29: 2 | W29: 6
A30: 40664 | B30: Brightwell-Cum-Sotwell | C30: Win | D30: Home | E30: Second | F30: 135 | G30: 2 | H30: 132 | I30: 7 | J30: 48 | K30: 26 | L30: 7 | M30: 3 | N30: 4 | O30: J. Hunt | P30: 9 | Q30: 0 | R30: 4 | S30: J. Thornton | T30: 5 | U30: 3 | V30: 0 | W30: 4
A31: 40664 | B31: Brightwell-Cum-Sotwell | C31: Win | D31: Home | E31: Second | F31: 135 | G31: 2 | H31: 132 | I31: 7 | J31: 48 | K31: 26 | L31: 7 | M31: 3 | N31: 5 | O31: 0 | P31: 0 | Q31: 0 | R31: 5 | S31: J. Rogers | T31: 11 | U31: 2 | V31: 2 | W31: 24
A32: 40664 | B32: Brightwell-Cum-Sotwell | C32: Win | D32: Home | E32: Second | F32: 135 | G32: 2 | H32: 132 | I32: 7 | J32: 48 | K32: 26 | L32: 7 | M32: 3 | N32: 6 | O32: 0 | P32: 0 | Q32: 0 | R32: 6 | S32: R. Dickie | T32: 3 | U32: 0 | V32: 0 | W32: 26
A33: 40664 | B33: Brightwell-Cum-Sotwell | C33: Win | D33: Home | E33: Second | F33: 135 | G33: 2 | H33: 132 | I33: 7 | J33: 48 | K33: 26 | L33: 7 | M33: 3 | N33: 7 | O33: 0 | P33: 0 | Q33: 0 | R33: 7 | S33: P. Briffett | T33: 4 | U33: 0 | V33: 1 | W33: 32
A34: 40664 | B34: Brightwell-Cum-Sotwell | C34: Win | D34: Home | E34: Second | F34: 135 | G34: 2 | H34: 132 | I34: 7 | J34: 48 | K34: 26 | L34: 7 | M34: 3 | N34: 8 | O34: 0 | P34: 0 | Q34: 0 | R34: 8 | S34: C. Rogers | T34: 3 | U34: 0 | V34: 0 | W34: 12
A35: 40664 | B35: Brightwell-Cum-Sotwell | C35: Win | D35: Home | E35: Second | F35: 135 | G35: 2 | H35: 132 | I35: 7 | J35: 48 | K35: 26 | L35: 7 | M35: 3 | N35: 9 | O35: 0 | P35: 0 | Q35: 0 | R35: 9 | S35: S. Beardall | T35: 1 | U35: 0 | V35: 0 | W35: 6
A36: 40664 | B36: Brightwell-Cum-Sotwell | C36: Win | D36: Home | E36: Second | F36: 135 | G36: 2 | H36: 132 | I36: 7 | J36: 48 | K36: 26 | L36: 7 | M36: 3 | N36: 10 | O36: 0 | P36: 0 | Q36: 0 | R36: 10 | S36: 0 | T36: 0 | U36: 0 | V36: 0 | W36: 0
A37: 40664 | B37: Brightwell-Cum-Sotwell | C37: Win | D37: Home | E37: Second | F37: 135 | G37: 2 | H37: 132 | I37: 7 | J37: 48 | K37: 26 | L37: 7 | M37: 3 | N37: 11 | O37: 0 | P37: 0 | Q37: 0 | R37: 11 | S37: 0 | T37: 0 | U37: 0 | V37: 0 | W37: 0
A38: 40670 | B38: Greys Green (1) | C38: Loss | D38: Home | E38: Second | F38: 86 | G38: 10 | H38: 122 | I38: 7 | J38: 48 | K38: 28 | L38: 7 | M38: 3 | N38: 1 | O38: C. Simon | P38: 0 | Q38: 1 | R38: 1 | S38: J. Leefe | T38: 8 | U38: 1 | V38: 0 | W38: 17
A39: 40670 | B39: Greys Green (1) | C39: Loss | D39: Home | E39: Second | F39: 86 | G39: 10 | H39: 122 | I39: 7 | J39: 48 | K39: 28 | L39: 7 | M39: 3 | N39: 2 | O39: J. Hunt | P39: 19 | Q39: 1 | R39: 2 | S39: J. Hunt | T39: 5 | U39: 3 | V39: 1 | W39: 2
A40: 40670 | B40: Greys Green (1) | C40: Loss | D40: Home | E40: Second | F40: 86 | G40: 10 | H40: 122 | I40: 7 | J40: 48 | K40: 28 | L40: 7 | M40: 3 | N40: 3 | O40: R. Gunn | P40: 0 | Q40: 1 | R40: 3 | S40: N. Henry | T40: 17 | U40: 5 | V40: 4 | W40: 39
A41: 40670 | B41: Greys Green (1) | C41: Loss | D41: Home | E41: Second | F41: 86 | G41: 10 | H41: 122 | I41: 7 | J41: 48 | K41: 28 | L41: 7 | M41: 3 | N41: 4 | O41: P. Briffett | P41: 15 | Q41: 1 | R41: 4 | S41: T. White | T41: 14 | U41: 1 | V41: 1 | W41: 37
A42: 40670 | B42: Greys Green (1) | C42: Loss | D42: Home | E42: Second | F42: 86 | G42: 10 | H42: 122 | I42: 7 | J42: 48 | K42: 28 | L42: 7 | M42: 3 | N42: 5 | O42: D. Stockings | P42: 17 | Q42: 1 | R42: 5 | S42: S. Beardall | T42: 4 | U42: 0 | V42: 1 | W42: 24
A43: 40670 | B43: Greys Green (1) | C43: Loss | D43: Home | E43: Second | F43: 86 | G43: 10 | H43: 122 | I43: 7 | J43: 48 | K43: 28 | L43: 7 | M43: 3 | N43: 6 | O43: H. Beardall | P43: 13 | Q43: 1 | R43: 6 | S43: 0 | T43: 0 | U43: 0 | V43: 0 | W43: 0
A44: 40670 | B44: Greys Green (1) | C44: Loss | D44: Home | E44: Second | F44: 86 | G44: 10 | H44: 122 | I44: 7 | J44: 48 | K44: 28 | L44: 7 | M44: 3 | N44: 7 | O44: S. Beardall | P44: 6 | Q44: 1 | R44: 7 | S44: 0 | T44: 0 | U44: 0 | V44: 0 | W44: 0
A45: 40670 | B45: Greys Green (1) | C45: Loss | D45: Home | E45: Second | F45: 86 | G45: 10 | H45: 122 | I45: 7 | J45: 48 | K45: 28 | L45: 7 | M45: 3 | N45: 8 | O45: J. Leefe | P45: 3 | Q45: 1 | R45: 8 | S45: 0 | T45: 0 | U45: 0 | V45: 0 | W45: 0
A46: 40670 | B46: Greys Green (1) | C46: Loss | D46: Home | E46: Second | F46: 86 | G46: 10 | H46: 122 | I46: 7 | J46: 48 | K46: 28 | L46: 7 | M46: 3 | N46: 9 | O46: N. Henry | P46: 6 | Q46: 1 | R46: 9 | S46: 0 | T46: 0 | U46: 0 | V46: 0 | W46: 0
A47: 40670 | B47: Greys Green (1) | C47: Loss | D47: Home | E47: Second | F47: 86 | G47: 10 | H47: 122 | I47: 7 | J47: 48 | K47: 28 | L47: 7 | M47: 3 | N47: 10 | O47: T. White | P47: 0 | Q47: 0 | R47: 10 | S47: 0 | T47: 0 | U47: 0 | V47: 0 | W47: 0
A48: 40670 | B48: Greys Green (1) | C48: Loss | D48: Home | E48: Second | F48: 86 | G48: 10 | H48: 122 | I48: 7 | J48: 48 | K48: 28 | L48: 7 | M48: 3 | N48: 11 | O48: B. Bazell | P48: 0 | Q48: 1 | R48: 11 | S48: 0 | T48: 0 | U48: 0 | V48: 0 | W48: 0
A49: 40677 | B49: Crazies Hill | C49: Draw | D49: Away | E49: Second | F49: 123 | G49: 6 | H49: 222 | I49: 6 | J49: 36 | K49: 36 | L49: 10 | M49: 4 | N49: 1 | O49: C. Simon | P49: 7 | Q49: 1 | R49: 1 | S49: J. Leefe | T49: 9 | U49: 0 | V49: 2 | W49: 35
A50: 40677 | B50: Crazies Hill | C50: Draw | D50: Away | E50: Second | F50: 123 | G50: 6 | H50: 222 | I50: 6 | J50: 36 | K50: 36 | L50: 10 | M50: 4 | N50: 2 | O50: S. Bucknill | P50: 1 | Q50: 1 | R50: 2 | S50: S. Beardall | T50: 9 | U50: 0 | V50: 2 | W50: 66
A51: 40677 | B51: Crazies Hill | C51: Draw | D51: Away | E51: Second | F51: 123 | G51: 6 | H51: 222 | I51: 6 | J51: 36 | K51: 36 | L51: 10 | M51: 4 | N51: 3 | O51: S. Beardall | P51: 14 | Q51: 1 | R51: 3 | S51: A. Harvey-Thompson | T51: 13 | U51: 1 | V51: 2 | W51: 62
A52: 40677 | B52: Crazies Hill | C52: Draw | D52: Away | E52: Second | F52: 123 | G52: 6 | H52: 222 | I52: 6 | J52: 36 | K52: 36 | L52: 10 | M52: 4 | N52: 4 | O52: R. Dickie | P52: 7 | Q52: 1 | R52: 4 | S52: N. Runkell | T52: 4 | U52: 0 | V52: 0 | W52: 48
A53: 40677 | B53: Crazies Hill | C53: Draw | D53: Away | E53: Second | F53: 123 | G53: 6 | H53: 222 | I53: 6 | J53: 36 | K53: 36 | L53: 10 | M53: 4 | N53: 5 | O53: O. Brett | P53: 21 | Q53: 1 | R53: 5 | S53: O. Brett | T53: 1 | U53: 0 | V53: 0 | W53: 7
A54: 40677 | B54: Crazies Hill | C54: Draw | D54: Away | E54: Second | F54: 123 | G54: 6 | H54: 222 | I54: 6 | J54: 36 | K54: 36 | L54: 10 | M54: 4 | N54: 6 | O54: B. Bazell | P54: 61 | Q54: 1 | R54: 6 | S54: 0 | T54: 0 | U54: 0 | V54: 0 | W54: 0
A55: 40677 | B55: Crazies Hill | C55: Draw | D55: Away | E55: Second | F55: 123 | G55: 6 | H55: 222 | I55: 6 | J55: 36 | K55: 36 | L55: 10 | M55: 4 | N55: 7 | O55: J. Leefe | P55: 1 | Q55: 0 | R55: 7 | S55: 0 | T55: 0 | U55: 0 | V55: 0 | W55: 0
A56: 40677 | B56: Crazies Hill | C56: Draw | D56: Away | E56: Second | F56: 123 | G56: 6 | H56: 222 | I56: 6 | J56: 36 | K56: 36 | L56: 10 | M56: 4 | N56: 8 | O56: Ra. Dickie | P56: 1 | Q56: 0 | R56: 8 | S56: 0 | T56: 0 | U56: 0 | V56: 0 | W56: 0
A57: 40677 | B57: Crazies Hill | C57: Draw | D57: Away | E57: Second | F57: 123 | G57: 6 | H57: 222 | I57: 6 | J57: 36 | K57: 36 | L57: 10 | M57: 4 | N57: 9 | O57: 0 | P57: 0 | Q57: 0 | R57: 9 | S57: 0 | T57: 0 | U57: 0 | V57: 0 | W57: 0
A58: 40677 | B58: Crazies Hill | C58: Draw | D58: Away | E58: Second | F58: 123 | G58: 6 | H58: 222 | I58: 6 | J58: 36 | K58: 36 | L58: 10 | M58: 4 | N58: 10 | O58: 0 | P58: 0 | Q58: 0 | R58: 10 | S58: 0 | T58: 0 | U58: 0 | V58: 0 | W58: 0
A59: 40677 | B59: Crazies Hill | C59: Draw | D59: Away | E59: Second | F59: 123 | G59: 6 | H59: 222 | I59: 6 | J59: 36 | K59: 36 | L59: 10 | M59: 4 | N59: 11 | O59: 0 | P59: 0 | Q59: 0 | R59: 11 | S59: 0 | T59: 0 | U59: 0 | V59: 0 | W59: 0
A60: 40678 | B60: Britwell Salome | C60: Draw | D60: Away | E60: First | F60: 297 | G60: 6 | H60: 163 | I60: 8 | J60: 39 | K60: 34 | L60: 19 | M60: 25 | N60: 1 | O60: P. Briffett | P60: 2 | Q60: 1 | R60: 1 | S60: J. Leefe | T60: 10 | U60: 0 | V60: 3 | W60: 42
A61: 40678 | B61: Britwell Salome | C61: Draw | D61: Away | E61: First | F61: 297 | G61: 6 | H61: 163 | I61: 8 | J61: 39 | K61: 34 | L61: 19 | M61: 25 | N61: 2 | O61: A. Bignell | P61: 0 | Q61: 1 | R61: 2 | S61: S. Beardall | T61: 7 | U61: 1 | V61: 1 | W61: 28
A62: 40678 | B62: Britwell Salome | C62: Draw | D62: Away | E62: First | F62: 297 | G62: 6 | H62: 163 | I62: 8 | J62: 39 | K62: 34 | L62: 19 | M62: 25 | N62: 3 | O62: R. Gunn | P62: 8 | Q62: 1 | R62: 3 | S62: A. Bignell | T62: 10 | U62: 4 | V62: 3 | W62: 23
A63: 40678 | B63: Britwell Salome | C63: Draw | D63: Away | E63: First | F63: 297 | G63: 6 | H63: 163 | I63: 8 | J63: 39 | K63: 34 | L63: 19 | M63: 25 | N63: 4 | O63: J. Hunt | P63: 149 | Q63: 0 | R63: 4 | S63: P. Briffett | T63: 3 | U63: 0 | V63: 0 | W63: 33
A64: 40678 | B64: Britwell Salome | C64: Draw | D64: Away | E64: First | F64: 297 | G64: 6 | H64: 163 | I64: 8 | J64: 39 | K64: 34 | L64: 19 | M64: 25 | N64: 5 | O64: J. Hancock | P64: 95 | Q64: 1 | R64: 5 | S64: D. Stockings | T64: 3 | U64: 1 | V64: 0 | W64: 4
A65: 40678 | B65: Britwell Salome | C65: Draw | D65: Away | E65: First | F65: 297 | G65: 6 | H65: 163 | I65: 8 | J65: 39 | K65: 34 | L65: 19 | M65: 25 | N65: 6 | O65: D. Hyman | P65: 14 | Q65: 1 | R65: 6 | S65: J. Hancock | T65: 3 | U65: 1 | V65: 0 | W65: 5
A66: 40678 | B66: Britwell Salome | C66: Draw | D66: Away | E66: First | F66: 297 | G66: 6 | H66: 163 | I66: 8 | J66: 39 | K66: 34 | L66: 19 | M66: 25 | N66: 7 | O66: D. Stockings | P66: 10 | Q66: 1 | R66: 7 | S66: J. Hunt | T66: 3 | U66: 1 | V66: 1 | W66: 3
A67: 40678 | B67: Britwell Salome | C67: Draw | D67: Away | E67: First | F67: 297 | G67: 6 | H67: 163 | I67: 8 | J67: 39 | K67: 34 | L67: 19 | M67: 25 | N67: 8 | O67: 0 | P67: 0 | Q67: 0 | R67: 8 | S67: 0 | T67: 0 | U67: 0 | V67: 0 | W67: 0
A68: 40678 | B68: Britwell Salome | C68: Draw | D68: Away | E68: First | F68: 297 | G68: 6 | H68: 163 | I68: 8 | J68: 39 | K68: 34 | L68: 19 | M68: 25 | N68: 9 | O68: 0 | P68: 0 | Q68: 0 | R68: 9 | S68: 0 | T68: 0 | U68: 0 | V68: 0 | W68: 0
A69: 40678 | B69: Britwell Salome | C69: Draw | D69: Away | E69: First | F69: 297 | G69: 6 | H69: 163 | I69: 8 | J69: 39 | K69: 34 | L69: 19 | M69: 25 | N69: 10 | O69: 0 | P69: 0 | Q69: 0 | R69: 10 | S69: 0 | T69: 0 | U69: 0 | V69: 0 | W69: 0
A70: 40678 | B70: Britwell Salome | C70: Draw | D70: Away | E70: First | F70: 297 | G70: 6 | H70: 163 | I70: 8 | J70: 39 | K70: 34 | L70: 19 | M70: 25 | N70: 11 | O70: 0 | P70: 0 | Q70: 0 | R70: 11 | S70: 0 | T70: 0 | U70: 0 | V70: 0 | W70: 0
A71: 40684 | B71: BBC Caversham | C71: Cancelled | D71: Away | E71: 0 | F71: 0 | G71: 0 | H71: 0 | I71: 0 | J71: 0 | K71: 0 | L71: 0 | M71: 0 | N71: 1 | O71: 0 | P71: 0 | Q71: 0 | R71: 1 | S71: 0 | T71: 0 | U71: 0 | V71: 0 | W71: 0
A72: 40684 | B72: BBC Caversham | C72: Cancelled | D72: Away | E72: 0 | F72: 0 | G72: 0 | H72: 0 | I72: 0 | J72: 0 | K72: 0 | L72: 0 | M72: 0 | N72: 2 | O72: 0 | P72: 0 | Q72: 0 | R72: 2 | S72: 0 | T72: 0 | U72: 0 | V72: 0 | W72: 0
A73: 40684 | B73: BBC Caversham | C73: Cancelled | D73: Away | E73: 0 | F73: 0 | G73: 0 | H73: 0 | I73: 0 | J73: 0 | K73: 0 | L73: 0 | M73: 0 | N73: 3 | O73: 0 | P73: 0 | Q73: 0 | R73: 3 | S73: 0 | T73: 0 | U73: 0 | V73: 0 | W73: 0
A74: 40684 | B74: BBC Caversham | C74: Cancelled | D74: Away | E74: 0 | F74: 0 | G74: 0 | H74: 0 | I74: 0 | J74: 0 | K74: 0 | L74: 0 | M74: 0 | N74: 4 | O74: 0 | P74: 0 | Q74: 0 | R74: 4 | S74: 0 | T74: 0 | U74: 0 | V74: 0 | W74: 0
A75: 40684 | B75: BBC Caversham | C75: Cancelled | D75: Away | E75: 0 | F75: 0 | G75: 0 | H75: 0 | I75: 0 | J75: 0 | K75: 0 | L75: 0 | M75: 0 | N75: 5 | O75: 0 | P75: 0 | Q75: 0 | R75: 5 | S75: 0 | T75: 0 | U75: 0 | V75: 0 | W75: 0
A76: 40684 | B76: BBC Caversham | C76: Cancelled | D76: Away | E76: 0 | F76: 0 | G76: 0 | H76: 0 | I76: 0 | J76: 0 | K76: 0 | L76: 0 | M76: 0 | N76: 6 | O76: 0 | P76: 0 | Q76: 0 | R76: 6 | S76: 0 | T76: 0 | U76: 0 | V76: 0 | W76: 0
A77: 40684 | B77: BBC Caversham | C77: Cancelled | D77: Away | E77: 0 | F77: 0 | G77: 0 | H77: 0 | I77: 0 | J77: 0 | K77: 0 | L77: 0 | M77: 0 | N77: 7 | O77: 0 | P77: 0 | Q77: 0 | R77: 7 | S77: 0 | T77: 0 | U77: 0 | V77: 0 | W77: 0
A78: 40684 | B78: BBC Caversham | C78: Cancelled | D78: Away | E78: 0 | F78: 0 | G78: 0 | H78: 0 | I78: 0 | J78: 0 | K78: 0 | L78: 0 | M78: 0 | N78: 8 | O78: 0 | P78: 0 | Q78: 0 | R78: 8 | S78: 0 | T78: 0 | U78: 0 | V78: 0 | W78: 0
A79: 40684 | B79: BBC Caversham | C79: Cancelled | D79: Away | E79: 0 | F79: 0 | G79: 0 | H79: 0 | I79: 0 | J79: 0 | K79: 0 | L79: 0 | M79: 0 | N79: 9 | O79: 0 | P79: 0 | Q79: 0 | R79: 9 | S79: 0 | T79: 0 | U79: 0 | V79: 0 | W79: 0
A80: 40684 | B80: BBC Caversham | C80: Cancelled | D80: Away | E80: 0 | F80: 0 | G80: 0 | H80: 0 | I80: 0 | J80: 0 | K80: 0 | L80: 0 | M80: 0 | N80: 10 | O80: 0 | P80: 0 | Q80: 0 | R80: 10 | S80: 0 | T80: 0 | U80: 0 | V80: 0 | W80: 0
A81: 40684 | B81: BBC Caversham | C81: Cancelled | D81: Away | E81: 0 | F81: 0 | G81: 0 | H81: 0 | I81: 0 | J81: 0 | K81: 0 | L81: 0 | M81: 0 | N81: 11 | O81: 0 | P81: 0 | Q81: 0 | R81: 11 | S81: 0 | T81: 0 | U81: 0 | V81: 0 | W81: 0
A82: 40685 | B82: Checkendon | C82: Loss | D82: Home | E82: Second | F82: 167 | G82: 10 | H82: 198 | I82: 9 | J82: 43 | K82: 38 | L82: 22 | M82: 5 | N82: 1 | O82: S. Beardall | P82: 0 | Q82: 1 | R82: 1 | S82: J. Leefe | T82: 7 | U82: 1 | V82: 2 | W82: 22
A83: 40685 | B83: Checkendon | C83: Loss | D83: Home | E83: Second | F83: 167 | G83: 10 | H83: 198 | I83: 9 | J83: 43 | K83: 38 | L83: 22 | M83: 5 | N83: 2 | O83: P. Briffett | P83: 2 | Q83: 1 | R83: 2 | S83: T. White | T83: 8 | U83: 1 | V83: 2 | W83: 31
A84: 40685 | B84: Checkendon | C84: Loss | D84: Home | E84: Second | F84: 167 | G84: 10 | H84: 198 | I84: 9 | J84: 43 | K84: 38 | L84: 22 | M84: 5 | N84: 3 | O84: J. Hancock | P84: 33 | Q84: 1 | R84: 3 | S84: A. Eykyn | T84: 9 | U84: 3 | V84: 2 | W84: 30
A85: 40685 | B85: Checkendon | C85: Loss | D85: Home | E85: Second | F85: 167 | G85: 10 | H85: 198 | I85: 9 | J85: 43 | K85: 38 | L85: 22 | M85: 5 | N85: 4 | O85: S. Halfhead | P85: 28 | Q85: 1 | R85: 4 | S85: N. Henry | T85: 6 | U85: 0 | V85: 0 | W85: 27
A86: 40685 | B86: Checkendon | C86: Loss | D86: Home | E86: Second | F86: 167 | G86: 10 | H86: 198 | I86: 9 | J86: 43 | K86: 38 | L86: 22 | M86: 5 | N86: 5 | O86: J. Moberly | P86: 8 | Q86: 1 | R86: 5 | S86: J. Moser | T86: 3 | U86: 0 | V86: 0 | W86: 38
A87: 40685 | B87: Checkendon | C87: Loss | D87: Home | E87: Second | F87: 167 | G87: 10 | H87: 198 | I87: 9 | J87: 43 | K87: 38 | L87: 22 | M87: 5 | N87: 6 | O87: H. Beardall | P87: 3 | Q87: 1 | R87: 6 | S87: J. Hancock | T87: 7 | U87: 1 | V87: 2 | W87: 37
A88: 40685 | B88: Checkendon | C88: Loss | D88: Home | E88: Second | F88: 167 | G88: 10 | H88: 198 | I88: 9 | J88: 43 | K88: 38 | L88: 22 | M88: 5 | N88: 7 | O88: A. Eykyn | P88: 22 | Q88: 1 | R88: 7 | S88: S. Beardall | T88: 3 | U88: 0 | V88: 1 | W88: 8
A89: 40685 | B89: Checkendon | C89: Loss | D89: Home | E89: Second | F89: 167 | G89: 10 | H89: 198 | I89: 9 | J89: 43 | K89: 38 | L89: 22 | M89: 5 | N89: 8 | O89: J. Moser | P89: 20 | Q89: 1 | R89: 8 | S89: 0 | T89: 0 | U89: 0 | V89: 0 | W89: 0
A90: 40685 | B90: Checkendon | C90: Loss | D90: Home | E90: Second | F90: 167 | G90: 10 | H90: 198 | I90: 9 | J90: 43 | K90: 38 | L90: 22 | M90: 5 | N90: 9 | O90: J. Leefe | P90: 6 | Q90: 1 | R90: 9 | S90: 0 | T90: 0 | U90: 0 | V90: 0 | W90: 0
A91: 40685 | B91: Checkendon | C91: Loss | D91: Home | E91: Second | F91: 167 | G91: 10 | H91: 198 | I91: 9 | J91: 43 | K91: 38 | L91: 22 | M91: 5 | N91: 10 | O91: T. White | P91: 23 | Q91: 1 | R91: 10 | S91: 0 | T91: 0 | U91: 0 | V91: 0 | W91: 0
A92: 40685 | B92: Checkendon | C92: Loss | D92: Home | E92: Second | F92: 167 | G92: 10 | H92: 198 | I92: 9 | J92: 43 | K92: 38 | L92: 22 | M92: 5 | N92: 11 | O92: N. Henry | P92: 0 | Q92: 0 | R92: 11 | S92: 0 | T92: 0 | U92: 0 | V92: 0 | W92: 0
A93: 40692 | B93: Odney | C93: Draw | D93: Away | E93: Second | F93: 128 | G93: 9 | H93: 197 | I93: 9 | J93: 48 | K93: 29 | L93: 25 | M93: 8 | N93: 1 | O93: O. Brett | P93: 12 | Q93: 1 | R93: 1 | S93: J. Thornton | T93: 13 | U93: 2 | V93: 1 | W93: 53
A94: 40692 | B94: Odney | C94: Draw | D94: Away | E94: Second | F94: 128 | G94: 9 | H94: 197 | I94: 9 | J94: 48 | K94: 29 | L94: 25 | M94: 8 | N94: 2 | O94: P. Briffett | P94: 6 | Q94: 1 | R94: 2 | S94: O. Thornton | T94: 7 | U94: 2 | V94: 2 | W94: 28
A95: 40692 | B95: Odney | C95: Draw | D95: Away | E95: Second | F95: 128 | G95: 9 | H95: 197 | I95: 9 | J95: 48 | K95: 29 | L95: 25 | M95: 8 | N95: 3 | O95: O. Thornton | P95: 42 | Q95: 1 | R95: 3 | S95: T. Wade | T95: 4 | U95: 1 | V95: 0 | W95: 10
A96: 40692 | B96: Odney | C96: Draw | D96: Away | E96: Second | F96: 128 | G96: 9 | H96: 197 | I96: 9 | J96: 48 | K96: 29 | L96: 25 | M96: 8 | N96: 4 | O96: T. Wade | P96: 12 | Q96: 1 | R96: 4 | S96: A. Harvey-Thompson | T96: 14 | U96: 3 | V96: 4 | W96: 47
A97: 40692 | B97: Odney | C97: Draw | D97: Away | E97: Second | F97: 128 | G97: 9 | H97: 197 | I97: 9 | J97: 48 | K97: 29 | L97: 25 | M97: 8 | N97: 5 | O97: R. Gunn | P97: 5 | Q97: 1 | R97: 5 | S97: N. Runkell | T97: 10 | U97: 0 | V97: 2 | W97: 51
A98: 40692 | B98: Odney | C98: Draw | D98: Away | E98: Second | F98: 128 | G98: 9 | H98: 197 | I98: 9 | J98: 48 | K98: 29 | L98: 25 | M98: 8 | N98: 6 | O98: J. Thornton | P98: 0 | Q98: 1 | R98: 6 | S98: 0 | T98: 0 | U98: 0 | V98: 0 | W98: 0
A99: 40692 | B99: Odney | C99: Draw | D99: Away | E99: Second | F99: 128 | G99: 9 | H99: 197 | I99: 9 | J99: 48 | K99: 29 | L99: 25 | M99: 8 | N99: 7 | O99: C. Seigal | P99: 4 | Q99: 1 | R99: 7 | S99: 0 | T99: 0 | U99: 0 | V99: 0 | W99: 0
A100: 40692 | B100: Odney | C100: Draw | D100: Away | E100: Second | F100: 128 | G100: 9 | H100: 197 | I100: 9 | J100: 48 | K100: 29 | L100: 25 | M100: 8 | N100: 8 | O100: R. Dickie | P100: 0 | Q100: 1 | R100: 8 | S100: 0 | T100: 0 | U100: 0 | V100: 0 | W100: 0
A101: 40692 | B101: Odney | C101: Draw | D101: Away | E101: Second | F101: 128 | G101: 9 | H101: 197 | I101: 9 | J101: 48 | K101: 29 | L101: 25 | M101: 8 | N101: 9 | O101: B. Bazell | P101: 16 | Q101: 0 | R101: 9 | S101: 0 | T101: 0 | U101: 0 | V101: 0 | W101: 0
A102: 40692 | B102: Odney | C102: Draw | D102: Away | E102: Second | F102: 128 | G102: 9 | H102: 197 | I102: 9 | J102: 48 | K102: 29 | L102: 25 | M102: 8 | N102: 10 | O102: A. Harvey-Thompson | P102: 4 | Q102: 1 | R102: 10 | S102: 0 | T102: 0 | U102: 0 | V102: 0 | W102: 0
...

Sheet Penn Street
N2: Date | O2: Opposition | P2: Match Status | Q2: Home/Away | R2: TPCC Batting First | S2: TPCC Team Score | T2: TPCC Team Wickets | U2: Opposition Team Score | V2: Opposition Team Wickets | W2: TPCC Overs Bowled | X2: TPCC Overs Faced | Y2: Batting Extras | Z2: Bowling Extras | AA2: Batsmen Position | AB2: Batsmen Name | AC2: Batsmen Runs | AD2: Batsmen Out | AE2: Bowler Position | AF2: Bowler Name | AG2: Bowler Overs | AH2: Bowler Maidens | AI2: Bowler Wickets | AJ2: Bowler Runs
C3: Match Overview | N3: =$D$5 -> 40650 | O3: =$D$7 -> Penn Street | P3: =$D$9 -> Win | Q3: =$D$11 -> Home | R3: =$D$13 -> First | S3: =$D$15 -> 84 | T3: =$D$16 -> 3 | U3: =$D$18 -> 83 | V3: =$D$19 -> 9 | W3: =$D$21 -> 30.5 | X3: =$D$22 -> 18 | Y3: =$H$19 -> 10 | Z3: =$H$36 -> 6 | AA3: =F7 -> 1 | AB3: =G7 -> H. Beardall | AC3: =H7 -> 32 | AD3: =I7 -> 1 | AE3: =F24 -> 1 | AF3: =G24 -> J. Hunt | AG3: =H24 -> 5 | AH3: =I24 -> 2 | AI3: =J24 -> 1 | AJ3: =K24 -> 13
N4: =$D$5 -> 40650 | O4: =$D$7 -> Penn Street | P4: =$D$9 -> Win | Q4: =$D$11 -> Home | R4: =$D$13 -> First | S4: =$D$15 -> 84 | T4: =$D$16 -> 3 | U4: =$D$18 -> 83 | V4: =$D$19 -> 9 | W4: =$D$21 -> 30.5 | X4: =$D$22 -> 18 | Y4: =$H$19 -> 10 | Z4: =$H$36 -> 6 | AA4: =F8 -> 2 | AB4: =G8 -> S. Bucknill | AC4: =H8 -> 34 | AD4: =I8 -> 0 | AE4: =F25 -> 2 | AF4: =G25 -> J. Leefe | AG4: =H25 -> 7 | AH4: =I25 -> 3 | AI4: =J25 -> 2 | AJ4: =K25 -> 13
C5: Date | D5: 40650 | F5: Batting | N5: =$D$5 -> 40650 | O5: =$D$7 -> Penn Street | P5: =$D$9 -> Win | Q5: =$D$11 -> Home | R5: =$D$13 -> First | S5: =$D$15 -> 84 | T5: =$D$16 -> 3 | U5: =$D$18 -> 83 | V5: =$D$19 -> 9 | W5: =$D$21 -> 30.5 | X5: =$D$22 -> 18 | Y5: =$H$19 -> 10 | Z5: =$H$36 -> 6 | AA5: =F9 -> 3 | AB5: =G9 -> P. Briffett | AC5: =H9 -> 8 | AD5: =I9 -> 1 | AE5: =F26 -> 3 | AF5: =G26 -> N. Henry | AG5: =H26 -> 6 | AH5: =I26 -> 2 | AI5: =J26 -> 4 | AJ5: =K26 -> 11
F6: Position | G6: Name | H6: Runs | I6: Out | N6: =$D$5 -> 40650 | O6: =$D$7 -> Penn Street | P6: =$D$9 -> Win | Q6: =$D$11 -> Home | R6: =$D$13 -> First | S6: =$D$15 -> 84 | T6: =$D$16 -> 3 | U6: =$D$18 -> 83 | V6: =$D$19 -> 9 | W6: =$D$21 -> 30.5 | X6: =$D$22 -> 18 | Y6: =$H$19 -> 10 | Z6: =$H$36 -> 6 | AA6: =F10 -> 4 | AB6: =G10 -> S. Beardall | AC6: =H10 -> 0 | AD6: =I10 -> 1 | AE6: =F27 -> 4 | AF6: =G27 -> J. Moser | AG6: =H27 -> 6 | AH6: =I27 -> 0 | AI6: =J27 -> 0 | AJ6: =K27 -> 30
C7: Opposition | D7: Penn Street | F7: 1 | G7: H. Beardall | H7: 32 | I7: 1 | N7: =$D$5 -> 40650 | O7: =$D$7 -> Penn Street | P7: =$D$9 -> Win | Q7: =$D$11 -> Home | R7: =$D$13 -> First | S7: =$D$15 -> 84 | T7: =$D$16 -> 3 | U7: =$D$18 -> 83 | V7: =$D$19 -> 9 | W7: =$D$21 -> 30.5 | X7: =$D$22 -> 18 | Y7: =$H$19 -> 10 | Z7: =$H$36 -> 6 | AA7: =F11 -> 5 | AB7: =G11 -> J. Moser | AC7: =H11 -> 0 | AD7: =I11 -> 0 | AE7: =F28 -> 5 | AF7: =G28 -> A. Harvey-Thompson | AG7: =H28 -> 5 | AH7: =I28 -> 3 | AI7: =J28 -> 0 | AJ7: =K28 -> 7
F8: 2 | G8: S. Bucknill | H8: 34 | I8: 0 | N8: =$D$5 -> 40650 | O8: =$D$7 -> Penn Street | P8: =$D$9 -> Win | Q8: =$D$11 -> Home | R8: =$D$13 -> First | S8: =$D$15 -> 84 | T8: =$D$16 -> 3 | U8: =$D$18 -> 83 | V8: =$D$19 -> 9 | W8: =$D$21 -> 30.5 | X8: =$D$22 -> 18 | Y8: =$H$19 -> 10 | Z8: =$H$36 -> 6 | AA8: =F12 -> 6 | AB8: =G12 -> 0 | AC8: =H12 -> 0 | AD8: =I12 -> 0 | AE8: =F29 -> 6 | AF8: =G29 -> T. White | AG8: =H29 -> 1.5 | AH8: =I29 -> 0 | AI8: =J29 -> 2 | AJ8: =K29 -> 3
C9: Match Status | D9: Win | F9: 3 | G9: P. Briffett | H9: 8 | I9: 1 | N9: =$D$5 -> 40650 | O9: =$D$7 -> Penn Street | P9: =$D$9 -> Win | Q9: =$D$11 -> Home | R9: =$D$13 -> First | S9: =$D$15 -> 84 | T9: =$D$16 -> 3 | U9: =$D$18 -> 83 | V9: =$D$19 -> 9 | W9: =$D$21 -> 30.5 | X9: =$D$22 -> 18 | Y9: =$H$19 -> 10 | Z9: =$H$36 -> 6 | AA9: =F13 -> 7 | AB9: =G13 -> 0 | AC9: =H13 -> 0 | AD9: =I13 -> 0 | AE9: =F30 -> 7 | AF9: =G30 -> 0 | AG9: =H30 -> 0 | AH9: =I30 -> 0 | AI9: =J30 -> 0 | AJ9: =K30 -> 0
F10: 4 | G10: S. Beardall | H10: 0 | I10: 1 | N10: =$D$5 -> 40650 | O10: =$D$7 -> Penn Street | P10: =$D$9 -> Win | Q10: =$D$11 -> Home | R10: =$D$13 -> First | S10: =$D$15 -> 84 | T10: =$D$16 -> 3 | U10: =$D$18 -> 83 | V10: =$D$19 -> 9 | W10: =$D$21 -> 30.5 | X10: =$D$22 -> 18 | Y10: =$H$19 -> 10 | Z10: =$H$36 -> 6 | AA10: =F14 -> 8 | AB10: =G14 -> 0 | AC10: =H14 -> 0 | AD10: =I14 -> 0 | AE10: =F31 -> 8 | AF10: =G31 -> 0 | AG10: =H31 -> 0 | AH10: =I31 -> 0 | AI10: =J31 -> 0 | AJ10: =K31 -> 0
C11: Home / Away | D11: Home | F11: 5 | G11: J. Moser | H11: 0 | I11: 0 | N11: =$D$5 -> 40650 | O11: =$D$7 -> Penn Street | P11: =$D$9 -> Win | Q11: =$D$11 -> Home | R11: =$D$13 -> First | S11: =$D$15 -> 84 | T11: =$D$16 -> 3 | U11: =$D$18 -> 83 | V11: =$D$19 -> 9 | W11: =$D$21 -> 30.5 | X11: =$D$22 -> 18 | Y11: =$H$19 -> 10 | Z11: =$H$36 -> 6 | AA11: =F15 -> 9 | AB11: =G15 -> 0 | AC11: =H15 -> 0 | AD11: =I15 -> 0 | AE11: =F32 -> 9 | AF11: =G32 -> 0 | AG11: =H32 -> 0 | AH11: =I32 -> 0 | AI11: =J32 -> 0 | AJ11: =K32 -> 0
F12: 6 | N12: =$D$5 -> 40650 | O12: =$D$7 -> Penn Street | P12: =$D$9 -> Win | Q12: =$D$11 -> Home | R12: =$D$13 -> First | S12: =$D$15 -> 84 | T12: =$D$16 -> 3 | U12: =$D$18 -> 83 | V12: =$D$19 -> 9 | W12: =$D$21 -> 30.5 | X12: =$D$22 -> 18 | Y12: =$H$19 -> 10 | Z12: =$H$36 -> 6 | AA12: =F16 -> 10 | AB12: =G16 -> 0 | AC12: =H16 -> 0 | AD12: =I16 -> 0 | AE12: =F33 -> 10 | AF12: =G33 -> 0 | AG12: =H33 -> 0 | AH12: =I33 -> 0 | AI12: =J33 -> 0 | AJ12: =K33 -> 0
C13: TPCC Batting First | D13: First | F13: 7 | N13: =$D$5 -> 40650 | O13: =$D$7 -> Penn Street | P13: =$D$9 -> Win | Q13: =$D$11 -> Home | R13: =$D$13 -> First | S13: =$D$15 -> 84 | T13: =$D$16 -> 3 | U13: =$D$18 -> 83 | V13: =$D$19 -> 9 | W13: =$D$21 -> 30.5 | X13: =$D$22 -> 18 | Y13: =$H$19 -> 10 | Z13: =$H$36 -> 6 | AA13: =F17 -> 11 | AB13: =G17 -> 0 | AC13: =H17 -> 0 | AD13: =I17 -> 0 | AE13: =F34 -> 11 | AF13: =G34 -> 0 | AG13: =H34 -> 0 | AH13: =I34 -> 0 | AI13: =J34 -> 0 | AJ13: =K34 -> 0
F14: 8
C15: TPCC Team Score | D15: =SUM(H7:H17)+H19 -> 84 | F15: 9
C16: TPCC Team Wickets | D16: =SUM(I7:I17) -> 3 | F16: 10
F17: 11
C18: Opposition Team Score | D18: =SUM(K24:K34)+H36 -> 83
C19: Opposition Team Wickets | D19: =SUM(J24:J34) -> 9 | F19: Total Extras | H19: 10
C21: TPCC Overs Bowled | D21: =SUM(H24:H34) -> 30.5
C22: Opposition Overs Bowled | D22: 18 | F22: Bowling
F23: Position | G23: Name | H23: Overs | I23: Maidens | J23: Wickets | K23: Runs
F24: 1 | G24: J. Hunt | H24: 5 | I24: 2 | J24: 1 | K24: 13
F25: 2 | G25: J. Leefe | H25: 7 | I25: 3 | J25: 2 | K25: 13
F26: 3 | G26: N. Henry | H26: 6 | I26: 2 | J26: 4 | K26: 11
F27: 4 | G27: J. Moser | H27: 6 | I27: 0 | J27: 0 | K27: 30
F28: 5 | G28: A. Harvey-Thompson | H28: 5 | I28: 3 | J28: 0 | K28: 7
F29: 6 | G29: T. White | H29: 1.5 | I29: 0 | J29: 2 | K29: 3
F30: 7
F31: 8
F32: 9
F33: 10
F34: 11
F36: Bowling Extras | H36: 6

Sheet White Waltham
N2: Date | O2: Opposition | P2: Match Status | Q2: Home/Away | R2: TPCC Batting First | S2: TPCC Team Score | T2: TPCC Team Wickets | U2: Opposition Team Score | V2: Opposition Team Wickets | W2: TPCC Overs Bowled | X2: TPCC Overs Faced | Y2: Batting Extras | Z2: Bowling Extras | AA2: Batsmen Position | AB2: Batsmen Name | AC2: Batsmen Runs | AD2: Batsmen Out | AE2: Bowler Position | AF2: Bowler Name | AG2: Bowler Overs | AH2: Bowler Maidens | AI2: Bowler Wickets | AJ2: Bowler Runs
C3: Match Overview | N3: =$D$5 -> 40656 | O3: =$D$7 -> White Waltham | P3: =$D$9 -> Loss | Q3: =$D$11 -> Away | R3: =$D$13 -> Second | S3: =$D$15 -> 68 | T3: =$D$16 -> 10 | U3: =$D$18 -> 192 | V3: =$D$19 -> 10 | W3: =$D$21 -> 36 | X3: =$D$22 -> 22 | Y3: =$H$19 -> 19 | Z3: =$H$36 -> 0 | AA3: =F7 -> 1 | AB3: =G7 -> R. Dickie | AC3: =H7 -> 17 | AD3: =I7 -> 1 | AE3: =F24 -> 1 | AF3: =G24 -> J. Leefe | AG3: =H24 -> 7 | AH3: =I24 -> 0 | AI3: =J24 -> 0 | AJ3: =K24 -> 50
N4: =$D$5 -> 40656 | O4: =$D$7 -> White Waltham | P4: =$D$9 -> Loss | Q4: =$D$11 -> Away | R4: =$D$13 -> Second | S4: =$D$15 -> 68 | T4: =$D$16 -> 10 | U4: =$D$18 -> 192 | V4: =$D$19 -> 10 | W4: =$D$21 -> 36 | X4: =$D$22 -> 22 | Y4: =$H$19 -> 19 | Z4: =$H$36 -> 0 | AA4: =F8 -> 2 | AB4: =G8 -> J. Hunt | AC4: =H8 -> 0 | AD4: =I8 -> 1 | AE4: =F25 -> 2 | AF4: =G25 -> T. White | AG4: =H25 -> 9 | AH4: =I25 -> 1 | AI4: =J25 -> 0 | AJ4: =K25 -> 49
C5: Date | D5: 40656 | F5: Batting | N5: =$D$5 -> 40656 | O5: =$D$7 -> White Waltham | P5: =$D$9 -> Loss | Q5: =$D$11 -> Away | R5: =$D$13 -> Second | S5: =$D$15 -> 68 | T5: =$D$16 -> 10 | U5: =$D$18 -> 192 | V5: =$D$19 -> 10 | W5: =$D$21 -> 36 | X5: =$D$22 -> 22 | Y5: =$H$19 -> 19 | Z5: =$H$36 -> 0 | AA5: =F9 -> 3 | AB5: =G9 -> S. Halfhead | AC5: =H9 -> 0 | AD5: =I9 -> 1 | AE5: =F26 -> 3 | AF5: =G26 -> J. Hunt | AG5: =H26 -> 5 | AH5: =I26 -> 1 | AI5: =J26 -> 1 | AJ5: =K26 -> 18
F6: Position | G6: Name | H6: Runs | I6: Out | N6: =$D$5 -> 40656 | O6: =$D$7 -> White Waltham | P6: =$D$9 -> Loss | Q6: =$D$11 -> Away | R6: =$D$13 -> Second | S6: =$D$15 -> 68 | T6: =$D$16 -> 10 | U6: =$D$18 -> 192 | V6: =$D$19 -> 10 | W6: =$D$21 -> 36 | X6: =$D$22 -> 22 | Y6: =$H$19 -> 19 | Z6: =$H$36 -> 0 | AA6: =F10 -> 4 | AB6: =G10 -> C. Seigal | AC6: =H10 -> 0 | AD6: =I10 -> 1 | AE6: =F27 -> 4 | AF6: =G27 -> N. Runkell | AG6: =H27 -> 9 | AH6: =I27 -> 1 | AI6: =J27 -> 6 | AJ6: =K27 -> 44
C7: Opposition | D7: White Waltham | F7: 1 | G7: R. Dickie | H7: 17 | I7: 1 | N7: =$D$5 -> 40656 | O7: =$D$7 -> White Waltham | P7: =$D$9 -> Loss | Q7: =$D$11 -> Away | R7: =$D$13 -> Second | S7: =$D$15 -> 68 | T7: =$D$16 -> 10 | U7: =$D$18 -> 192 | V7: =$D$19 -> 10 | W7: =$D$21 -> 36 | X7: =$D$22 -> 22 | Y7: =$H$19 -> 19 | Z7: =$H$36 -> 0 | AA7: =F11 -> 5 | AB7: =G11 -> P. Briffett | AC7: =H11 -> 0 | AD7: =I11 -> 1 | AE7: =F28 -> 5 | AF7: =G28 -> N. Henry | AG7: =H28 -> 6 | AH7: =I28 -> 0 | AI7: =J28 -> 1 | AJ7: =K28 -> 31
F8: 2 | G8: J. Hunt | H8: 0 | I8: 1 | N8: =$D$5 -> 40656 | O8: =$D$7 -> White Waltham | P8: =$D$9 -> Loss | Q8: =$D$11 -> Away | R8: =$D$13 -> Second | S8: =$D$15 -> 68 | T8: =$D$16 -> 10 | U8: =$D$18 -> 192 | V8: =$D$19 -> 10 | W8: =$D$21 -> 36 | X8: =$D$22 -> 22 | Y8: =$H$19 -> 19 | Z8: =$H$36 -> 0 | AA8: =F12 -> 6 | AB8: =G12 -> J. Leefe | AC8: =H12 -> 13 | AD8: =I12 -> 1 | AE8: =F29 -> 6 | AF8: =G29 -> Run Out | AG8: =H29 -> 0 | AH8: =I29 -> 0 | AI8: =J29 -> 1 | AJ8: =K29 -> 0
C9: Match Status | D9: Loss | F9: 3 | G9: S. Halfhead | H9: 0 | I9: 1 | N9: =$D$5 -> 40656 | O9: =$D$7 -> White Waltham | P9: =$D$9 -> Loss | Q9: =$D$11 -> Away | R9: =$D$13 -> Second | S9: =$D$15 -> 68 | T9: =$D$16 -> 10 | U9: =$D$18 -> 192 | V9: =$D$19 -> 10 | W9: =$D$21 -> 36 | X9: =$D$22 -> 22 | Y9: =$H$19 -> 19 | Z9: =$H$36 -> 0 | AA9: =F13 -> 7 | AB9: =G13 -> N. Henry | AC9: =H13 -> 13 | AD9: =I13 -> 1 | AE9: =F30 -> 7 | AF9: =G30 -> Retired | AG9: =H30 -> 0 | AH9: =I30 -> 0 | AI9: =J30 -> 1 | AJ9: =K30 -> 0
F10: 4 | G10: C. Seigal | H10: 0 | I10: 1 | N10: =$D$5 -> 40656 | O10: =$D$7 -> White Waltham | P10: =$D$9 -> Loss | Q10: =$D$11 -> Away | R10: =$D$13 -> Second | S10: =$D$15 -> 68 | T10: =$D$16 -> 10 | U10: =$D$18 -> 192 | V10: =$D$19 -> 10 | W10: =$D$21 -> 36 | X10: =$D$22 -> 22 | Y10: =$H$19 -> 19 | Z10: =$H$36 -> 0 | AA10: =F14 -> 8 | AB10: =G14 -> R. Hunt | AC10: =H14 -> 4 | AD10: =I14 -> 1 | AE10: =F31 -> 8 | AF10: =G31 -> 0 | AG10: =H31 -> 0 | AH10: =I31 -> 0 | AI10: =J31 -> 0 | AJ10: =K31 -> 0
C11: Home / Away | D11: Away | F11: 5 | G11: P. Briffett | H11: 0 | I11: 1 | N11: =$D$5 -> 40656 | O11: =$D$7 -> White Waltham | P11: =$D$9 -> Loss | Q11: =$D$11 -> Away | R11: =$D$13 -> Second | S11: =$D$15 -> 68 | T11: =$D$16 -> 10 | U11: =$D$18 -> 192 | V11: =$D$19 -> 10 | W11: =$D$21 -> 36 | X11: =$D$22 -> 22 | Y11: =$H$19 -> 19 | Z11: =$H$36 -> 0 | AA11: =F15 -> 9 | AB11: =G15 -> T. White | AC11: =H15 -> 0 | AD11: =I15 -> 1 | AE11: =F32 -> 9 | AF11: =G32 -> 0 | AG11: =H32 -> 0 | AH11: =I32 -> 0 | AI11: =J32 -> 0 | AJ11: =K32 -> 0
F12: 6 | G12: J. Leefe | H12: 13 | I12: 1 | N12: =$D$5 -> 40656 | O12: =$D$7 -> White Waltham | P12: =$D$9 -> Loss | Q12: =$D$11 -> Away | R12: =$D$13 -> Second | S12: =$D$15 -> 68 | T12: =$D$16 -> 10 | U12: =$D$18 -> 192 | V12: =$D$19 -> 10 | W12: =$D$21 -> 36 | X12: =$D$22 -> 22 | Y12: =$H$19 -> 19 | Z12: =$H$36 -> 0 | AA12: =F16 -> 10 | AB12: =G16 -> Ra. Dickie | AC12: =H16 -> 0 | AD12: =I16 -> 0 | AE12: =F33 -> 10 | AF12: =G33 -> 0 | AG12: =H33 -> 0 | AH12: =I33 -> 0 | AI12: =J33 -> 0 | AJ12: =K33 -> 0
C13: TPCC Batting First | D13: Second | F13: 7 | G13: N. Henry | H13: 13 | I13: 1 | N13: =$D$5 -> 40656 | O13: =$D$7 -> White Waltham | P13: =$D$9 -> Loss | Q13: =$D$11 -> Away | R13: =$D$13 -> Second | S13: =$D$15 -> 68 | T13: =$D$16 -> 10 | U13: =$D$18 -> 192 | V13: =$D$19 -> 10 | W13: =$D$21 -> 36 | X13: =$D$22 -> 22 | Y13: =$H$19 -> 19 | Z13: =$H$36 -> 0 | AA13: =F17 -> 11 | AB13: =G17 -> N. Runkell | AC13: =H17 -> 2 | AD13: =I17 -> 1 | AE13: =F34 -> 11 | AF13: =G34 -> 0 | AG13: =H34 -> 0 | AH13: =I34 -> 0 | AI13: =J34 -> 0 | AJ13: =K34 -> 0
F14: 8 | G14: R. Hunt | H14: 4 | I14: 1
C15: TPCC Team Score | D15: =SUM(H7:H17)+H19 -> 68 | F15: 9 | G15: T. White | H15: 0 | I15: 1
C16: TPCC Team Wickets | D16: =SUM(I7:I17) -> 10 | F16: 10 | G16: Ra. Dickie | H16: 0 | I16: 0
F17: 11 | G17: N. Runkell | H17: 2 | I17: 1
C18: Opposition Team Score | D18: =SUM(K24:K34)+H36 -> 192
C19: Opposition Team Wickets | D19: =SUM(J24:J34) -> 10 | F19: Batting Extras | H19: 19
C21: TPCC Overs Bowled | D21: =SUM(H24:H34) -> 36
C22: Opposition Overs Bowled | D22: 22 | F22: Bowling
F23: Position | G23: Name | H23: Overs | I23: Maidens | J23: Wickets | K23: Runs
F24: 1 | G24: J. Leefe | H24: 7 | I24: 0 | J24: 0 | K24: 50
F25: 2 | G25: T. White | H25: 9 | I25: 1 | J25: 0 | K25: 49
F26: 3 | G26: J. Hunt | H26: 5 | I26: 1 | J26: 1 | K26: 18
F27: 4 | G27: N. Runkell | H27: 9 | I27: 1 | J27: 6 | K27: 44
F28: 5 | G28: N. Henry | H28: 6 | I28: 0 | J28: 1 | K28: 31
F29: 6 | G29: Run Out | J29: 1
F30: 7 | G30: Retired | J30: 1
F31: 8
F32: 9
F33: 10
F34: 11
F36: Bowling Extras | H36: 0

Sheet Brightwell-Cum-Sotwell
N2: Date | O2: Opposition | P2: Match Status | Q2: Home/Away | R2: TPCC Batting First | S2: TPCC Team Score | T2: TPCC Team Wickets | U2: Opposition Team Score | V2: Opposition Team Wickets | W2: TPCC Overs Bowled | X2: TPCC Overs Faced | Y2: Batting Extras | Z2: Bowling Extras | AA2: Batsmen Position | AB2: Batsmen Name | AC2: Batsmen Runs | AD2: Batsmen Out | AE2: Bowler Position | AF2: Bowler Name | AG2: Bowler Overs | AH2: Bowler Maidens | AI2: Bowler Wickets | AJ2: Bowler Runs
C3: Match Overview | N3: =$D$5 -> 40664 | O3: =$D$7 -> Brightwell-Cum-Sotwell | P3: =$D$9 -> Win | Q3: =$D$11 -> Home | R3: =$D$13 -> Second | S3: =$D$15 -> 135 | T3: =$D$16 -> 2 | U3: =$D$18 -> 132 | V3: =$D$19 -> 7 | W3: =$D$21 -> 48 | X3: =$D$22 -> 26 | Y3: =$H$19 -> 7 | Z3: =$H$36 -> 3 | AA3: =F7 -> 1 | AB3: =G7 -> S. Beardall | AC3: =H7 -> 84 | AD3: =I7 -> 0 | AE3: =F24 -> 1 | AF3: =G24 -> J. Hunt | AG3: =H24 -> 8 | AH3: =I24 -> 1 | AI3: =J24 -> 1 | AJ3: =K24 -> 13
N4: =$D$5 -> 40664 | O4: =$D$7 -> Brightwell-Cum-Sotwell | P4: =$D$9 -> Win | Q4: =$D$11 -> Home | R4: =$D$13 -> Second | S4: =$D$15 -> 135 | T4: =$D$16 -> 2 | U4: =$D$18 -> 132 | V4: =$D$19 -> 7 | W4: =$D$21 -> 48 | X4: =$D$22 -> 26 | Y4: =$H$19 -> 7 | Z4: =$H$36 -> 3 | AA4: =F8 -> 2 | AB4: =G8 -> P. Briffett | AC4: =H8 -> 16 | AD4: =I8 -> 1 | AE4: =F25 -> 2 | AF4: =G25 -> N. Henry | AG4: =H25 -> 7 | AH4: =I25 -> 2 | AI4: =J25 -> 1 | AJ4: =K25 -> 6
C5: Date | D5: 40664 | F5: Batting | N5: =$D$5 -> 40664 | O5: =$D$7 -> Brightwell-Cum-Sotwell | P5: =$D$9 -> Win | Q5: =$D$11 -> Home | R5: =$D$13 -> Second | S5: =$D$15 -> 135 | T5: =$D$16 -> 2 | U5: =$D$18 -> 132 | V5: =$D$19 -> 7 | W5: =$D$21 -> 48 | X5: =$D$22 -> 26 | Y5: =$H$19 -> 7 | Z5: =$H$36 -> 3 | AA5: =F9 -> 3 | AB5: =G9 -> R. Dickie | AC5: =H9 -> 19 | AD5: =I9 -> 1 | AE5: =F26 -> 3 | AF5: =G26 -> T. White | AG5: =H26 -> 6 | AH5: =I26 -> 1 | AI5: =J26 -> 2 | AJ5: =K26 -> 6
F6: Position | G6: Name | H6: Runs | I6: Out | N6: =$D$5 -> 40664 | O6: =$D$7 -> Brightwell-Cum-Sotwell | P6: =$D$9 -> Win | Q6: =$D$11 -> Home | R6: =$D$13 -> Second | S6: =$D$15 -> 135 | T6: =$D$16 -> 2 | U6: =$D$18 -> 132 | V6: =$D$19 -> 7 | W6: =$D$21 -> 48 | X6: =$D$22 -> 26 | Y6: =$H$19 -> 7 | Z6: =$H$36 -> 3 | AA6: =F10 -> 4 | AB6: =G10 -> J. Hunt | AC6: =H10 -> 9 | AD6: =I10 -> 0 | AE6: =F27 -> 4 | AF6: =G27 -> J. Thornton | AG6: =H27 -> 5 | AH6: =I27 -> 3 | AI6: =J27 -> 0 | AJ6: =K27 -> 4
C7: Opposition | D7: Brightwell-Cum-Sotwell | F7: 1 | G7: S. Beardall | H7: 84 | I7: 0 | N7: =$D$5 -> 40664 | O7: =$D$7 -> Brightwell-Cum-Sotwell | P7: =$D$9 -> Win | Q7: =$D$11 -> Home | R7: =$D$13 -> Second | S7: =$D$15 -> 135 | T7: =$D$16 -> 2 | U7: =$D$18 -> 132 | V7: =$D$19 -> 7 | W7: =$D$21 -> 48 | X7: =$D$22 -> 26 | Y7: =$H$19 -> 7 | Z7: =$H$36 -> 3 | AA7: =F11 -> 5 | AB7: =G11 -> 0 | AC7: =H11 -> 0 | AD7: =I11 -> 0 | AE7: =F28 -> 5 | AF7: =G28 -> J. Rogers | AG7: =H28 -> 11 | AH7: =I28 -> 2 | AI7: =J28 -> 2 | AJ7: =K28 -> 24
F8: 2 | G8: P. Briffett | H8: 16 | I8: 1 | N8: =$D$5 -> 40664 | O8: =$D$7 -> Brightwell-Cum-Sotwell | P8: =$D$9 -> Win | Q8: =$D$11 -> Home | R8: =$D$13 -> Second | S8: =$D$15 -> 135 | T8: =$D$16 -> 2 | U8: =$D$18 -> 132 | V8: =$D$19 -> 7 | W8: =$D$21 -> 48 | X8: =$D$22 -> 26 | Y8: =$H$19 -> 7 | Z8: =$H$36 -> 3 | AA8: =F12 -> 6 | AB8: =G12 -> 0 | AC8: =H12 -> 0 | AD8: =I12 -> 0 | AE8: =F29 -> 6 | AF8: =G29 -> R. Dickie | AG8: =H29 -> 3 | AH8: =I29 -> 0 | AI8: =J29 -> 0 | AJ8: =K29 -> 26
C9: Match Status | D9: Win | F9: 3 | G9: R. Dickie | H9: 19 | I9: 1 | N9: =$D$5 -> 40664 | O9: =$D$7 -> Brightwell-Cum-Sotwell | P9: =$D$9 -> Win | Q9: =$D$11 -> Home | R9: =$D$13 -> Second | S9: =$D$15 -> 135 | T9: =$D$16 -> 2 | U9: =$D$18 -> 132 | V9: =$D$19 -> 7 | W9: =$D$21 -> 48 | X9: =$D$22 -> 26 | Y9: =$H$19 -> 7 | Z9: =$H$36 -> 3 | AA9: =F13 -> 7 | AB9: =G13 -> 0 | AC9: =H13 -> 0 | AD9: =I13 -> 0 | AE9: =F30 -> 7 | AF9: =G30 -> P. Briffett | AG9: =H30 -> 4 | AH9: =I30 -> 0 | AI9: =J30 -> 1 | AJ9: =K30 -> 32
F10: 4 | G10: J. Hunt | H10: 9 | I10: 0 | N10: =$D$5 -> 40664 | O10: =$D$7 -> Brightwell-Cum-Sotwell | P10: =$D$9 -> Win | Q10: =$D$11 -> Home | R10: =$D$13 -> Second | S10: =$D$15 -> 135 | T10: =$D$16 -> 2 | U10: =$D$18 -> 132 | V10: =$D$19 -> 7 | W10: =$D$21 -> 48 | X10: =$D$22 -> 26 | Y10: =$H$19 -> 7 | Z10: =$H$36 -> 3 | AA10: =F14 -> 8 | AB10: =G14 -> 0 | AC10: =H14 -> 0 | AD10: =I14 -> 0 | AE10: =F31 -> 8 | AF10: =G31 -> C. Rogers | AG10: =H31 -> 3 | AH10: =I31 -> 0 | AI10: =J31 -> 0 | AJ10: =K31 -> 12
C11: Home / Away | D11: Home | F11: 5 | N11: =$D$5 -> 40664 | O11: =$D$7 -> Brightwell-Cum-Sotwell | P11: =$D$9 -> Win | Q11: =$D$11 -> Home | R11: =$D$13 -> Second | S11: =$D$15 -> 135 | T11: =$D$16 -> 2 | U11: =$D$18 -> 132 | V11: =$D$19 -> 7 | W11: =$D$21 -> 48 | X11: =$D$22 -> 26 | Y11: =$H$19 -> 7 | Z11: =$H$36 -> 3 | AA11: =F15 -> 9 | AB11: =G15 -> 0 | AC11: =H15 -> 0 | AD11: =I15 -> 0 | AE11: =F32 -> 9 | AF11: =G32 -> S. Beardall | AG11: =H32 -> 1 | AH11: =I32 -> 0 | AI11: =J32 -> 0 | AJ11: =K32 -> 6
F12: 6 | N12: =$D$5 -> 40664 | O12: =$D$7 -> Brightwell-Cum-Sotwell | P12: =$D$9 -> Win | Q12: =$D$11 -> Home | R12: =$D$13 -> Second | S12: =$D$15 -> 135 | T12: =$D$16 -> 2 | U12: =$D$18 -> 132 | V12: =$D$19 -> 7 | W12: =$D$21 -> 48 | X12: =$D$22 -> 26 | Y12: =$H$19 -> 7 | Z12: =$H$36 -> 3 | AA12: =F16 -> 10 | AB12: =G16 -> 0 | AC12: =H16 -> 0 | AD12: =I16 -> 0 | AE12: =F33 -> 10 | AF12: =G33 -> 0 | AG12: =H33 -> 0 | AH12: =I33 -> 0 | AI12: =J33 -> 0 | AJ12: =K33 -> 0
C13: TPCC Batting First | D13: Second | F13: 7 | N13: =$D$5 -> 40664 | O13: =$D$7 -> Brightwell-Cum-Sotwell | P13: =$D$9 -> Win | Q13: =$D$11 -> Home | R13: =$D$13 -> Second | S13: =$D$15 -> 135 | T13: =$D$16 -> 2 | U13: =$D$18 -> 132 | V13: =$D$19 -> 7 | W13: =$D$21 -> 48 | X13: =$D$22 -> 26 | Y13: =$H$19 -> 7 | Z13: =$H$36 -> 3 | AA13: =F17 -> 11 | AB13: =G17 -> 0 | AC13: =H17 -> 0 | AD13: =I17 -> 0 | AE13: =F34 -> 11 | AF13: =G34 -> 0 | AG13: =H34 -> 0 | AH13: =I34 -> 0 | AI13: =J34 -> 0 | AJ13: =K34 -> 0
F14: 8
C15: TPCC Team Score | D15: =SUM(H7:H17)+H19 -> 135 | F15: 9
C16: TPCC Team Wickets | D16: =SUM(I7:I17) -> 2 | F16: 10
F17: 11
C18: Opposition Team Score | D18: =SUM(K24:K34)+H36 -> 132
C19: Opposition Team Wickets | D19: =SUM(J24:J34) -> 7 | F19: Batting Extras | H19: 7
C21: TPCC Overs Bowled | D21: =SUM(H24:H34) -> 48
C22: Opposition Overs Bowled | D22: 26 | F22: Bowling
F23: Position | G23: Name | H23: Overs | I23: Maidens | J23: Wickets | K23: Runs
F24: 1 | G24: J. Hunt | H24: 8 | I24: 1 | J24: 1 | K24: 13
F25: 2 | G25: N. Henry | H25: 7 | I25: 2 | J25: 1 | K25: 6
F26: 3 | G26: T. White | H26: 6 | I26: 1 | J26: 2 | K26: 6
F27: 4 | G27: J. Thornton | H27: 5 | I27: 3 | J27: 0 | K27: 4
F28: 5 | G28: J. Rogers | H28: 11 | I28: 2 | J28: 2 | K28: 24
F29: 6 | G29: R. Dickie | H29: 3 | I29: 0 | J29: 0 | K29: 26
F30: 7 | G30: P. Briffett | H30: 4 | I30: 0 | J30: 1 | K30: 32
F31: 8 | G31: C. Rogers | H31: 3 | I31: 0 | J31: 0 | K31: 12
F32: 9 | G32: S. Beardall | H32: 1 | I32: 0 | J32: 0 | K32: 6
F33: 10
F34: 11
F36: Bowling Extras | H36: 3

Sheet Greys Green (1)
N2: Date | O2: Opposition | P2: Match Status | Q2: Home/Away | R2: TPCC Batting First | S2: TPCC Team Score | T2: TPCC Team Wickets | U2: Opposition Team Score | V2: Opposition Team Wickets | W2: TPCC Overs Bowled | X2: TPCC Overs Faced | Y2: Batting Extras | Z2: Bowling Extras | AA2: Batsmen Position | AB2: Batsmen Name | AC2: Batsmen Runs | AD2: Batsmen Out | AE2: Bowler Position | AF2: Bowler Name | AG2: Bowler Overs | AH2: Bowler Maidens | AI2: Bowler Wickets | AJ2: Bowler Runs
C3: Match Overview | N3: =$D$5 -> 40670 | O3: =$D$7 -> Greys Green (1) | P3: =$D$9 -> Loss | Q3: =$D$11 -> Home | R3: =$D$13 -> Second | S3: =$D$15 -> 86 | T3: =$D$16 -> 10 | U3: =$D$18 -> 122 | V3: =$D$19 -> 7 | W3: =$D$21 -> 48 | X3: =$D$22 -> 28 | Y3: =$H$19 -> 7 | Z3: =$H$36 -> 3 | AA3: =F7 -> 1 | AB3: =G7 -> C. Simon | AC3: =H7 -> 0 | AD3: =I7 -> 1 | AE3: =F24 -> 1 | AF3: =G24 -> J. Leefe | AG3: =H24 -> 8 | AH3: =I24 -> 1 | AI3: =J24 -> 0 | AJ3: =K24 -> 17
N4: =$D$5 -> 40670 | O4: =$D$7 -> Greys Green (1) | P4: =$D$9 -> Loss | Q4: =$D$11 -> Home | R4: =$D$13 -> Second | S4: =$D$15 -> 86 | T4: =$D$16 -> 10 | U4: =$D$18 -> 122 | V4: =$D$19 -> 7 | W4: =$D$21 -> 48 | X4: =$D$22 -> 28 | Y4: =$H$19 -> 7 | Z4: =$H$36 -> 3 | AA4: =F8 -> 2 | AB4: =G8 -> J. Hunt | AC4: =H8 -> 19 | AD4: =I8 -> 1 | AE4: =F25 -> 2 | AF4: =G25 -> J. Hunt | AG4: =H25 -> 5 | AH4: =I25 -> 3 | AI4: =J25 -> 1 | AJ4: =K25 -> 2
C5: Date | D5: 40670 | F5: Batting | N5: =$D$5 -> 40670 | O5: =$D$7 -> Greys Green (1) | P5: =$D$9 -> Loss | Q5: =$D$11 -> Home | R5: =$D$13 -> Second | S5: =$D$15 -> 86 | T5: =$D$16 -> 10 | U5: =$D$18 -> 122 | V5: =$D$19 -> 7 | W5: =$D$21 -> 48 | X5: =$D$22 -> 28 | Y5: =$H$19 -> 7 | Z5: =$H$36 -> 3 | AA5: =F9 -> 3 | AB5: =G9 -> R. Gunn | AC5: =H9 -> 0 | AD5: =I9 -> 1 | AE5: =F26 -> 3 | AF5: =G26 -> N. Henry | AG5: =H26 -> 17 | AH5: =I26 -> 5 | AI5: =J26 -> 4 | AJ5: =K26 -> 39
F6: Position | G6: Name | H6: Runs | I6: Out | N6: =$D$5 -> 40670 | O6: =$D$7 -> Greys Green (1) | P6: =$D$9 -> Loss | Q6: =$D$11 -> Home | R6: =$D$13 -> Second | S6: =$D$15 -> 86 | T6: =$D$16 -> 10 | U6: =$D$18 -> 122 | V6: =$D$19 -> 7 | W6: =$D$21 -> 48 | X6: =$D$22 -> 28 | Y6: =$H$19 -> 7 | Z6: =$H$36 -> 3 | AA6: =F10 -> 4 | AB6: =G10 -> P. Briffett | AC6: =H10 -> 15 | AD6: =I10 -> 1 | AE6: =F27 -> 4 | AF6: =G27 -> T. White | AG6: =H27 -> 14 | AH6: =I27 -> 1 | AI6: =J27 -> 1 | AJ6: =K27 -> 37
C7: Opposition | D7: Greys Green (1) | F7: 1 | G7: C. Simon | H7: 0 | I7: 1 | N7: =$D$5 -> 40670 | O7: =$D$7 -> Greys Green (1) | P7: =$D$9 -> Loss | Q7: =$D$11 -> Home | R7: =$D$13 -> Second | S7: =$D$15 -> 86 | T7: =$D$16 -> 10 | U7: =$D$18 -> 122 | V7: =$D$19 -> 7 | W7: =$D$21 -> 48 | X7: =$D$22 -> 28 | Y7: =$H$19 -> 7 | Z7: =$H$36 -> 3 | AA7: =F11 -> 5 | AB7: =G11 -> D. Stockings | AC7: =H11 -> 17 | AD7: =I11 -> 1 | AE7: =F28 -> 5 | AF7: =G28 -> S. Beardall | AG7: =H28 -> 4 | AH7: =I28 -> 0 | AI7: =J28 -> 1 | AJ7: =K28 -> 24
F8: 2 | G8: J. Hunt | H8: 19 | I8: 1 | N8: =$D$5 -> 40670 | O8: =$D$7 -> Greys Green (1) | P8: =$D$9 -> Loss | Q8: =$D$11 -> Home | R8: =$D$13 -> Second | S8: =$D$15 -> 86 | T8: =$D$16 -> 10 | U8: =$D$18 -> 122 | V8: =$D$19 -> 7 | W8: =$D$21 -> 48 | X8: =$D$22 -> 28 | Y8: =$H$19 -> 7 | Z8: =$H$36 -> 3 | AA8: =F12 -> 6 | AB8: =G12 -> H. Beardall | AC8: =H12 -> 13 | AD8: =I12 -> 1 | AE8: =F29 -> 6 | AF8: =G29 -> 0 | AG8: =H29 -> 0 | AH8: =I29 -> 0 | AI8: =J29 -> 0 | AJ8: =K29 -> 0
C9: Match Status | D9: Loss | F9: 3 | G9: R. Gunn | H9: 0 | I9: 1 | N9: =$D$5 -> 40670 | O9: =$D$7 -> Greys Green (1) | P9: =$D$9 -> Loss | Q9: =$D$11 -> Home | R9: =$D$13 -> Second | S9: =$D$15 -> 86 | T9: =$D$16 -> 10 | U9: =$D$18 -> 122 | V9: =$D$19 -> 7 | W9: =$D$21 -> 48 | X9: =$D$22 -> 28 | Y9: =$H$19 -> 7 | Z9: =$H$36 -> 3 | AA9: =F13 -> 7 | AB9: =G13 -> S. Beardall | AC9: =H13 -> 6 | AD9: =I13 -> 1 | AE9: =F30 -> 7 | AF9: =G30 -> 0 | AG9: =H30 -> 0 | AH9: =I30 -> 0 | AI9: =J30 -> 0 | AJ9: =K30 -> 0
F10: 4 | G10: P. Briffett | H10: 15 | I10: 1 | N10: =$D$5 -> 40670 | O10: =$D$7 -> Greys Green (1) | P10: =$D$9 -> Loss | Q10: =$D$11 -> Home | R10: =$D$13 -> Second | S10: =$D$15 -> 86 | T10: =$D$16 -> 10 | U10: =$D$18 -> 122 | V10: =$D$19 -> 7 | W10: =$D$21 -> 48 | X10: =$D$22 -> 28 | Y10: =$H$19 -> 7 | Z10: =$H$36 -> 3 | AA10: =F14 -> 8 | AB10: =G14 -> J. Leefe | AC10: =H14 -> 3 | AD10: =I14 -> 1 | AE10: =F31 -> 8 | AF10: =G31 -> 0 | AG10: =H31 -> 0 | AH10: =I31 -> 0 | AI10: =J31 -> 0 | AJ10: =K31 -> 0
C11: Home / Away | D11: Home | F11: 5 | G11: D. Stockings | H11: 17 | I11: 1 | N11: =$D$5 -> 40670 | O11: =$D$7 -> Greys Green (1) | P11: =$D$9 -> Loss | Q11: =$D$11 -> Home | R11: =$D$13 -> Second | S11: =$D$15 -> 86 | T11: =$D$16 -> 10 | U11: =$D$18 -> 122 | V11: =$D$19 -> 7 | W11: =$D$21 -> 48 | X11: =$D$22 -> 28 | Y11: =$H$19 -> 7 | Z11: =$H$36 -> 3 | AA11: =F15 -> 9 | AB11: =G15 -> N. Henry | AC11: =H15 -> 6 | AD11: =I15 -> 1 | AE11: =F32 -> 9 | AF11: =G32 -> 0 | AG11: =H32 -> 0 | AH11: =I32 -> 0 | AI11: =J32 -> 0 | AJ11: =K32 -> 0
F12: 6 | G12: H. Beardall | H12: 13 | I12: 1 | N12: =$D$5 -> 40670 | O12: =$D$7 -> Greys Green (1) | P12: =$D$9 -> Loss | Q12: =$D$11 -> Home | R12: =$D$13 -> Second | S12: =$D$15 -> 86 | T12: =$D$16 -> 10 | U12: =$D$18 -> 122 | V12: =$D$19 -> 7 | W12: =$D$21 -> 48 | X12: =$D$22 -> 28 | Y12: =$H$19 -> 7 | Z12: =$H$36 -> 3 | AA12: =F16 -> 10 | AB12: =G16 -> T. White | AC12: =H16 -> 0 | AD12: =I16 -> 0 | AE12: =F33 -> 10 | AF12: =G33 -> 0 | AG12: =H33 -> 0 | AH12: =I33 -> 0 | AI12: =J33 -> 0 | AJ12: =K33 -> 0
C13: TPCC Batting First | D13: Second | F13: 7 | G13: S. Beardall | H13: 6 | I13: 1 | N13: =$D$5 -> 40670 | O13: =$D$7 -> Greys Green (1) | P13: =$D$9 -> Loss | Q13: =$D$11 -> Home | R13: =$D$13 -> Second | S13: =$D$15 -> 86 | T13: =$D$16 -> 10 | U13: =$D$18 -> 122 | V13: =$D$19 -> 7 | W13: =$D$21 -> 48 | X13: =$D$22 -> 28 | Y13: =$H$19 -> 7 | Z13: =$H$36 -> 3 | AA13: =F17 -> 11 | AB13: =G17 -> B. Bazell | AC13: =H17 -> 0 | AD13: =I17 -> 1 | AE13: =F34 -> 11 | AF13: =G34 -> 0 | AG13: =H34 -> 0 | AH13: =I34 -> 0 | AI13: =J34 -> 0 | AJ13: =K34 -> 0
F14: 8 | G14: J. Leefe | H14: 3 | I14: 1
C15: TPCC Team Score | D15: =SUM(H7:H17)+H19 -> 86 | F15: 9 | G15: N. Henry | H15: 6 | I15: 1
C16: TPCC Team Wickets | D16: =SUM(I7:I17) -> 10 | F16: 10 | G16: T. White | H16: 0 | I16: 0
F17: 11 | G17: B. Bazell | H17: 0 | I17: 1
C18: Opposition Team Score | D18: =SUM(K24:K34)+H36 -> 122
C19: Opposition Team Wickets | D19: =SUM(J24:J34) -> 7 | F19: Batting Extras | H19: 7
C21: TPCC Overs Bowled | D21: =SUM(H24:H34) -> 48
C22: Opposition Overs Bowled | D22: 28 | F22: Bowling
F23: Position | G23: Name | H23: Overs | I23: Maidens | J23: Wickets | K23: Runs
F24: 1 | G24: J. Leefe | H24: 8 | I24: 1 | J24: 0 | K24: 17
F25: 2 | G25: J. Hunt | H25: 5 | I25: 3 | J25: 1 | K25: 2
F26: 3 | G26: N. Henry | H26: 17 | I26: 5 | J26: 4 | K26: 39
F27: 4 | G27: T. White | H27: 14 | I27: 1 | J27: 1 | K27: 37
F28: 5 | G28: S. Beardall | H28: 4 | I28: 0 | J28: 1 | K28: 24
F29: 6
F30: 7
F31: 8
F32: 9
F33: 10
F34: 11
F36: Bowling Extras | H36: 3

Sheet Crazies Hill & Cockpole Green
N2: Date | O2: Opposition | P2: Match Status | Q2: Home/Away | R2: TPCC Batting First | S2: TPCC Team Score | T2: TPCC Team Wickets | U2: Opposition Team Score | V2: Opposition Team Wickets | W2: TPCC Overs Bowled | X2: TPCC Overs Faced | Y2: Batting Extras | Z2: Bowling Extras | AA2: Batsmen Position | AB2: Batsmen Name | AC2: Batsmen Runs | AD2: Batsmen Out | AE2: Bowler Position | AF2: Bowler Name | AG2: Bowler Overs | AH2: Bowler Maidens | AI2: Bowler Wickets | AJ2: Bowler Runs
C3: Match Overview | N3: =$D$5 -> 40677 | O3: =$D$7 -> Crazies Hill | P3: =$D$9 -> Draw | Q3: =$D$11 -> Away | R3: =$D$13 -> Second | S3: =$D$15 -> 123 | T3: =$D$16 -> 6 | U3: =$D$18 -> 222 | V3: =$D$19 -> 6 | W3: =$D$21 -> 36 | X3: =$D$22 -> 36 | Y3: =$H$19 -> 10 | Z3: =$H$36 -> 4 | AA3: =F7 -> 1 | AB3: =G7 -> C. Simon | AC3: =H7 -> 7 | AD3: =I7 -> 1 | AE3: =F24 -> 1 | AF3: =G24 -> J. Leefe | AG3: =H24 -> 9 | AH3: =I24 -> 0 | AI3: =J24 -> 2 | AJ3: =K24 -> 35
N4: =$D$5 -> 40677 | O4: =$D$7 -> Crazies Hill | P4: =$D$9 -> Draw | Q4: =$D$11 -> Away | R4: =$D$13 -> Second | S4: =$D$15 -> 123 | T4: =$D$16 -> 6 | U4: =$D$18 -> 222 | V4: =$D$19 -> 6 | W4: =$D$21 -> 36 | X4: =$D$22 -> 36 | Y4: =$H$19 -> 10 | Z4: =$H$36 -> 4 | AA4: =F8 -> 2 | AB4: =G8 -> S. Bucknill | AC4: =H8 -> 1 | AD4: =I8 -> 1 | AE4: =F25 -> 2 | AF4: =G25 -> S. Beardall | AG4: =H25 -> 9 | AH4: =I25 -> 0 | AI4: =J25 -> 2 | AJ4: =K25 -> 66
C5: Date | D5: 40677 | F5: Batting | N5: =$D$5 -> 40677 | O5: =$D$7 -> Crazies Hill | P5: =$D$9 -> Draw | Q5: =$D$11 -> Away | R5: =$D$13 -> Second | S5: =$D$15 -> 123 | T5: =$D$16 -> 6 | U5: =$D$18 -> 222 | V5: =$D$19 -> 6 | W5: =$D$21 -> 36 | X5: =$D$22 -> 36 | Y5: =$H$19 -> 10 | Z5: =$H$36 -> 4 | AA5: =F9 -> 3 | AB5: =G9 -> S. Beardall | AC5: =H9 -> 14 | AD5: =I9 -> 1 | AE5: =F26 -> 3 | AF5: =G26 -> A. Harvey-Thompson | AG5: =H26 -> 13 | AH5: =I26 -> 1 | AI5: =J26 -> 2 | AJ5: =K26 -> 62
F6: Position | G6: Name | H6: Runs | I6: Out | N6: =$D$5 -> 40677 | O6: =$D$7 -> Crazies Hill | P6: =$D$9 -> Draw | Q6: =$D$11 -> Away | R6: =$D$13 -> Second | S6: =$D$15 -> 123 | T6: =$D$16 -> 6 | U6: =$D$18 -> 222 | V6: =$D$19 -> 6 | W6: =$D$21 -> 36 | X6: =$D$22 -> 36 | Y6: =$H$19 -> 10 | Z6: =$H$36 -> 4 | AA6: =F10 -> 4 | AB6: =G10 -> R. Dickie | AC6: =H10 -> 7 | AD6: =I10 -> 1 | AE6: =F27 -> 4 | AF6: =G27 -> N. Runkell | AG6: =H27 -> 4 | AH6: =I27 -> 0 | AI6: =J27 -> 0 | AJ6: =K27 -> 48
C7: Opposition | D7: Crazies Hill | F7: 1 | G7: C. Simon | H7: 7 | I7: 1 | N7: =$D$5 -> 40677 | O7: =$D$7 -> Crazies Hill | P7: =$D$9 -> Draw | Q7: =$D$11 -> Away | R7: =$D$13 -> Second | S7: =$D$15 -> 123 | T7: =$D$16 -> 6 | U7: =$D$18 -> 222 | V7: =$D$19 -> 6 | W7: =$D$21 -> 36 | X7: =$D$22 -> 36 | Y7: =$H$19 -> 10 | Z7: =$H$36 -> 4 | AA7: =F11 -> 5 | AB7: =G11 -> O. Brett | AC7: =H11 -> 21 | AD7: =I11 -> 1 | AE7: =F28 -> 5 | AF7: =G28 -> O. Brett | AG7: =H28 -> 1 | AH7: =I28 -> 0 | AI7: =J28 -> 0 | AJ7: =K28 -> 7
F8: 2 | G8: S. Bucknill | H8: 1 | I8: 1 | N8: =$D$5 -> 40677 | O8: =$D$7 -> Crazies Hill | P8: =$D$9 -> Draw | Q8: =$D$11 -> Away | R8: =$D$13 -> Second | S8: =$D$15 -> 123 | T8: =$D$16 -> 6 | U8: =$D$18 -> 222 | V8: =$D$19 -> 6 | W8: =$D$21 -> 36 | X8: =$D$22 -> 36 | Y8: =$H$19 -> 10 | Z8: =$H$36 -> 4 | AA8: =F12 -> 6 | AB8: =G12 -> B. Bazell | AC8: =H12 -> 61 | AD8: =I12 -> 1 | AE8: =F29 -> 6 | AF8: =G29 -> 0 | AG8: =H29 -> 0 | AH8: =I29 -> 0 | AI8: =J29 -> 0 | AJ8: =K29 -> 0
C9: Match Status | D9: Draw | F9: 3 | G9: S. Beardall | H9: 14 | I9: 1 | N9: =$D$5 -> 40677 | O9: =$D$7 -> Crazies Hill | P9: =$D$9 -> Draw | Q9: =$D$11 -> Away | R9: =$D$13 -> Second | S9: =$D$15 -> 123 | T9: =$D$16 -> 6 | U9: =$D$18 -> 222 | V9: =$D$19 -> 6 | W9: =$D$21 -> 36 | X9: =$D$22 -> 36 | Y9: =$H$19 -> 10 | Z9: =$H$36 -> 4 | AA9: =F13 -> 7 | AB9: =G13 -> J. Leefe | AC9: =H13 -> 1 | AD9: =I13 -> 0 | AE9: =F30 -> 7 | AF9: =G30 -> 0 | AG9: =H30 -> 0 | AH9: =I30 -> 0 | AI9: =J30 -> 0 | AJ9: =K30 -> 0
F10: 4 | G10: R. Dickie | H10: 7 | I10: 1 | N10: =$D$5 -> 40677 | O10: =$D$7 -> Crazies Hill | P10: =$D$9 -> Draw | Q10: =$D$11 -> Away | R10: =$D$13 -> Second | S10: =$D$15 -> 123 | T10: =$D$16 -> 6 | U10: =$D$18 -> 222 | V10: =$D$19 -> 6 | W10: =$D$21 -> 36 | X10: =$D$22 -> 36 | Y10: =$H$19 -> 10 | Z10: =$H$36 -> 4 | AA10: =F14 -> 8 | AB10: =G14 -> Ra. Dickie | AC10: =H14 -> 1 | AD10: =I14 -> 0 | AE10: =F31 -> 8 | AF10: =G31 -> 0 | AG10: =H31 -> 0 | AH10: =I31 -> 0 | AI10: =J31 -> 0 | AJ10: =K31 -> 0
C11: Home / Away | D11: Away | F11: 5 | G11: O. Brett | H11: 21 | I11: 1 | N11: =$D$5 -> 40677 | O11: =$D$7 -> Crazies Hill | P11: =$D$9 -> Draw | Q11: =$D$11 -> Away | R11: =$D$13 -> Second | S11: =$D$15 -> 123 | T11: =$D$16 -> 6 | U11: =$D$18 -> 222 | V11: =$D$19 -> 6 | W11: =$D$21 -> 36 | X11: =$D$22 -> 36 | Y11: =$H$19 -> 10 | Z11: =$H$36 -> 4 | AA11: =F15 -> 9 | AB11: =G15 -> 0 | AC11: =H15 -> 0 | AD11: =I15 -> 0 | AE11: =F32 -> 9 | AF11: =G32 -> 0 | AG11: =H32 -> 0 | AH11: =I32 -> 0 | AI11: =J32 -> 0 | AJ11: =K32 -> 0
F12: 6 | G12: B. Bazell | H12: 61 | I12: 1 | N12: =$D$5 -> 40677 | O12: =$D$7 -> Crazies Hill | P12: =$D$9 -> Draw | Q12: =$D$11 -> Away | R12: =$D$13 -> Second | S12: =$D$15 -> 123 | T12: =$D$16 -> 6 | U12: =$D$18 -> 222 | V12: =$D$19 -> 6 | W12: =$D$21 -> 36 | X12: =$D$22 -> 36 | Y12: =$H$19 -> 10 | Z12: =$H$36 -> 4 | AA12: =F16 -> 10 | AB12: =G16 -> 0 | AC12: =H16 -> 0 | AD12: =I16 -> 0 | AE12: =F33 -> 10 | AF12: =G33 -> 0 | AG12: =H33 -> 0 | AH12: =I33 -> 0 | AI12: =J33 -> 0 | AJ12: =K33 -> 0
C13: TPCC Batting First | D13: Second | F13: 7 | G13: J. Leefe | H13: 1 | I13: 0 | N13: =$D$5 -> 40677 | O13: =$D$7 -> Crazies Hill | P13: =$D$9 -> Draw | Q13: =$D$11 -> Away | R13: =$D$13 -> Second | S13: =$D$15 -> 123 | T13: =$D$16 -> 6 | U13: =$D$18 -> 222 | V13: =$D$19 -> 6 | W13: =$D$21 -> 36 | X13: =$D$22 -> 36 | Y13: =$H$19 -> 10 | Z13: =$H$36 -> 4 | AA13: =F17 -> 11 | AB13: =G17 -> 0 | AC13: =H17 -> 0 | AD13: =I17 -> 0 | AE13: =F34 -> 11 | AF13: =G34 -> 0 | AG13: =H34 -> 0 | AH13: =I34 -> 0 | AI13: =J34 -> 0 | AJ13: =K34 -> 0
F14: 8 | G14: Ra. Dickie | H14: 1 | I14: 0
C15: TPCC Team Score | D15: =SUM(H7:H17)+H19 -> 123 | F15: 9
C16: TPCC Team Wickets | D16: =SUM(I7:I17) -> 6 | F16: 10
F17: 11
C18: Opposition Team Score | D18: =SUM(K24:K34)+H36 -> 222
C19: Opposition Team Wickets | D19: =SUM(J24:J34) -> 6 | F19: Batting Extras | H19: 10
C21: TPCC Overs Bowled | D21: =SUM(H24:H34) -> 36
C22: Opposition Overs Bowled | D22: 36 | F22: Bowling
F23: Position | G23: Name | H23: Overs | I23: Maidens | J23: Wickets | K23: Runs
F24: 1 | G24: J. Leefe | H24: 9 | I24: 0 | J24: 2 | K24: 35
F25: 2 | G25: S. Beardall | H25: 9 | I25: 0 | J25: 2 | K25: 66
F26: 3 | G26: A. Harvey-Thompson | H26: 13 | I26: 1 | J26: 2 | K26: 62
F27: 4 | G27: N. Runkell | H27: 4 | I27: 0 | J27: 0 | K27: 48
F28: 5 | G28: O. Brett | H28: 1 | I28: 0 | J28: 0 | K28: 7
F29: 6
F30: 7
F31: 8
F32: 9
F33: 10
F34: 11
F36: Bowling Extras | H36: 4

Sheet Britwell Salome
N2: Date | O2: Opposition | P2: Match Status | Q2: Home/Away | R2: TPCC Batting First | S2: TPCC Team Score | T2: TPCC Team Wickets | U2: Opposition Team Score | V2: Opposition Team Wickets | W2: TPCC Overs Bowled | X2: TPCC Overs Faced | Y2: Batting Extras | Z2: Bowling Extras | AA2: Batsmen Position | AB2: Batsmen Name | AC2: Batsmen Runs | AD2: Batsmen Out | AE2: Bowler Position | AF2: Bowler Name | AG2: Bowler Overs | AH2: Bowler Maidens | AI2: Bowler Wickets | AJ2: Bowler Runs
C3: Match Overview | N3: =$D$5 -> 40678 | O3: =$D$7 -> Britwell Salome | P3: =$D$9 -> Draw | Q3: =$D$11 -> Away | R3: =$D$13 -> First | S3: =$D$15 -> 297 | T3: =$D$16 -> 6 | U3: =$D$18 -> 163 | V3: =$D$19 -> 8 | W3: =$D$21 -> 39 | X3: =$D$22 -> 34 | Y3: =$H$19 -> 19 | Z3: =$H$36 -> 25 | AA3: =F7 -> 1 | AB3: =G7 -> P. Briffett | AC3: =H7 -> 2 | AD3: =I7 -> 1 | AE3: =F24 -> 1 | AF3: =G24 -> J. Leefe | AG3: =H24 -> 10 | AH3: =I24 -> 0 | AI3: =J24 -> 3 | AJ3: =K24 -> 42
N4: =$D$5 -> 40678 | O4: =$D$7 -> Britwell Salome | P4: =$D$9 -> Draw | Q4: =$D$11 -> Away | R4: =$D$13 -> First | S4: =$D$15 -> 297 | T4: =$D$16 -> 6 | U4: =$D$18 -> 163 | V4: =$D$19 -> 8 | W4: =$D$21 -> 39 | X4: =$D$22 -> 34 | Y4: =$H$19 -> 19 | Z4: =$H$36 -> 25 | AA4: =F8 -> 2 | AB4: =G8 -> A. Bignell | AC4: =H8 -> 0 | AD4: =I8 -> 1 | AE4: =F25 -> 2 | AF4: =G25 -> S. Beardall | AG4: =H25 -> 7 | AH4: =I25 -> 1 | AI4: =J25 -> 1 | AJ4: =K25 -> 28
C5: Date | D5: 40678 | F5: Batting | N5: =$D$5 -> 40678 | O5: =$D$7 -> Britwell Salome | P5: =$D$9 -> Draw | Q5: =$D$11 -> Away | R5: =$D$13 -> First | S5: =$D$15 -> 297 | T5: =$D$16 -> 6 | U5: =$D$18 -> 163 | V5: =$D$19 -> 8 | W5: =$D$21 -> 39 | X5: =$D$22 -> 34 | Y5: =$H$19 -> 19 | Z5: =$H$36 -> 25 | AA5: =F9 -> 3 | AB5: =G9 -> R. Gunn | AC5: =H9 -> 8 | AD5: =I9 -> 1 | AE5: =F26 -> 3 | AF5: =G26 -> A. Bignell | AG5: =H26 -> 10 | AH5: =I26 -> 4 | AI5: =J26 -> 3 | AJ5: =K26 -> 23
F6: Position | G6: Name | H6: Runs | I6: Out | N6: =$D$5 -> 40678 | O6: =$D$7 -> Britwell Salome | P6: =$D$9 -> Draw | Q6: =$D$11 -> Away | R6: =$D$13 -> First | S6: =$D$15 -> 297 | T6: =$D$16 -> 6 | U6: =$D$18 -> 163 | V6: =$D$19 -> 8 | W6: =$D$21 -> 39 | X6: =$D$22 -> 34 | Y6: =$H$19 -> 19 | Z6: =$H$36 -> 25 | AA6: =F10 -> 4 | AB6: =G10 -> J. Hunt | AC6: =H10 -> 149 | AD6: =I10 -> 0 | AE6: =F27 -> 4 | AF6: =G27 -> P. Briffett | AG6: =H27 -> 3 | AH6: =I27 -> 0 | AI6: =J27 -> 0 | AJ6: =K27 -> 33
C7: Opposition | D7: Britwell Salome | F7: 1 | G7: P. Briffett | H7: 2 | I7: 1 | N7: =$D$5 -> 40678 | O7: =$D$7 -> Britwell Salome | P7: =$D$9 -> Draw | Q7: =$D$11 -> Away | R7: =$D$13 -> First | S7: =$D$15 -> 297 | T7: =$D$16 -> 6 | U7: =$D$18 -> 163 | V7: =$D$19 -> 8 | W7: =$D$21 -> 39 | X7: =$D$22 -> 34 | Y7: =$H$19 -> 19 | Z7: =$H$36 -> 25 | AA7: =F11 -> 5 | AB7: =G11 -> J. Hancock | AC7: =H11 -> 95 | AD7: =I11 -> 1 | AE7: =F28 -> 5 | AF7: =G28 -> D. Stockings | AG7: =H28 -> 3 | AH7: =I28 -> 1 | AI7: =J28 -> 0 | AJ7: =K28 -> 4
F8: 2 | G8: A. Bignell | H8: 0 | I8: 1 | N8: =$D$5 -> 40678 | O8: =$D$7 -> Britwell Salome | P8: =$D$9 -> Draw | Q8: =$D$11 -> Away | R8: =$D$13 -> First | S8: =$D$15 -> 297 | T8: =$D$16 -> 6 | U8: =$D$18 -> 163 | V8: =$D$19 -> 8 | W8: =$D$21 -> 39 | X8: =$D$22 -> 34 | Y8: =$H$19 -> 19 | Z8: =$H$36 -> 25 | AA8: =F12 -> 6 | AB8: =G12 -> D. Hyman | AC8: =H12 -> 14 | AD8: =I12 -> 1 | AE8: =F29 -> 6 | AF8: =G29 -> J. Hancock | AG8: =H29 -> 3 | AH8: =I29 -> 1 | AI8: =J29 -> 0 | AJ8: =K29 -> 5
C9: Match Status | D9: Draw | F9: 3 | G9: R. Gunn | H9: 8 | I9: 1 | N9: =$D$5 -> 40678 | O9: =$D$7 -> Britwell Salome | P9: =$D$9 -> Draw | Q9: =$D$11 -> Away | R9: =$D$13 -> First | S9: =$D$15 -> 297 | T9: =$D$16 -> 6 | U9: =$D$18 -> 163 | V9: =$D$19 -> 8 | W9: =$D$21 -> 39 | X9: =$D$22 -> 34 | Y9: =$H$19 -> 19 | Z9: =$H$36 -> 25 | AA9: =F13 -> 7 | AB9: =G13 -> D. Stockings | AC9: =H13 -> 10 | AD9: =I13 -> 1 | AE9: =F30 -> 7 | AF9: =G30 -> J. Hunt | AG9: =H30 -> 3 | AH9: =I30 -> 1 | AI9: =J30 -> 1 | AJ9: =K30 -> 3
F10: 4 | G10: J. Hunt | H10: 149 | I10: 0 | N10: =$D$5 -> 40678 | O10: =$D$7 -> Britwell Salome | P10: =$D$9 -> Draw | Q10: =$D$11 -> Away | R10: =$D$13 -> First | S10: =$D$15 -> 297 | T10: =$D$16 -> 6 | U10: =$D$18 -> 163 | V10: =$D$19 -> 8 | W10: =$D$21 -> 39 | X10: =$D$22 -> 34 | Y10: =$H$19 -> 19 | Z10: =$H$36 -> 25 | AA10: =F14 -> 8 | AB10: =G14 -> 0 | AC10: =H14 -> 0 | AD10: =I14 -> 0 | AE10: =F31 -> 8 | AF10: =G31 -> 0 | AG10: =H31 -> 0 | AH10: =I31 -> 0 | AI10: =J31 -> 0 | AJ10: =K31 -> 0
C11: Home / Away | D11: Away | F11: 5 | G11: J. Hancock | H11: 95 | I11: 1 | N11: =$D$5 -> 40678 | O11: =$D$7 -> Britwell Salome | P11: =$D$9 -> Draw | Q11: =$D$11 -> Away | R11: =$D$13 -> First | S11: =$D$15 -> 297 | T11: =$D$16 -> 6 | U11: =$D$18 -> 163 | V11: =$D$19 -> 8 | W11: =$D$21 -> 39 | X11: =$D$22 -> 34 | Y11: =$H$19 -> 19 | Z11: =$H$36 -> 25 | AA11: =F15 -> 9 | AB11: =G15 -> 0 | AC11: =H15 -> 0 | AD11: =I15 -> 0 | AE11: =F32 -> 9 | AF11: =G32 -> 0 | AG11: =H32 -> 0 | AH11: =I32 -> 0 | AI11: =J32 -> 0 | AJ11: =K32 -> 0
F12: 6 | G12: D. Hyman | H12: 14 | I12: 1 | N12: =$D$5 -> 40678 | O12: =$D$7 -> Britwell Salome | P12: =$D$9 -> Draw | Q12: =$D$11 -> Away | R12: =$D$13 -> First | S12: =$D$15 -> 297 | T12: =$D$16 -> 6 | U12: =$D$18 -> 163 | V12: =$D$19 -> 8 | W12: =$D$21 -> 39 | X12: =$D$22 -> 34 | Y12: =$H$19 -> 19 | Z12: =$H$36 -> 25 | AA12: =F16 -> 10 | AB12: =G16 -> 0 | AC12: =H16 -> 0 | AD12: =I16 -> 0 | AE12: =F33 -> 10 | AF12: =G33 -> 0 | AG12: =H33 -> 0 | AH12: =I33 -> 0 | AI12: =J33 -> 0 | AJ12: =K33 -> 0
C13: TPCC Batting First | D13: First | F13: 7 | G13: D. Stockings | H13: 10 | I13: 1 | N13: =$D$5 -> 40678 | O13: =$D$7 -> Britwell Salome | P13: =$D$9 -> Draw | Q13: =$D$11 -> Away | R13: =$D$13 -> First | S13: =$D$15 -> 297 | T13: =$D$16 -> 6 | U13: =$D$18 -> 163 | V13: =$D$19 -> 8 | W13: =$D$21 -> 39 | X13: =$D$22 -> 34 | Y13: =$H$19 -> 19 | Z13: =$H$36 -> 25 | AA13: =F17 -> 11 | AB13: =G17 -> 0 | AC13: =H17 -> 0 | AD13: =I17 -> 0 | AE13: =F34 -> 11 | AF13: =G34 -> 0 | AG13: =H34 -> 0 | AH13: =I34 -> 0 | AI13: =J34 -> 0 | AJ13: =K34 -> 0
F14: 8
C15: TPCC Team Score | D15: =SUM(H7:H17)+H19 -> 297 | F15: 9
C16: TPCC Team Wickets | D16: =SUM(I7:I17) -> 6 | F16: 10
F17: 11
C18: Opposition Team Score | D18: =SUM(K24:K34)+H36 -> 163
C19: Opposition Team Wickets | D19: =SUM(J24:J34) -> 8 | F19: Batting Extras | H19: 19
C21: TPCC Overs Bowled | D21: =SUM(H24:H34) -> 39
C22: Opposition Overs Bowled | D22: 34 | F22: Bowling
F23: Position | G23: Name | H23: Overs | I23: Maidens | J23: Wickets | K23: Runs
F24: 1 | G24: J. Leefe | H24: 10 | I24: 0 | J24: 3 | K24: 42
F25: 2 | G25: S. Beardall | H25: 7 | I25: 1 | J25: 1 | K25: 28
F26: 3 | G26: A. Bignell | H26: 10 | I26: 4 | J26: 3 | K26: 23
F27: 4 | G27: P. Briffett | H27: 3 | I27: 0 | J27: 0 | K27: 33
F28: 5 | G28: D. Stockings | H28: 3 | I28: 1 | J28: 0 | K28: 4
F29: 6 | G29: J. Hancock | H29: 3 | I29: 1 | J29: 0 | K29: 5
F30: 7 | G30: J. Hunt | H30: 3 | I30: 1 | J30: 1 | K30: 3
F31: 8
F32: 9
F33: 10
F34: 11
F36: Bowling Extras | H36: 25

Sheet BBC Caversham
N2: Date | O2: Opposition | P2: Match Status | Q2: Home/Away | R2: TPCC Batting First | S2: TPCC Team Score | T2: TPCC Team Wickets | U2: Opposition Team Score | V2: Opposition Team Wickets | W2: TPCC Overs Bowled | X2: TPCC Overs Faced | Y2: Batting Extras | Z2: Bowling Extras | AA2: Batsmen Position | AB2: Batsmen Name | AC2: Batsmen Runs | AD2: Batsmen Out | AE2: Bowler Position | AF2: Bowler Name | AG2: Bowler Overs | AH2: Bowler Maidens | AI2: Bowler Wickets | AJ2: Bowler Runs
C3: Match Overview | N3: =$D$5 -> 40684 | O3: =$D$7 -> BBC Caversham | P3: =$D$9 -> Cancelled | Q3: =$D$11 -> Away | R3: =$D$13 -> 0 | S3: =$D$15 -> 0 | T3: =$D$16 -> 0 | U3: =$D$18 -> 0 | V3: =$D$19 -> 0 | W3: =$D$21 -> 0 | X3: =$D$22 -> 0 | Y3: =$H$19 -> 0 | Z3: =$H$36 -> 0 | AA3: =F7 -> 1 | AB3: =G7 -> 0 | AC3: =H7 -> 0 | AD3: =I7 -> 0 | AE3: =F24 -> 1 | AF3: =G24 -> 0 | AG3: =H24 -> 0 | AH3: =I24 -> 0 | AI3: =J24 -> 0 | AJ3: =K24 -> 0
N4: =$D$5 -> 40684 | O4: =$D$7 -> BBC Caversham | P4: =$D$9 -> Cancelled | Q4: =$D$11 -> Away | R4: =$D$13 -> 0 | S4: =$D$15 -> 0 | T4: =$D$16 -> 0 | U4: =$D$18 -> 0 | V4: =$D$19 -> 0 | W4: =$D$21 -> 0 | X4: =$D$22 -> 0 | Y4: =$H$19 -> 0 | Z4: =$H$36 -> 0 | AA4: =F8 -> 2 | AB4: =G8 -> 0 | AC4: =H8 -> 0 | AD4: =I8 -> 0 | AE4: =F25 -> 2 | AF4: =G25 -> 0 | AG4: =H25 -> 0 | AH4: =I25 -> 0 | AI4: =J25 -> 0 | AJ4: =K25 -> 0
C5: Date | D5: 40684 | F5: Batting | N5: =$D$5 -> 40684 | O5: =$D$7 -> BBC Caversham | P5: =$D$9 -> Cancelled | Q5: =$D$11 -> Away | R5: =$D$13 -> 0 | S5: =$D$15 -> 0 | T5: =$D$16 -> 0 | U5: =$D$18 -> 0 | V5: =$D$19 -> 0 | W5: =$D$21 -> 0 | X5: =$D$22 -> 0 | Y5: =$H$19 -> 0 | Z5: =$H$36 -> 0 | AA5: =F9 -> 3 | AB5: =G9 -> 0 | AC5: =H9 -> 0 | AD5: =I9 -> 0 | AE5: =F26 -> 3 | AF5: =G26 -> 0 | AG5: =H26 -> 0 | AH5: =I26 -> 0 | AI5: =J26 -> 0 | AJ5: =K26 -> 0
F6: Position | G6: Name | H6: Runs | I6: Out | N6: =$D$5 -> 40684 | O6: =$D$7 -> BBC Caversham | P6: =$D$9 -> Cancelled | Q6: =$D$11 -> Away | R6: =$D$13 -> 0 | S6: =$D$15 -> 0 | T6: =$D$16 -> 0 | U6: =$D$18 -> 0 | V6: =$D$19 -> 0 | W6: =$D$21 -> 0 | X6: =$D$22 -> 0 | Y6: =$H$19 -> 0 | Z6: =$H$36 -> 0 | AA6: =F10 -> 4 | AB6: =G10 -> 0 | AC6: =H10 -> 0 | AD6: =I10 -> 0 | AE6: =F27 -> 4 | AF6: =G27 -> 0 | AG6: =H27 -> 0 | AH6: =I27 -> 0 | AI6: =J27 -> 0 | AJ6: =K27 -> 0
C7: Opposition | D7: BBC Caversham | F7: 1 | N7: =$D$5 -> 40684 | O7: =$D$7 -> BBC Caversham | P7: =$D$9 -> Cancelled | Q7: =$D$11 -> Away | R7: =$D$13 -> 0 | S7: =$D$15 -> 0 | T7: =$D$16 -> 0 | U7: =$D$18 -> 0 | V7: =$D$19 -> 0 | W7: =$D$21 -> 0 | X7: =$D$22 -> 0 | Y7: =$H$19 -> 0 | Z7: =$H$36 -> 0 | AA7: =F11 -> 5 | AB7: =G11 -> 0 | AC7: =H11 -> 0 | AD7: =I11 -> 0 | AE7: =F28 -> 5 | AF7: =G28 -> 0 | AG7: =H28 -> 0 | AH7: =I28 -> 0 | AI7: =J28 -> 0 | AJ7: =K28 -> 0
F8: 2 | N8: =$D$5 -> 40684 | O8: =$D$7 -> BBC Caversham | P8: =$D$9 -> Cancelled | Q8: =$D$11 -> Away | R8: =$D$13 -> 0 | S8: =$D$15 -> 0 | T8: =$D$16 -> 0 | U8: =$D$18 -> 0 | V8: =$D$19 -> 0 | W8: =$D$21 -> 0 | X8: =$D$22 -> 0 | Y8: =$H$19 -> 0 | Z8: =$H$36 -> 0 | AA8: =F12 -> 6 | AB8: =G12 -> 0 | AC8: =H12 -> 0 | AD8: =I12 -> 0 | AE8: =F29 -> 6 | AF8: =G29 -> 0 | AG8: =H29 -> 0 | AH8: =I29 -> 0 | AI8: =J29 -> 0 | AJ8: =K29 -> 0
C9: Match Status | D9: Cancelled | F9: 3 | N9: =$D$5 -> 40684 | O9: =$D$7 -> BBC Caversham | P9: =$D$9 -> Cancelled | Q9: =$D$11 -> Away | R9: =$D$13 -> 0 | S9: =$D$15 -> 0 | T9: =$D$16 -> 0 | U9: =$D$18 -> 0 | V9: =$D$19 -> 0 | W9: =$D$21 -> 0 | X9: =$D$22 -> 0 | Y9: =$H$19 -> 0 | Z9: =$H$36 -> 0 | AA9: =F13 -> 7 | AB9: =G13 -> 0 | AC9: =H13 -> 0 | AD9: =I13 -> 0 | AE9: =F30 -> 7 | AF9: =G30 -> 0 | AG9: =H30 -> 0 | AH9: =I30 -> 0 | AI9: =J30 -> 0 | AJ9: =K30 -> 0
F10: 4 | N10: =$D$5 -> 40684 | O10: =$D$7 -> BBC Caversham | P10: =$D$9 -> Cancelled | Q10: =$D$11 -> Away | R10: =$D$13 -> 0 | S10: =$D$15 -> 0 | T10: =$D$16 -> 0 | U10: =$D$18 -> 0 | V10: =$D$19 -> 0 | W10: =$D$21 -> 0 | X10: =$D$22 -> 0 | Y10: =$H$19 -> 0 | Z10: =$H$36 -> 0 | AA10: =F14 -> 8 | AB10: =G14 -> 0 | AC10: =H14 -> 0 | AD10: =I14 -> 0 | AE10: =F31 -> 8 | AF10: =G31 -> 0 | AG10: =H31 -> 0 | AH10: =I31 -> 0 | AI10: =J31 -> 0 | AJ10: =K31 -> 0
C11: Home / Away | D11: Away | F11: 5 | N11: =$D$5 -> 40684 | O11: =$D$7 -> BBC Caversham | P11: =$D$9 -> Cancelled | Q11: =$D$11 -> Away | R11: =$D$13 -> 0 | S11: =$D$15 -> 0 | T11: =$D$16 -> 0 | U11: =$D$18 -> 0 | V11: =$D$19 -> 0 | W11: =$D$21 -> 0 | X11: =$D$22 -> 0 | Y11: =$H$19 -> 0 | Z11: =$H$36 -> 0 | AA11: =F15 -> 9 | AB11: =G15 -> 0 | AC11: =H15 -> 0 | AD11: =I15 -> 0 | AE11: =F32 -> 9 | AF11: =G32 -> 0 | AG11: =H32 -> 0 | AH11: =I32 -> 0 | AI11: =J32 -> 0 | AJ11: =K32 -> 0
F12: 6 | N12: =$D$5 -> 40684 | O12: =$D$7 -> BBC Caversham | P12: =$D$9 -> Cancelled | Q12: =$D$11 -> Away | R12: =$D$13 -> 0 | S12: =$D$15 -> 0 | T12: =$D$16 -> 0 | U12: =$D$18 -> 0 | V12: =$D$19 -> 0 | W12: =$D$21 -> 0 | X12: =$D$22 -> 0 | Y12: =$H$19 -> 0 | Z12: =$H$36 -> 0 | AA12: =F16 -> 10 | AB12: =G16 -> 0 | AC12: =H16 -> 0 | AD12: =I16 -> 0 | AE12: =F33 -> 10 | AF12: =G33 -> 0 | AG12: =H33 -> 0 | AH12: =I33 -> 0 | AI12: =J33 -> 0 | AJ12: =K33 -> 0
C13: TPCC Batting First | F13: 7 | N13: =$D$5 -> 40684 | O13: =$D$7 -> BBC Caversham | P13: =$D$9 -> Cancelled | Q13: =$D$11 -> Away | R13: =$D$13 -> 0 | S13: =$D$15 -> 0 | T13: =$D$16 -> 0 | U13: =$D$18 -> 0 | V13: =$D$19 -> 0 | W13: =$D$21 -> 0 | X13: =$D$22 -> 0 | Y13: =$H$19 -> 0 | Z13: =$H$36 -> 0 | AA13: =F17 -> 11 | AB13: =G17 -> 0 | AC13: =H17 -> 0 | AD13: =I17 -> 0 | AE13: =F34 -> 11 | AF13: =G34 -> 0 | AG13: =H34 -> 0 | AH13: =I34 -> 0 | AI13: =J34 -> 0 | AJ13: =K34 -> 0
F14: 8
C15: TPCC Team Score | D15: =SUM(H7:H17)+H19 -> 0 | F15: 9
C16: TPCC Team Wickets | D16: =SUM(I7:I17) -> 0 | F16: 10
F17: 11
C18: Opposition Team Score | D18: =SUM(K24:K34)+H36 -> 0
C19: Opposition Team Wickets | D19: =SUM(J24:J34) -> 0 | F19: Batting Extras
C21: TPCC Overs Bowled | D21: =SUM(H24:H34) -> 0
C22: Opposition Overs Bowled | F22: Bowling
F23: Position | G23: Name | H23: Overs | I23: Maidens | J23: Wickets | K23: Runs
F24: 1
F25: 2
F26: 3
F27: 4
F28: 5
F29: 6
F30: 7
F31: 8
F32: 9
F33: 10
F34: 11
F36: Bowling Extras

Sheet Checkendon
N2: Date | O2: Opposition | P2: Match Status | Q2: Home/Away | R2: TPCC Batting First | S2: TPCC Team Score | T2: TPCC Team Wickets | U2: Opposition Team Score | V2: Opposition Team Wickets | W2: TPCC Overs Bowled | X2: TPCC Overs Faced | Y2: Batting Extras | Z2: Bowling Extras | AA2: Batsmen Position | AB2: Batsmen Name | AC2: Batsmen Runs | AD2: Batsmen Out | AE2: Bowler Position | AF2: Bowler Name | AG2: Bowler Overs | AH2: Bowler Maidens | AI2: Bowler Wickets | AJ2: Bowler Runs
C3: Match Overview | N3: =$D$5 -> 40685 | O3: =$D$7 -> Checkendon | P3: =$D$9 -> Loss | Q3: =$D$11 -> Home | R3: =$D$13 -> Second | S3: =$D$15 -> 167 | T3: =$D$16 -> 10 | U3: =$D$18 -> 198 | V3: =$D$19 -> 9 | W3: =$D$21 -> 43 | X3: =$D$22 -> 38 | Y3: =$H$19 -> 22 | Z3: =$H$36 -> 5 | AA3: =F7 -> 1 | AB3: =G7 -> S. Beardall | AC3: =H7 -> 0 | AD3: =I7 -> 1 | AE3: =F24 -> 1 | AF3: =G24 -> J. Leefe | AG3: =H24 -> 7 | AH3: =I24 -> 1 | AI3: =J24 -> 2 | AJ3: =K24 -> 22
N4: =$D$5 -> 40685 | O4: =$D$7 -> Checkendon | P4: =$D$9 -> Loss | Q4: =$D$11 -> Home | R4: =$D$13 -> Second | S4: =$D$15 -> 167 | T4: =$D$16 -> 10 | U4: =$D$18 -> 198 | V4: =$D$19 -> 9 | W4: =$D$21 -> 43 | X4: =$D$22 -> 38 | Y4: =$H$19 -> 22 | Z4: =$H$36 -> 5 | AA4: =F8 -> 2 | AB4: =G8 -> P. Briffett | AC4: =H8 -> 2 | AD4: =I8 -> 1 | AE4: =F25 -> 2 | AF4: =G25 -> T. White | AG4: =H25 -> 8 | AH4: =I25 -> 1 | AI4: =J25 -> 2 | AJ4: =K25 -> 31
C5: Date | D5: 40685 | F5: Batting | N5: =$D$5 -> 40685 | O5: =$D$7 -> Checkendon | P5: =$D$9 -> Loss | Q5: =$D$11 -> Home | R5: =$D$13 -> Second | S5: =$D$15 -> 167 | T5: =$D$16 -> 10 | U5: =$D$18 -> 198 | V5: =$D$19 -> 9 | W5: =$D$21 -> 43 | X5: =$D$22 -> 38 | Y5: =$H$19 -> 22 | Z5: =$H$36 -> 5 | AA5: =F9 -> 3 | AB5: =G9 -> J. Hancock | AC5: =H9 -> 33 | AD5: =I9 -> 1 | AE5: =F26 -> 3 | AF5: =G26 -> A. Eykyn | AG5: =H26 -> 9 | AH5: =I26 -> 3 | AI5: =J26 -> 2 | AJ5: =K26 -> 30
F6: Position | G6: Name | H6: Runs | I6: Out | N6: =$D$5 -> 40685 | O6: =$D$7 -> Checkendon | P6: =$D$9 -> Loss | Q6: =$D$11 -> Home | R6: =$D$13 -> Second | S6: =$D$15 -> 167 | T6: =$D$16 -> 10 | U6: =$D$18 -> 198 | V6: =$D$19 -> 9 | W6: =$D$21 -> 43 | X6: =$D$22 -> 38 | Y6: =$H$19 -> 22 | Z6: =$H$36 -> 5 | AA6: =F10 -> 4 | AB6: =G10 -> S. Halfhead | AC6: =H10 -> 28 | AD6: =I10 -> 1 | AE6: =F27 -> 4 | AF6: =G27 -> N. Henry | AG6: =H27 -> 6 | AH6: =I27 -> 0 | AI6: =J27 -> 0 | AJ6: =K27 -> 27
C7: Opposition | D7: Checkendon | F7: 1 | G7: S. Beardall | H7: 0 | I7: 1 | N7: =$D$5 -> 40685 | O7: =$D$7 -> Checkendon | P7: =$D$9 -> Loss | Q7: =$D$11 -> Home | R7: =$D$13 -> Second | S7: =$D$15 -> 167 | T7: =$D$16 -> 10 | U7: =$D$18 -> 198 | V7: =$D$19 -> 9 | W7: =$D$21 -> 43 | X7: =$D$22 -> 38 | Y7: =$H$19 -> 22 | Z7: =$H$36 -> 5 | AA7: =F11 -> 5 | AB7: =G11 -> J. Moberly | AC7: =H11 -> 8 | AD7: =I11 -> 1 | AE7: =F28 -> 5 | AF7: =G28 -> J. Moser | AG7: =H28 -> 3 | AH7: =I28 -> 0 | AI7: =J28 -> 0 | AJ7: =K28 -> 38
F8: 2 | G8: P. Briffett | H8: 2 | I8: 1 | N8: =$D$5 -> 40685 | O8: =$D$7 -> Checkendon | P8: =$D$9 -> Loss | Q8: =$D$11 -> Home | R8: =$D$13 -> Second | S8: =$D$15 -> 167 | T8: =$D$16 -> 10 | U8: =$D$18 -> 198 | V8: =$D$19 -> 9 | W8: =$D$21 -> 43 | X8: =$D$22 -> 38 | Y8: =$H$19 -> 22 | Z8: =$H$36 -> 5 | AA8: =F12 -> 6 | AB8: =G12 -> H. Beardall | AC8: =H12 -> 3 | AD8: =I12 -> 1 | AE8: =F29 -> 6 | AF8: =G29 -> J. Hancock | AG8: =H29 -> 7 | AH8: =I29 -> 1 | AI8: =J29 -> 2 | AJ8: =K29 -> 37
C9: Match Status | D9: Loss | F9: 3 | G9: J. Hancock | H9: 33 | I9: 1 | N9: =$D$5 -> 40685 | O9: =$D$7 -> Checkendon | P9: =$D$9 -> Loss | Q9: =$D$11 -> Home | R9: =$D$13 -> Second | S9: =$D$15 -> 167 | T9: =$D$16 -> 10 | U9: =$D$18 -> 198 | V9: =$D$19 -> 9 | W9: =$D$21 -> 43 | X9: =$D$22 -> 38 | Y9: =$H$19 -> 22 | Z9: =$H$36 -> 5 | AA9: =F13 -> 7 | AB9: =G13 -> A. Eykyn | AC9: =H13 -> 22 | AD9: =I13 -> 1 | AE9: =F30 -> 7 | AF9: =G30 -> S. Beardall | AG9: =H30 -> 3 | AH9: =I30 -> 0 | AI9: =J30 -> 1 | AJ9: =K30 -> 8
F10: 4 | G10: S. Halfhead | H10: 28 | I10: 1 | N10: =$D$5 -> 40685 | O10: =$D$7 -> Checkendon | P10: =$D$9 -> Loss | Q10: =$D$11 -> Home | R10: =$D$13 -> Second | S10: =$D$15 -> 167 | T10: =$D$16 -> 10 | U10: =$D$18 -> 198 | V10: =$D$19 -> 9 | W10: =$D$21 -> 43 | X10: =$D$22 -> 38 | Y10: =$H$19 -> 22 | Z10: =$H$36 -> 5 | AA10: =F14 -> 8 | AB10: =G14 -> J. Moser | AC10: =H14 -> 20 | AD10: =I14 -> 1 | AE10: =F31 -> 8 | AF10: =G31 -> 0 | AG10: =H31 -> 0 | AH10: =I31 -> 0 | AI10: =J31 -> 0 | AJ10: =K31 -> 0
C11: Home / Away | D11: Home | F11: 5 | G11: J. Moberly | H11: 8 | I11: 1 | N11: =$D$5 -> 40685 | O11: =$D$7 -> Checkendon | P11: =$D$9 -> Loss | Q11: =$D$11 -> Home | R11: =$D$13 -> Second | S11: =$D$15 -> 167 | T11: =$D$16 -> 10 | U11: =$D$18 -> 198 | V11: =$D$19 -> 9 | W11: =$D$21 -> 43 | X11: =$D$22 -> 38 | Y11: =$H$19 -> 22 | Z11: =$H$36 -> 5 | AA11: =F15 -> 9 | AB11: =G15 -> J. Leefe | AC11: =H15 -> 6 | AD11: =I15 -> 1 | AE11: =F32 -> 9 | AF11: =G32 -> 0 | AG11: =H32 -> 0 | AH11: =I32 -> 0 | AI11: =J32 -> 0 | AJ11: =K32 -> 0
F12: 6 | G12: H. Beardall | H12: 3 | I12: 1 | N12: =$D$5 -> 40685 | O12: =$D$7 -> Checkendon | P12: =$D$9 -> Loss | Q12: =$D$11 -> Home | R12: =$D$13 -> Second | S12: =$D$15 -> 167 | T12: =$D$16 -> 10 | U12: =$D$18 -> 198 | V12: =$D$19 -> 9 | W12: =$D$21 -> 43 | X12: =$D$22 -> 38 | Y12: =$H$19 -> 22 | Z12: =$H$36 -> 5 | AA12: =F16 -> 10 | AB12: =G16 -> T. White | AC12: =H16 -> 23 | AD12: =I16 -> 1 | AE12: =F33 -> 10 | AF12: =G33 -> 0 | AG12: =H33 -> 0 | AH12: =I33 -> 0 | AI12: =J33 -> 0 | AJ12: =K33 -> 0
C13: TPCC Batting First | D13: Second | F13: 7 | G13: A. Eykyn | H13: 22 | I13: 1 | N13: =$D$5 -> 40685 | O13: =$D$7 -> Checkendon | P13: =$D$9 -> Loss | Q13: =$D$11 -> Home | R13: =$D$13 -> Second | S13: =$D$15 -> 167 | T13: =$D$16 -> 10 | U13: =$D$18 -> 198 | V13: =$D$19 -> 9 | W13: =$D$21 -> 43 | X13: =$D$22 -> 38 | Y13: =$H$19 -> 22 | Z13: =$H$36 -> 5 | AA13: =F17 -> 11 | AB13: =G17 -> N. Henry | AC13: =H17 -> 0 | AD13: =I17 -> 0 | AE13: =F34 -> 11 | AF13: =G34 -> 0 | AG13: =H34 -> 0 | AH13: =I34 -> 0 | AI13: =J34 -> 0 | AJ13: =K34 -> 0
F14: 8 | G14: J. Moser | H14: 20 | I14: 1
C15: TPCC Team Score | D15: =SUM(H7:H17)+H19 -> 167 | F15: 9 | G15: J. Leefe | H15: 6 | I15: 1
C16: TPCC Team Wickets | D16: =SUM(I7:I17) -> 10 | F16: 10 | G16: T. White | H16: 23 | I16: 1
F17: 11 | G17: N. Henry | H17: 0 | I17: 0
C18: Opposition Team Score | D18: =SUM(K24:K34)+H36 -> 198
C19: Opposition Team Wickets | D19: =SUM(J24:J34) -> 9 | F19: Batting Extras | H19: 22
C21: TPCC Overs Bowled | D21: =SUM(H24:H34) -> 43
C22: Opposition Overs Bowled | D22: 38 | F22: Bowling
F23: Position | G23: Name | H23: Overs | I23: Maidens | J23: Wickets | K23: Runs
F24: 1 | G24: J. Leefe | H24: 7 | I24: 1 | J24: 2 | K24: 22
F25: 2 | G25: T. White | H25: 8 | I25: 1 | J25: 2 | K25: 31
F26: 3 | G26: A. Eykyn | H26: 9 | I26: 3 | J26: 2 | K26: 30
F27: 4 | G27: N. Henry | H27: 6 | I27: 0 | J27: 0 | K27: 27
F28: 5 | G28: J. Moser | H28: 3 | I28: 0 | J28: 0 | K28: 38
F29: 6 | G29: J. Hancock | H29: 7 | I29: 1 | J29: 2 | K29: 37
F30: 7 | G30: S. Beardall | H30: 3 | I30: 0 | J30: 1 | K30: 8
F31: 8
F32: 9
F33: 10
F34: 11
F36: Bowling Extras | H36: 5

Sheet Odney
N2: Date | O2: Opposition | P2: Match Status | Q2: Home/Away | R2: TPCC Batting First | S2: TPCC Team Score | T2: TPCC Team Wickets | U2: Opposition Team Score | V2: Opposition Team Wickets | W2: TPCC Overs Bowled | X2: TPCC Overs Faced | Y2: Batting Extras | Z2: Bowling Extras | AA2: Batsmen Position | AB2: Batsmen Name | AC2: Batsmen Runs | AD2: Batsmen Out | AE2: Bowler Position | AF2: Bowler Name | AG2: Bowler Overs | AH2: Bowler Maidens | AI2: Bowler Wickets | AJ2: Bowler Runs
C3: Match Overview | N3: =$D$5 -> 40692 | O3: =$D$7 -> Odney | P3: =$D$9 -> Draw | Q3: =$D$11 -> Away | R3: =$D$13 -> Second | S3: =$D$15 -> 128 | T3: =$D$16 -> 9 | U3: =$D$18 -> 197 | V3: =$D$19 -> 9 | W3: =$D$21 -> 48 | X3: =$D$22 -> 29 | Y3: =$H$19 -> 25 | Z3: =$H$36 -> 8 | AA3: =F7 -> 1 | AB3: =G7 -> O. Brett | AC3: =H7 -> 12 | AD3: =I7 -> 1 | AE3: =F24 -> 1 | AF3: =G24 -> J. Thornton | AG3: =H24 -> 13 | AH3: =I24 -> 2 | AI3: =J24 -> 1 | AJ3: =K24 -> 53
N4: =$D$5 -> 40692 | O4: =$D$7 -> Odney | P4: =$D$9 -> Draw | Q4: =$D$11 -> Away | R4: =$D$13 -> Second | S4: =$D$15 -> 128 | T4: =$D$16 -> 9 | U4: =$D$18 -> 197 | V4: =$D$19 -> 9 | W4: =$D$21 -> 48 | X4: =$D$22 -> 29 | Y4: =$H$19 -> 25 | Z4: =$H$36 -> 8 | AA4: =F8 -> 2 | AB4: =G8 -> P. Briffett | AC4: =H8 -> 6 | AD4: =I8 -> 1 | AE4: =F25 -> 2 | AF4: =G25 -> O. Thornton | AG4: =H25 -> 7 | AH4: =I25 -> 2 | AI4: =J25 -> 2 | AJ4: =K25 -> 28
C5: Date | D5: 40692 | F5: Batting | N5: =$D$5 -> 40692 | O5: =$D$7 -> Odney | P5: =$D$9 -> Draw | Q5: =$D$11 -> Away | R5: =$D$13 -> Second | S5: =$D$15 -> 128 | T5: =$D$16 -> 9 | U5: =$D$18 -> 197 | V5: =$D$19 -> 9 | W5: =$D$21 -> 48 | X5: =$D$22 -> 29 | Y5: =$H$19 -> 25 | Z5: =$H$36 -> 8 | AA5: =F9 -> 3 | AB5: =G9 -> O. Thornton | AC5: =H9 -> 42 | AD5: =I9 -> 1 | AE5: =F26 -> 3 | AF5: =G26 -> T. Wade | AG5: =H26 -> 4 | AH5: =I26 -> 1 | AI5: =J26 -> 0 | AJ5: =K26 -> 10
F6: Position | G6: Name | H6: Runs | I6: Out | N6: =$D$5 -> 40692 | O6: =$D$7 -> Odney | P6: =$D$9 -> Draw | Q6: =$D$11 -> Away | R6: =$D$13 -> Second | S6: =$D$15 -> 128 | T6: =$D$16 -> 9 | U6: =$D$18 -> 197 | V6: =$D$19 -> 9 | W6: =$D$21 -> 48 | X6: =$D$22 -> 29 | Y6: =$H$19 -> 25 | Z6: =$H$36 -> 8 | AA6: =F10 -> 4 | AB6: =G10 -> T. Wade | AC6: =H10 -> 12 | AD6: =I10 -> 1 | AE6: =F27 -> 4 | AF6: =G27 -> A. Harvey-Thompson | AG6: =H27 -> 14 | AH6: =I27 -> 3 | AI6: =J27 -> 4 | AJ6: =K27 -> 47
C7: Opposition | D7: Odney | F7: 1 | G7: O. Brett | H7: 12 | I7: 1 | N7: =$D$5 -> 40692 | O7: =$D$7 -> Odney | P7: =$D$9 -> Draw | Q7: =$D$11 -> Away | R7: =$D$13 -> Second | S7: =$D$15 -> 128 | T7: =$D$16 -> 9 | U7: =$D$18 -> 197 | V7: =$D$19 -> 9 | W7: =$D$21 -> 48 | X7: =$D$22 -> 29 | Y7: =$H$19 -> 25 | Z7: =$H$36 -> 8 | AA7: =F11 -> 5 | AB7: =G11 -> R. Gunn | AC7: =H11 -> 5 | AD7: =I11 -> 1 | AE7: =F28 -> 5 | AF7: =G28 -> N. Runkell | AG7: =H28 -> 10 | AH7: =I28 -> 0 | AI7: =J28 -> 2 | AJ7: =K28 -> 51
F8: 2 | G8: P. Briffett | H8: 6 | I8: 1 | N8: =$D$5 -> 40692 | O8: =$D$7 -> Odney | P8: =$D$9 -> Draw | Q8: =$D$11 -> Away | R8: =$D$13 -> Second | S8: =$D$15 -> 128 | T8: =$D$16 -> 9 | U8: =$D$18 -> 197 | V8: =$D$19 -> 9 | W8: =$D$21 -> 48 | X8: =$D$22 -> 29 | Y8: =$H$19 -> 25 | Z8: =$H$36 -> 8 | AA8: =F12 -> 6 | AB8: =G12 -> J. Thornton | AC8: =H12 -> 0 | AD8: =I12 -> 1 | AE8: =F29 -> 6 | AF8: =G29 -> 0 | AG8: =H29 -> 0 | AH8: =I29 -> 0 | AI8: =J29 -> 0 | AJ8: =K29 -> 0
C9: Match Status | D9: Draw | F9: 3 | G9: O. Thornton | H9: 42 | I9: 1 | N9: =$D$5 -> 40692 | O9: =$D$7 -> Odney | P9: =$D$9 -> Draw | Q9: =$D$11 -> Away | R9: =$D$13 -> Second | S9: =$D$15 -> 128 | T9: =$D$16 -> 9 | U9: =$D$18 -> 197 | V9: =$D$19 -> 9 | W9: =$D$21 -> 48 | X9: =$D$22 -> 29 | Y9: =$H$19 -> 25 | Z9: =$H$36 -> 8 | AA9: =F13 -> 7 | AB9: =G13 -> C. Seigal | AC9: =H13 -> 4 | AD9: =I13 -> 1 | AE9: =F30 -> 7 | AF9: =G30 -> 0 | AG9: =H30 -> 0 | AH9: =I30 -> 0 | AI9: =J30 -> 0 | AJ9: =K30 -> 0
F10: 4 | G10: T. Wade | H10: 12 | I10: 1 | N10: =$D$5 -> 40692 | O10: =$D$7 -> Odney | P10: =$D$9 -> Draw | Q10: =$D$11 -> Away | R10: =$D$13 -> Second | S10: =$D$15 -> 128 | T10: =$D$16 -> 9 | U10: =$D$18 -> 197 | V10: =$D$19 -> 9 | W10: =$D$21 -> 48 | X10: =$D$22 -> 29 | Y10: =$H$19 -> 25 | Z10: =$H$36 -> 8 | AA10: =F14 -> 8 | AB10: =G14 -> R. Dickie | AC10: =H14 -> 0 | AD10: =I14 -> 1 | AE10: =F31 -> 8 | AF10: =G31 -> 0 | AG10: =H31 -> 0 | AH10: =I31 -> 0 | AI10: =J31 -> 0 | AJ10: =K31 -> 0
C11: Home / Away | D11: Away | F11: 5 | G11: R. Gunn | H11: 5 | I11: 1 | N11: =$D$5 -> 40692 | O11: =$D$7 -> Odney | P11: =$D$9 -> Draw | Q11: =$D$11 -> Away | R11: =$D$13 -> Second | S11: =$D$15 -> 128 | T11: =$D$16 -> 9 | U11: =$D$18 -> 197 | V11: =$D$19 -> 9 | W11: =$D$21 -> 48 | X11: =$D$22 -> 29 | Y11: =$H$19 -> 25 | Z11: =$H$36 -> 8 | AA11: =F15 -> 9 | AB11: =G15 -> B. Bazell | AC11: =H15 -> 16 | AD11: =I15 -> 0 | AE11: =F32 -> 9 | AF11: =G32 -> 0 | AG11: =H32 -> 0 | AH11: =I32 -> 0 | AI11: =J32 -> 0 | AJ11: =K32 -> 0
F12: 6 | G12: J. Thornton | H12: 0 | I12: 1 | N12: =$D$5 -> 40692 | O12: =$D$7 -> Odney | P12: =$D$9 -> Draw | Q12: =$D$11 -> Away | R12: =$D$13 -> Second | S12: =$D$15 -> 128 | T12: =$D$16 -> 9 | U12: =$D$18 -> 197 | V12: =$D$19 -> 9 | W12: =$D$21 -> 48 | X12: =$D$22 -> 29 | Y12: =$H$19 -> 25 | Z12: =$H$36 -> 8 | AA12: =F16 -> 10 | AB12: =G16 -> A. Harvey-Thompson | AC12: =H16 -> 4 | AD12: =I16 -> 1 | AE12: =F33 -> 10 | AF12: =G33 -> 0 | AG12: =H33 -> 0 | AH12: =I33 -> 0 | AI12: =J33 -> 0 | AJ12: =K33 -> 0
C13: TPCC Batting First | D13: Second | F13: 7 | G13: C. Seigal | H13: 4 | I13: 1 | N13: =$D$5 -> 40692 | O13: =$D$7 -> Odney | P13: =$D$9 -> Draw | Q13: =$D$11 -> Away | R13: =$D$13 -> Second | S13: =$D$15 -> 128 | T13: =$D$16 -> 9 | U13: =$D$18 -> 197 | V13: =$D$19 -> 9 | W13: =$D$21 -> 48 | X13: =$D$22 -> 29 | Y13: =$H$19 -> 25 | Z13: =$H$36 -> 8 | AA13: =F17 -> 11 | AB13: =G17 -> N. Runkell | AC13: =H17 -> 2 | AD13: =I17 -> 0 | AE13: =F34 -> 11 | AF13: =G34 -> 0 | AG13: =H34 -> 0 | AH13: =I34 -> 0 | AI13: =J34 -> 0 | AJ13: =K34 -> 0
F14: 8 | G14: R. Dickie | H14: 0 | I14: 1
C15: TPCC Team Score | D15: =SUM(H7:H17)+H19 -> 128 | F15: 9 | G15: B. Bazell | H15: 16 | I15: 0
C16: TPCC Team Wickets | D16: =SUM(I7:I17) -> 9 | F16: 10 | G16: A. Harvey-Thompson | H16: 4 | I16: 1
F17: 11 | G17: N. Runkell | H17: 2 | I17: 0
C18: Opposition Team Score | D18: =SUM(K24:K34)+H36 -> 197
C19: Opposition Team Wickets | D19: =SUM(J24:J34) -> 9 | F19: Batting Extras | H19: 25
C21: TPCC Overs Bowled | D21: =SUM(H24:H34) -> 48
C22: Opposition Overs Bowled | D22: 29 | F22: Bowling
F23: Position | G23: Name | H23: Overs | I23: Maidens | J23: Wickets | K23: Runs
F24: 1 | G24: J. Thornton | H24: 13 | I24: 2 | J24: 1 | K24: 53
F25: 2 | G25: O. Thornton | H25: 7 | I25: 2 | J25: 2 | K25: 28
F26: 3 | G26: T. Wade | H26: 4 | I26: 1 | J26: 0 | K26: 10
F27: 4 | G27: A. Harvey-Thompson | H27: 14 | I27: 3 | J27: 4 | K27: 47
F28: 5 | G28: N. Runkell | H28: 10 | I28: 0 | J28: 2 | K28: 51
F29: 6
F30: 7
F31: 8
F32: 9
F33: 10
F34: 11
F36: Bowling Extras | H36: 8

Sheet Harpsden (1)
N2: Date | O2: Opposition | P2: Match Status | Q2: Home/Away | R2: TPCC Batting First | S2: TPCC Team Score | T2: TPCC Team Wickets | U2: Opposition Team Score | V2: Opposition Team Wickets | W2: TPCC Overs Bowled | X2: TPCC Overs Faced | Y2: Batting Extras | Z2: Bowling Extras | AA2: Batsmen Position | AB2: Batsmen Name | AC2: Batsmen Runs | AD2: Batsmen Out | AE2: Bowler Position | AF2: Bowler Name | AG2: Bowler Overs | AH2: Bowler Maidens | AI2: Bowler Wickets | AJ2: Bowler Runs
C3: Match Overview | N3: =$D$5 -> 40698 | O3: =$D$7 -> Harpsden (1) | P3: =$D$9 -> Win | Q3: =$D$11 -> Home | R3: =$D$13 -> First | S3: =$D$15 -> 139 | T3: =$D$16 -> 10 | U3: =$D$18 -> 127 | V3: =$D$19 -> 10 | W3: =$D$21 -> 33 | X3: =$D$22 -> 40 | Y3: =$H$19 -> 2 | Z3: =$H$36 -> 1 | AA3: =F7 -> 1 | AB3: =G7 -> H. Beardall | AC3: =H7 -> 3 | AD3: =I7 -> 1 | AE3: =F24 -> 1 | AF3: =G24 -> J. Hunt | AG3: =H24 -> 8 | AH3: =I24 -> 0 | AI3: =J24 -> 3 | AJ3: =K24 -> 41
N4: =$D$5 -> 40698 | O4: =$D$7 -> Harpsden (1) | P4: =$D$9 -> Win | Q4: =$D$11 -> Home | R4: =$D$13 -> First | S4: =$D$15 -> 139 | T4: =$D$16 -> 10 | U4: =$D$18 -> 127 | V4: =$D$19 -> 10 | W4: =$D$21 -> 33 | X4: =$D$22 -> 40 | Y4: =$H$19 -> 2 | Z4: =$H$36 -> 1 | AA4: =F8 -> 2 | AB4: =G8 -> S. Bucknill | AC4: =H8 -> 7 | AD4: =I8 -> 1 | AE4: =F25 -> 2 | AF4: =G25 -> T. White | AG4: =H25 -> 8 | AH4: =I25 -> 0 | AI4: =J25 -> 1 | AJ4: =K25 -> 39
C5: Date | D5: 40698 | F5: Batting | N5: =$D$5 -> 40698 | O5: =$D$7 -> Harpsden (1) | P5: =$D$9 -> Win | Q5: =$D$11 -> Home | R5: =$D$13 -> First | S5: =$D$15 -> 139 | T5: =$D$16 -> 10 | U5: =$D$18 -> 127 | V5: =$D$19 -> 10 | W5: =$D$21 -> 33 | X5: =$D$22 -> 40 | Y5: =$H$19 -> 2 | Z5: =$H$36 -> 1 | AA5: =F9 -> 3 | AB5: =G9 -> T. Wade | AC5: =H9 -> 13 | AD5: =I9 -> 1 | AE5: =F26 -> 3 | AF5: =G26 -> O. Thornton | AG5: =H26 -> 9 | AH5: =I26 -> 4 | AI5: =J26 -> 5 | AJ5: =K26 -> 10
F6: Position | G6: Name | H6: Runs | I6: Out | N6: =$D$5 -> 40698 | O6: =$D$7 -> Harpsden (1) | P6: =$D$9 -> Win | Q6: =$D$11 -> Home | R6: =$D$13 -> First | S6: =$D$15 -> 139 | T6: =$D$16 -> 10 | U6: =$D$18 -> 127 | V6: =$D$19 -> 10 | W6: =$D$21 -> 33 | X6: =$D$22 -> 40 | Y6: =$H$19 -> 2 | Z6: =$H$36 -> 1 | AA6: =F10 -> 4 | AB6: =G10 -> O. Thornton | AC6: =H10 -> 77 | AD6: =I10 -> 1 | AE6: =F27 -> 4 | AF6: =G27 -> N. Henry | AG6: =H27 -> 4 | AH6: =I27 -> 1 | AI6: =J27 -> 1 | AJ6: =K27 -> 23
C7: Opposition | D7: Harpsden (1) | F7: 1 | G7: H. Beardall | H7: 3 | I7: 1 | N7: =$D$5 -> 40698 | O7: =$D$7 -> Harpsden (1) | P7: =$D$9 -> Win | Q7: =$D$11 -> Home | R7: =$D$13 -> First | S7: =$D$15 -> 139 | T7: =$D$16 -> 10 | U7: =$D$18 -> 127 | V7: =$D$19 -> 10 | W7: =$D$21 -> 33 | X7: =$D$22 -> 40 | Y7: =$H$19 -> 2 | Z7: =$H$36 -> 1 | AA7: =F11 -> 5 | AB7: =G11 -> J. Hunt | AC7: =H11 -> 24 | AD7: =I11 -> 1 | AE7: =F28 -> 5 | AF7: =G28 -> J. Thornton | AG7: =H28 -> 4 | AH7: =I28 -> 2 | AI7: =J28 -> 0 | AJ7: =K28 -> 13
F8: 2 | G8: S. Bucknill | H8: 7 | I8: 1 | N8: =$D$5 -> 40698 | O8: =$D$7 -> Harpsden (1) | P8: =$D$9 -> Win | Q8: =$D$11 -> Home | R8: =$D$13 -> First | S8: =$D$15 -> 139 | T8: =$D$16 -> 10 | U8: =$D$18 -> 127 | V8: =$D$19 -> 10 | W8: =$D$21 -> 33 | X8: =$D$22 -> 40 | Y8: =$H$19 -> 2 | Z8: =$H$36 -> 1 | AA8: =F12 -> 6 | AB8: =G12 -> P. Briffett | AC8: =H12 -> 4 | AD8: =I12 -> 1 | AE8: =F29 -> 6 | AF8: =G29 -> 0 | AG8: =H29 -> 0 | AH8: =I29 -> 0 | AI8: =J29 -> 0 | AJ8: =K29 -> 0
C9: Match Status | D9: Win | F9: 3 | G9: T. Wade | H9: 13 | I9: 1 | N9: =$D$5 -> 40698 | O9: =$D$7 -> Harpsden (1) | P9: =$D$9 -> Win | Q9: =$D$11 -> Home | R9: =$D$13 -> First | S9: =$D$15 -> 139 | T9: =$D$16 -> 10 | U9: =$D$18 -> 127 | V9: =$D$19 -> 10 | W9: =$D$21 -> 33 | X9: =$D$22 -> 40 | Y9: =$H$19 -> 2 | Z9: =$H$36 -> 1 | AA9: =F13 -> 7 | AB9: =G13 -> J. Thornton | AC9: =H13 -> 0 | AD9: =I13 -> 1 | AE9: =F30 -> 7 | AF9: =G30 -> 0 | AG9: =H30 -> 0 | AH9: =I30 -> 0 | AI9: =J30 -> 0 | AJ9: =K30 -> 0
F10: 4 | G10: O. Thornton | H10: 77 | I10: 1 | N10: =$D$5 -> 40698 | O10: =$D$7 -> Harpsden (1) | P10: =$D$9 -> Win | Q10: =$D$11 -> Home | R10: =$D$13 -> First | S10: =$D$15 -> 139 | T10: =$D$16 -> 10 | U10: =$D$18 -> 127 | V10: =$D$19 -> 10 | W10: =$D$21 -> 33 | X10: =$D$22 -> 40 | Y10: =$H$19 -> 2 | Z10: =$H$36 -> 1 | AA10: =F14 -> 8 | AB10: =G14 -> C. Simon | AC10: =H14 -> 1 | AD10: =I14 -> 1 | AE10: =F31 -> 8 | AF10: =G31 -> 0 | AG10: =H31 -> 0 | AH10: =I31 -> 0 | AI10: =J31 -> 0 | AJ10: =K31 -> 0
C11: Home / Away | D11: Home | F11: 5 | G11: J. Hunt | H11: 24 | I11: 1 | N11: =$D$5 -> 40698 | O11: =$D$7 -> Harpsden (1) | P11: =$D$9 -> Win | Q11: =$D$11 -> Home | R11: =$D$13 -> First | S11: =$D$15 -> 139 | T11: =$D$16 -> 10 | U11: =$D$18 -> 127 | V11: =$D$19 -> 10 | W11: =$D$21 -> 33 | X11: =$D$22 -> 40 | Y11: =$H$19 -> 2 | Z11: =$H$36 -> 1 | AA11: =F15 -> 9 | AB11: =G15 -> B. Bucknill | AC11: =H15 -> 1 | AD11: =I15 -> 1 | AE11: =F32 -> 9 | AF11: =G32 -> 0 | AG11: =H32 -> 0 | AH11: =I32 -> 0 | AI11: =J32 -> 0 | AJ11: =K32 -> 0
F12: 6 | G12: P. Briffett | H12: 4 | I12: 1 | N12: =$D$5 -> 40698 | O12: =$D$7 -> Harpsden (1) | P12: =$D$9 -> Win | Q12: =$D$11 -> Home | R12: =$D$13 -> First | S12: =$D$15 -> 139 | T12: =$D$16 -> 10 | U12: =$D$18 -> 127 | V12: =$D$19 -> 10 | W12: =$D$21 -> 33 | X12: =$D$22 -> 40 | Y12: =$H$19 -> 2 | Z12: =$H$36 -> 1 | AA12: =F16 -> 10 | AB12: =G16 -> T. White | AC12: =H16 -> 0 | AD12: =I16 -> 1 | AE12: =F33 -> 10 | AF12: =G33 -> 0 | AG12: =H33 -> 0 | AH12: =I33 -> 0 | AI12: =J33 -> 0 | AJ12: =K33 -> 0
C13: TPCC Batting First | D13: First | F13: 7 | G13: J. Thornton | H13: 0 | I13: 1 | N13: =$D$5 -> 40698 | O13: =$D$7 -> Harpsden (1) | P13: =$D$9 -> Win | Q13: =$D$11 -> Home | R13: =$D$13 -> First | S13: =$D$15 -> 139 | T13: =$D$16 -> 10 | U13: =$D$18 -> 127 | V13: =$D$19 -> 10 | W13: =$D$21 -> 33 | X13: =$D$22 -> 40 | Y13: =$H$19 -> 2 | Z13: =$H$36 -> 1 | AA13: =F17 -> 11 | AB13: =G17 -> N. Henry | AC13: =H17 -> 7 | AD13: =I17 -> 0 | AE13: =F34 -> 11 | AF13: =G34 -> 0 | AG13: =H34 -> 0 | AH13: =I34 -> 0 | AI13: =J34 -> 0 | AJ13: =K34 -> 0
F14: 8 | G14: C. Simon | H14: 1 | I14: 1
C15: TPCC Team Score | D15: =SUM(H7:H17)+H19 -> 139 | F15: 9 | G15: B. Bucknill | H15: 1 | I15: 1
C16: TPCC Team Wickets | D16: =SUM(I7:I17) -> 10 | F16: 10 | G16: T. White | H16: 0 | I16: 1
F17: 11 | G17: N. Henry | H17: 7 | I17: 0
C18: Opposition Team Score | D18: =SUM(K24:K34)+H36 -> 127
C19: Opposition Team Wickets | D19: =SUM(J24:J34) -> 10 | F19: Batting Extras | H19: 2
C21: TPCC Overs Bowled | D21: =SUM(H24:H34) -> 33
C22: Opposition Overs Bowled | D22: 40 | F22: Bowling
F23: Position | G23: Name | H23: Overs | I23: Maidens | J23: Wickets | K23: Runs
F24: 1 | G24: J. Hunt | H24: 8 | I24: 0 | J24: 3 | K24: 41
F25: 2 | G25: T. White | H25: 8 | I25: 0 | J25: 1 | K25: 39
F26: 3 | G26: O. Thornton | H26: 9 | I26: 4 | J26: 5 | K26: 10
F27: 4 | G27: N. Henry | H27: 4 | I27: 1 | J27: 1 | K27: 23
F28: 5 | G28: J. Thornton | H28: 4 | I28: 2 | J28: 0 | K28: 13
F29: 6
F30: 7
F31: 8
F32: 9
F33: 10
F34: 11
F36: Bowling Extras | H36: 1

Sheet Warborough
N2: Date | O2: Opposition | P2: Match Status | Q2: Home/Away | R2: TPCC Batting First | S2: TPCC Team Score | T2: TPCC Team Wickets | U2: Opposition Team Score | V2: Opposition Team Wickets | W2: TPCC Overs Bowled | X2: TPCC Overs Faced | Y2: Batting Extras | Z2: Bowling Extras | AA2: Batsmen Position | AB2: Batsmen Name | AC2: Batsmen Runs | AD2: Batsmen Out | AE2: Bowler Position | AF2: Bowler Name | AG2: Bowler Overs | AH2: Bowler Maidens | AI2: Bowler Wickets | AJ2: Bowler Runs
C3: Match Overview | N3: =$D$5 -> 40699 | O3: =$D$7 -> Warborough | P3: =$D$9 -> Loss | Q3: =$D$11 -> Away | R3: =$D$13 -> First | S3: =$D$15 -> 141 | T3: =$D$16 -> 10 | U3: =$D$18 -> 142 | V3: =$D$19 -> 7 | W3: =$D$21 -> 27 | X3: =$D$22 -> 42 | Y3: =$H$19 -> 17 | Z3: =$H$36 -> 22 | AA3: =F7 -> 1 | AB3: =G7 -> C. Simon | AC3: =H7 -> 7 | AD3: =I7 -> 1 | AE3: =F24 -> 1 | AF3: =G24 -> T. White | AG3: =H24 -> 8 | AH3: =I24 -> 0 | AI3: =J24 -> 2 | AJ3: =K24 -> 32
N4: =$D$5 -> 40699 | O4: =$D$7 -> Warborough | P4: =$D$9 -> Loss | Q4: =$D$11 -> Away | R4: =$D$13 -> First | S4: =$D$15 -> 141 | T4: =$D$16 -> 10 | U4: =$D$18 -> 142 | V4: =$D$19 -> 7 | W4: =$D$21 -> 27 | X4: =$D$22 -> 42 | Y4: =$H$19 -> 17 | Z4: =$H$36 -> 22 | AA4: =F8 -> 2 | AB4: =G8 -> P. Briffett | AC4: =H8 -> 4 | AD4: =I8 -> 1 | AE4: =F25 -> 2 | AF4: =G25 -> A. Bignell | AG4: =H25 -> 7 | AH4: =I25 -> 0 | AI4: =J25 -> 2 | AJ4: =K25 -> 49
C5: Date | D5: 40699 | F5: Batting | N5: =$D$5 -> 40699 | O5: =$D$7 -> Warborough | P5: =$D$9 -> Loss | Q5: =$D$11 -> Away | R5: =$D$13 -> First | S5: =$D$15 -> 141 | T5: =$D$16 -> 10 | U5: =$D$18 -> 142 | V5: =$D$19 -> 7 | W5: =$D$21 -> 27 | X5: =$D$22 -> 42 | Y5: =$H$19 -> 17 | Z5: =$H$36 -> 22 | AA5: =F9 -> 3 | AB5: =G9 -> J. Hancock | AC5: =H9 -> 14 | AD5: =I9 -> 1 | AE5: =F26 -> 3 | AF5: =G26 -> J. Hunt | AG5: =H26 -> 4 | AH5: =I26 -> 0 | AI5: =J26 -> 0 | AJ5: =K26 -> 18
F6: Position | G6: Name | H6: Runs | I6: Out | N6: =$D$5 -> 40699 | O6: =$D$7 -> Warborough | P6: =$D$9 -> Loss | Q6: =$D$11 -> Away | R6: =$D$13 -> First | S6: =$D$15 -> 141 | T6: =$D$16 -> 10 | U6: =$D$18 -> 142 | V6: =$D$19 -> 7 | W6: =$D$21 -> 27 | X6: =$D$22 -> 42 | Y6: =$H$19 -> 17 | Z6: =$H$36 -> 22 | AA6: =F10 -> 4 | AB6: =G10 -> J. Hunt | AC6: =H10 -> 6 | AD6: =I10 -> 1 | AE6: =F27 -> 4 | AF6: =G27 -> J. Hancock | AG6: =H27 -> 6 | AH6: =I27 -> 0 | AI6: =J27 -> 2 | AJ6: =K27 -> 12
C7: Opposition | D7: Warborough | F7: 1 | G7: C. Simon | H7: 7 | I7: 1 | N7: =$D$5 -> 40699 | O7: =$D$7 -> Warborough | P7: =$D$9 -> Loss | Q7: =$D$11 -> Away | R7: =$D$13 -> First | S7: =$D$15 -> 141 | T7: =$D$16 -> 10 | U7: =$D$18 -> 142 | V7: =$D$19 -> 7 | W7: =$D$21 -> 27 | X7: =$D$22 -> 42 | Y7: =$H$19 -> 17 | Z7: =$H$36 -> 22 | AA7: =F11 -> 5 | AB7: =G11 -> A. Bignell | AC7: =H11 -> 0 | AD7: =I11 -> 1 | AE7: =F28 -> 5 | AF7: =G28 -> S. Beardall | AG7: =H28 -> 2 | AH7: =I28 -> 0 | AI7: =J28 -> 1 | AJ7: =K28 -> 9
F8: 2 | G8: P. Briffett | H8: 4 | I8: 1 | N8: =$D$5 -> 40699 | O8: =$D$7 -> Warborough | P8: =$D$9 -> Loss | Q8: =$D$11 -> Away | R8: =$D$13 -> First | S8: =$D$15 -> 141 | T8: =$D$16 -> 10 | U8: =$D$18 -> 142 | V8: =$D$19 -> 7 | W8: =$D$21 -> 27 | X8: =$D$22 -> 42 | Y8: =$H$19 -> 17 | Z8: =$H$36 -> 22 | AA8: =F12 -> 6 | AB8: =G12 -> R. Gunn | AC8: =H12 -> 42 | AD8: =I12 -> 1 | AE8: =F29 -> 6 | AF8: =G29 -> 0 | AG8: =H29 -> 0 | AH8: =I29 -> 0 | AI8: =J29 -> 0 | AJ8: =K29 -> 0
C9: Match Status | D9: Loss | F9: 3 | G9: J. Hancock | H9: 14 | I9: 1 | N9: =$D$5 -> 40699 | O9: =$D$7 -> Warborough | P9: =$D$9 -> Loss | Q9: =$D$11 -> Away | R9: =$D$13 -> First | S9: =$D$15 -> 141 | T9: =$D$16 -> 10 | U9: =$D$18 -> 142 | V9: =$D$19 -> 7 | W9: =$D$21 -> 27 | X9: =$D$22 -> 42 | Y9: =$H$19 -> 17 | Z9: =$H$36 -> 22 | AA9: =F13 -> 7 | AB9: =G13 -> H. Beardall | AC9: =H13 -> 33 | AD9: =I13 -> 1 | AE9: =F30 -> 7 | AF9: =G30 -> 0 | AG9: =H30 -> 0 | AH9: =I30 -> 0 | AI9: =J30 -> 0 | AJ9: =K30 -> 0
F10: 4 | G10: J. Hunt | H10: 6 | I10: 1 | N10: =$D$5 -> 40699 | O10: =$D$7 -> Warborough | P10: =$D$9 -> Loss | Q10: =$D$11 -> Away | R10: =$D$13 -> First | S10: =$D$15 -> 141 | T10: =$D$16 -> 10 | U10: =$D$18 -> 142 | V10: =$D$19 -> 7 | W10: =$D$21 -> 27 | X10: =$D$22 -> 42 | Y10: =$H$19 -> 17 | Z10: =$H$36 -> 22 | AA10: =F14 -> 8 | AB10: =G14 -> S. Beardall | AC10: =H14 -> 6 | AD10: =I14 -> 1 | AE10: =F31 -> 8 | AF10: =G31 -> 0 | AG10: =H31 -> 0 | AH10: =I31 -> 0 | AI10: =J31 -> 0 | AJ10: =K31 -> 0
C11: Home / Away | D11: Away | F11: 5 | G11: A. Bignell | H11: 0 | I11: 1 | N11: =$D$5 -> 40699 | O11: =$D$7 -> Warborough | P11: =$D$9 -> Loss | Q11: =$D$11 -> Away | R11: =$D$13 -> First | S11: =$D$15 -> 141 | T11: =$D$16 -> 10 | U11: =$D$18 -> 142 | V11: =$D$19 -> 7 | W11: =$D$21 -> 27 | X11: =$D$22 -> 42 | Y11: =$H$19 -> 17 | Z11: =$H$36 -> 22 | AA11: =F15 -> 9 | AB11: =G15 -> J. Leefe | AC11: =H15 -> 7 | AD11: =I15 -> 1 | AE11: =F32 -> 9 | AF11: =G32 -> 0 | AG11: =H32 -> 0 | AH11: =I32 -> 0 | AI11: =J32 -> 0 | AJ11: =K32 -> 0
F12: 6 | G12: R. Gunn | H12: 42 | I12: 1 | N12: =$D$5 -> 40699 | O12: =$D$7 -> Warborough | P12: =$D$9 -> Loss | Q12: =$D$11 -> Away | R12: =$D$13 -> First | S12: =$D$15 -> 141 | T12: =$D$16 -> 10 | U12: =$D$18 -> 142 | V12: =$D$19 -> 7 | W12: =$D$21 -> 27 | X12: =$D$22 -> 42 | Y12: =$H$19 -> 17 | Z12: =$H$36 -> 22 | AA12: =F16 -> 10 | AB12: =G16 -> J. Moser | AC12: =H16 -> 0 | AD12: =I16 -> 1 | AE12: =F33 -> 10 | AF12: =G33 -> 0 | AG12: =H33 -> 0 | AH12: =I33 -> 0 | AI12: =J33 -> 0 | AJ12: =K33 -> 0
C13: TPCC Batting First | D13: First | F13: 7 | G13: H. Beardall | H13: 33 | I13: 1 | N13: =$D$5 -> 40699 | O13: =$D$7 -> Warborough | P13: =$D$9 -> Loss | Q13: =$D$11 -> Away | R13: =$D$13 -> First | S13: =$D$15 -> 141 | T13: =$D$16 -> 10 | U13: =$D$18 -> 142 | V13: =$D$19 -> 7 | W13: =$D$21 -> 27 | X13: =$D$22 -> 42 | Y13: =$H$19 -> 17 | Z13: =$H$36 -> 22 | AA13: =F17 -> 11 | AB13: =G17 -> T. White | AC13: =H17 -> 5 | AD13: =I17 -> 0 | AE13: =F34 -> 11 | AF13: =G34 -> 0 | AG13: =H34 -> 0 | AH13: =I34 -> 0 | AI13: =J34 -> 0 | AJ13: =K34 -> 0
F14: 8 | G14: S. Beardall | H14: 6 | I14: 1
C15: TPCC Team Score | D15: =SUM(H7:H17)+H19 -> 141 | F15: 9 | G15: J. Leefe | H15: 7 | I15: 1
C16: TPCC Team Wickets | D16: =SUM(I7:I17) -> 10 | F16: 10 | G16: J. Moser | H16: 0 | I16: 1
F17: 11 | G17: T. White | H17: 5 | I17: 0
C18: Opposition Team Score | D18: =SUM(K24:K34)+H36 -> 142
C19: Opposition Team Wickets | D19: =SUM(J24:J34) -> 7 | F19: Batting Extras | H19: 17
C21: TPCC Overs Bowled | D21: =SUM(H24:H34) -> 27
C22: Opposition Overs Bowled | D22: 42 | F22: Bowling
F23: Position | G23: Name | H23: Overs | I23: Maidens | J23: Wickets | K23: Runs
F24: 1 | G24: T. White | H24: 8 | I24: 0 | J24: 2 | K24: 32
F25: 2 | G25: A. Bignell | H25: 7 | I25: 0 | J25: 2 | K25: 49
F26: 3 | G26: J. Hunt | H26: 4 | I26: 0 | J26: 0 | K26: 18
F27: 4 | G27: J. Hancock | H27: 6 | I27: 0 | J27: 2 | K27: 12
F28: 5 | G28: S. Beardall | H28: 2 | I28: 0 | J28: 1 | K28: 9
F29: 6
F30: 7
F31: 8
F32: 9
F33: 10
F34: 11
F36: Bowling Extras | H36: 22

Sheet Invalids
N2: Date | O2: Opposition | P2: Match Status | Q2: Home/Away | R2: TPCC Batting First | S2: TPCC Team Score | T2: TPCC Team Wickets | U2: Opposition Team Score | V2: Opposition Team Wickets | W2: TPCC Overs Bowled | X2: TPCC Overs Faced | Y2: Batting Extras | Z2: Bowling Extras | AA2: Batsmen Position | AB2: Batsmen Name | AC2: Batsmen Runs | AD2: Batsmen Out | AE2: Bowler Position | AF2: Bowler Name | AG2: Bowler Overs | AH2: Bowler Maidens | AI2: Bowler Wickets | AJ2: Bowler Runs
C3: Match Overview | N3: =$D$5 -> 40705 | O3: =$D$7 -> Invalids | P3: =$D$9 -> Win | Q3: =$D$11 -> Home | R3: =$D$13 -> Second | S3: =$D$15 -> 198 | T3: =$D$16 -> 2 | U3: =$D$18 -> 197 | V3: =$D$19 -> 6 | W3: =$D$21 -> 54 | X3: =$D$22 -> 29 | Y3: =$H$19 -> 15 | Z3: =$H$36 -> 2 | AA3: =F7 -> 1 | AB3: =G7 -> T. Farley | AC3: =H7 -> 9 | AD3: =I7 -> 1 | AE3: =F24 -> 1 | AF3: =G24 -> J. Leefe | AG3: =H24 -> 7 | AH3: =I24 -> 3 | AI3: =J24 -> 0 | AJ3: =K24 -> 18
N4: =$D$5 -> 40705 | O4: =$D$7 -> Invalids | P4: =$D$9 -> Win | Q4: =$D$11 -> Home | R4: =$D$13 -> Second | S4: =$D$15 -> 198 | T4: =$D$16 -> 2 | U4: =$D$18 -> 197 | V4: =$D$19 -> 6 | W4: =$D$21 -> 54 | X4: =$D$22 -> 29 | Y4: =$H$19 -> 15 | Z4: =$H$36 -> 2 | AA4: =F8 -> 2 | AB4: =G8 -> J. Hunt | AC4: =H8 -> 127 | AD4: =I8 -> 1 | AE4: =F25 -> 2 | AF4: =G25 -> T. White | AG4: =H25 -> 12 | AH4: =I25 -> 2 | AI4: =J25 -> 1 | AJ4: =K25 -> 28
C5: Date | D5: 40705 | F5: Batting | N5: =$D$5 -> 40705 | O5: =$D$7 -> Invalids | P5: =$D$9 -> Win | Q5: =$D$11 -> Home | R5: =$D$13 -> Second | S5: =$D$15 -> 198 | T5: =$D$16 -> 2 | U5: =$D$18 -> 197 | V5: =$D$19 -> 6 | W5: =$D$21 -> 54 | X5: =$D$22 -> 29 | Y5: =$H$19 -> 15 | Z5: =$H$36 -> 2 | AA5: =F9 -> 3 | AB5: =G9 -> C. Simon | AC5: =H9 -> 46 | AD5: =I9 -> 0 | AE5: =F26 -> 3 | AF5: =G26 -> N. Henry | AG5: =H26 -> 10 | AH5: =I26 -> 2 | AI5: =J26 -> 3 | AJ5: =K26 -> 34
F6: Position | G6: Name | H6: Runs | I6: Out | N6: =$D$5 -> 40705 | O6: =$D$7 -> Invalids | P6: =$D$9 -> Win | Q6: =$D$11 -> Home | R6: =$D$13 -> Second | S6: =$D$15 -> 198 | T6: =$D$16 -> 2 | U6: =$D$18 -> 197 | V6: =$D$19 -> 6 | W6: =$D$21 -> 54 | X6: =$D$22 -> 29 | Y6: =$H$19 -> 15 | Z6: =$H$36 -> 2 | AA6: =F10 -> 4 | AB6: =G10 -> P. Briffett | AC6: =H10 -> 1 | AD6: =I10 -> 0 | AE6: =F27 -> 4 | AF6: =G27 -> T. Wade | AG6: =H27 -> 4 | AH6: =I27 -> 0 | AI6: =J27 -> 0 | AJ6: =K27 -> 22
C7: Opposition | D7: Invalids | F7: 1 | G7: T. Farley | H7: 9 | I7: 1 | N7: =$D$5 -> 40705 | O7: =$D$7 -> Invalids | P7: =$D$9 -> Win | Q7: =$D$11 -> Home | R7: =$D$13 -> Second | S7: =$D$15 -> 198 | T7: =$D$16 -> 2 | U7: =$D$18 -> 197 | V7: =$D$19 -> 6 | W7: =$D$21 -> 54 | X7: =$D$22 -> 29 | Y7: =$H$19 -> 15 | Z7: =$H$36 -> 2 | AA7: =F11 -> 5 | AB7: =G11 -> 0 | AC7: =H11 -> 0 | AD7: =I11 -> 0 | AE7: =F28 -> 5 | AF7: =G28 -> A. Harvey-Thompson | AG7: =H28 -> 10 | AH7: =I28 -> 1 | AI7: =J28 -> 1 | AJ7: =K28 -> 54
F8: 2 | G8: J. Hunt | H8: 127 | I8: 1 | N8: =$D$5 -> 40705 | O8: =$D$7 -> Invalids | P8: =$D$9 -> Win | Q8: =$D$11 -> Home | R8: =$D$13 -> Second | S8: =$D$15 -> 198 | T8: =$D$16 -> 2 | U8: =$D$18 -> 197 | V8: =$D$19 -> 6 | W8: =$D$21 -> 54 | X8: =$D$22 -> 29 | Y8: =$H$19 -> 15 | Z8: =$H$36 -> 2 | AA8: =F12 -> 6 | AB8: =G12 -> 0 | AC8: =H12 -> 0 | AD8: =I12 -> 0 | AE8: =F29 -> 6 | AF8: =G29 -> J. Hunt | AG8: =H29 -> 11 | AH8: =I29 -> 4 | AI8: =J29 -> 1 | AJ8: =K29 -> 39
C9: Match Status | D9: Win | F9: 3 | G9: C. Simon | H9: 46 | I9: 0 | N9: =$D$5 -> 40705 | O9: =$D$7 -> Invalids | P9: =$D$9 -> Win | Q9: =$D$11 -> Home | R9: =$D$13 -> Second | S9: =$D$15 -> 198 | T9: =$D$16 -> 2 | U9: =$D$18 -> 197 | V9: =$D$19 -> 6 | W9: =$D$21 -> 54 | X9: =$D$22 -> 29 | Y9: =$H$19 -> 15 | Z9: =$H$36 -> 2 | AA9: =F13 -> 7 | AB9: =G13 -> 0 | AC9: =H13 -> 0 | AD9: =I13 -> 0 | AE9: =F30 -> 7 | AF9: =G30 -> 0 | AG9: =H30 -> 0 | AH9: =I30 -> 0 | AI9: =J30 -> 0 | AJ9: =K30 -> 0
F10: 4 | G10: P. Briffett | H10: 1 | I10: 0 | N10: =$D$5 -> 40705 | O10: =$D$7 -> Invalids | P10: =$D$9 -> Win | Q10: =$D$11 -> Home | R10: =$D$13 -> Second | S10: =$D$15 -> 198 | T10: =$D$16 -> 2 | U10: =$D$18 -> 197 | V10: =$D$19 -> 6 | W10: =$D$21 -> 54 | X10: =$D$22 -> 29 | Y10: =$H$19 -> 15 | Z10: =$H$36 -> 2 | AA10: =F14 -> 8 | AB10: =G14 -> 0 | AC10: =H14 -> 0 | AD10: =I14 -> 0 | AE10: =F31 -> 8 | AF10: =G31 -> 0 | AG10: =H31 -> 0 | AH10: =I31 -> 0 | AI10: =J31 -> 0 | AJ10: =K31 -> 0
C11: Home / Away | D11: Home | F11: 5 | N11: =$D$5 -> 40705 | O11: =$D$7 -> Invalids | P11: =$D$9 -> Win | Q11: =$D$11 -> Home | R11: =$D$13 -> Second | S11: =$D$15 -> 198 | T11: =$D$16 -> 2 | U11: =$D$18 -> 197 | V11: =$D$19 -> 6 | W11: =$D$21 -> 54 | X11: =$D$22 -> 29 | Y11: =$H$19 -> 15 | Z11: =$H$36 -> 2 | AA11: =F15 -> 9 | AB11: =G15 -> 0 | AC11: =H15 -> 0 | AD11: =I15 -> 0 | AE11: =F32 -> 9 | AF11: =G32 -> 0 | AG11: =H32 -> 0 | AH11: =I32 -> 0 | AI11: =J32 -> 0 | AJ11: =K32 -> 0
F12: 6 | N12: =$D$5 -> 40705 | O12: =$D$7 -> Invalids | P12: =$D$9 -> Win | Q12: =$D$11 -> Home | R12: =$D$13 -> Second | S12: =$D$15 -> 198 | T12: =$D$16 -> 2 | U12: =$D$18 -> 197 | V12: =$D$19 -> 6 | W12: =$D$21 -> 54 | X12: =$D$22 -> 29 | Y12: =$H$19 -> 15 | Z12: =$H$36 -> 2 | AA12: =F16 -> 10 | AB12: =G16 -> 0 | AC12: =H16 -> 0 | AD12: =I16 -> 0 | AE12: =F33 -> 10 | AF12: =G33 -> 0 | AG12: =H33 -> 0 | AH12: =I33 -> 0 | AI12: =J33 -> 0 | AJ12: =K33 -> 0
C13: TPCC Batting First | D13: Second | F13: 7 | N13: =$D$5 -> 40705 | O13: =$D$7 -> Invalids | P13: =$D$9 -> Win | Q13: =$D$11 -> Home | R13: =$D$13 -> Second | S13: =$D$15 -> 198 | T13: =$D$16 -> 2 | U13: =$D$18 -> 197 | V13: =$D$19 -> 6 | W13: =$D$21 -> 54 | X13: =$D$22 -> 29 | Y13: =$H$19 -> 15 | Z13: =$H$36 -> 2 | AA13: =F17 -> 11 | AB13: =G17 -> 0 | AC13: =H17 -> 0 | AD13: =I17 -> 0 | AE13: =F34 -> 11 | AF13: =G34 -> 0 | AG13: =H34 -> 0 | AH13: =I34 -> 0 | AI13: =J34 -> 0 | AJ13: =K34 -> 0
F14: 8
C15: TPCC Team Score | D15: =SUM(H7:H17)+H19 -> 198 | F15: 9
C16: TPCC Team Wickets | D16: =SUM(I7:I17) -> 2 | F16: 10
F17: 11
C18: Opposition Team Score | D18: =SUM(K24:K34)+H36 -> 197
C19: Opposition Team Wickets | D19: =SUM(J24:J34) -> 6 | F19: Batting Extras | H19: 15
C21: TPCC Overs Bowled | D21: =SUM(H24:H34) -> 54
C22: Opposition Overs Bowled | D22: 29 | F22: Bowling
F23: Position | G23: Name | H23: Overs | I23: Maidens | J23: Wickets | K23: Runs
F24: 1 | G24: J. Leefe | H24: 7 | I24: 3 | J24: 0 | K24: 18
F25: 2 | G25: T. White | H25: 12 | I25: 2 | J25: 1 | K25: 28
F26: 3 | G26: N. Henry | H26: 10 | I26: 2 | J26: 3 | K26: 34
F27: 4 | G27: T. Wade | H27: 4 | I27: 0 | J27: 0 | K27: 22
F28: 5 | G28: A. Harvey-Thompson | H28: 10 | I28: 1 | J28: 1 | K28: 54
F29: 6 | G29: J. Hunt | H29: 11 | I29: 4 | J29: 1 | K29: 39
F30: 7
F31: 8
F32: 9
F33: 10
F34: 11
F36: Bowling Extras | H36: 2

Sheet Stonor (1)
N2: Date | O2: Opposition | P2: Match Status | Q2: Home/Away | R2: TPCC Batting First | S2: TPCC Team Score | T2: TPCC Team Wickets | U2: Opposition Team Score | V2: Opposition Team Wickets | W2: TPCC Overs Bowled | X2: TPCC Overs Faced | Y2: Batting Extras | Z2: Bowling Extras | AA2: Batsmen Position | AB2: Batsmen Name | AC2: Batsmen Runs | AD2: Batsmen Out | AE2: Bowler Position | AF2: Bowler Name | AG2: Bowler Overs | AH2: Bowler Maidens | AI2: Bowler Wickets | AJ2: Bowler Runs
C3: Match Overview | N3: =$D$5 -> 40706 | O3: =$D$7 -> Stonor (1) | P3: =$D$9 -> Cancelled | Q3: =$D$11 -> Away | R3: =$D$13 -> 0 | S3: =$D$15 -> 0 | T3: =$D$16 -> 0 | U3: =$D$18 -> 0 | V3: =$D$19 -> 0 | W3: =$D$21 -> 0 | X3: =$D$22 -> 0 | Y3: =$H$19 -> 0 | Z3: =$H$36 -> 0 | AA3: =F7 -> 1 | AB3: =G7 -> 0 | AC3: =H7 -> 0 | AD3: =I7 -> 0 | AE3: =F24 -> 1 | AF3: =G24 -> 0 | AG3: =H24 -> 0 | AH3: =I24 -> 0 | AI3: =J24 -> 0 | AJ3: =K24 -> 0
N4: =$D$5 -> 40706 | O4: =$D$7 -> Stonor (1) | P4: =$D$9 -> Cancelled | Q4: =$D$11 -> Away | R4: =$D$13 -> 0 | S4: =$D$15 -> 0 | T4: =$D$16 -> 0 | U4: =$D$18 -> 0 | V4: =$D$19 -> 0 | W4: =$D$21 -> 0 | X4: =$D$22 -> 0 | Y4: =$H$19 -> 0 | Z4: =$H$36 -> 0 | AA4: =F8 -> 2 | AB4: =G8 -> 0 | AC4: =H8 -> 0 | AD4: =I8 -> 0 | AE4: =F25 -> 2 | AF4: =G25 -> 0 | AG4: =H25 -> 0 | AH4: =I25 -> 0 | AI4: =J25 -> 0 | AJ4: =K25 -> 0
C5: Date | D5: 40706 | F5: Batting | N5: =$D$5 -> 40706 | O5: =$D$7 -> Stonor (1) | P5: =$D$9 -> Cancelled | Q5: =$D$11 -> Away | R5: =$D$13 -> 0 | S5: =$D$15 -> 0 | T5: =$D$16 -> 0 | U5: =$D$18 -> 0 | V5: =$D$19 -> 0 | W5: =$D$21 -> 0 | X5: =$D$22 -> 0 | Y5: =$H$19 -> 0 | Z5: =$H$36 -> 0 | AA5: =F9 -> 3 | AB5: =G9 -> 0 | AC5: =H9 -> 0 | AD5: =I9 -> 0 | AE5: =F26 -> 3 | AF5: =G26 -> 0 | AG5: =H26 -> 0 | AH5: =I26 -> 0 | AI5: =J26 -> 0 | AJ5: =K26 -> 0
F6: Position | G6: Name | H6: Runs | I6: Out | N6: =$D$5 -> 40706 | O6: =$D$7 -> Stonor (1) | P6: =$D$9 -> Cancelled | Q6: =$D$11 -> Away | R6: =$D$13 -> 0 | S6: =$D$15 -> 0 | T6: =$D$16 -> 0 | U6: =$D$18 -> 0 | V6: =$D$19 -> 0 | W6: =$D$21 -> 0 | X6: =$D$22 -> 0 | Y6: =$H$19 -> 0 | Z6: =$H$36 -> 0 | AA6: =F10 -> 4 | AB6: =G10 -> 0 | AC6: =H10 -> 0 | AD6: =I10 -> 0 | AE6: =F27 -> 4 | AF6: =G27 -> 0 | AG6: =H27 -> 0 | AH6: =I27 -> 0 | AI6: =J27 -> 0 | AJ6: =K27 -> 0
C7: Opposition | D7: Stonor (1) | F7: 1 | N7: =$D$5 -> 40706 | O7: =$D$7 -> Stonor (1) | P7: =$D$9 -> Cancelled | Q7: =$D$11 -> Away | R7: =$D$13 -> 0 | S7: =$D$15 -> 0 | T7: =$D$16 -> 0 | U7: =$D$18 -> 0 | V7: =$D$19 -> 0 | W7: =$D$21 -> 0 | X7: =$D$22 -> 0 | Y7: =$H$19 -> 0 | Z7: =$H$36 -> 0 | AA7: =F11 -> 5 | AB7: =G11 -> 0 | AC7: =H11 -> 0 | AD7: =I11 -> 0 | AE7: =F28 -> 5 | AF7: =G28 -> 0 | AG7: =H28 -> 0 | AH7: =I28 -> 0 | AI7: =J28 -> 0 | AJ7: =K28 -> 0
F8: 2 | N8: =$D$5 -> 40706 | O8: =$D$7 -> Stonor (1) | P8: =$D$9 -> Cancelled | Q8: =$D$11 -> Away | R8: =$D$13 -> 0 | S8: =$D$15 -> 0 | T8: =$D$16 -> 0 | U8: =$D$18 -> 0 | V8: =$D$19 -> 0 | W8: =$D$21 -> 0 | X8: =$D$22 -> 0 | Y8: =$H$19 -> 0 | Z8: =$H$36 -> 0 | AA8: =F12 -> 6 | AB8: =G12 -> 0 | AC8: =H12 -> 0 | AD8: =I12 -> 0 | AE8: =F29 -> 6 | AF8: =G29 -> 0 | AG8: =H29 -> 0 | AH8: =I29 -> 0 | AI8: =J29 -> 0 | AJ8: =K29 -> 0
C9: Match Status | D9: Cancelled | F9: 3 | N9: =$D$5 -> 40706 | O9: =$D$7 -> Stonor (1) | P9: =$D$9 -> Cancelled | Q9: =$D$11 -> Away | R9: =$D$13 -> 0 | S9: =$D$15 -> 0 | T9: =$D$16 -> 0 | U9: =$D$18 -> 0 | V9: =$D$19 -> 0 | W9: =$D$21 -> 0 | X9: =$D$22 -> 0 | Y9: =$H$19 -> 0 | Z9: =$H$36 -> 0 | AA9: =F13 -> 7 | AB9: =G13 -> 0 | AC9: =H13 -> 0 | AD9: =I13 -> 0 | AE9: =F30 -> 7 | AF9: =G30 -> 0 | AG9: =H30 -> 0 | AH9: =I30 -> 0 | AI9: =J30 -> 0 | AJ9: =K30 -> 0
F10: 4 | N10: =$D$5 -> 40706 | O10: =$D$7 -> Stonor (1) | P10: =$D$9 -> Cancelled | Q10: =$D$11 -> Away | R10: =$D$13 -> 0 | S10: =$D$15 -> 0 | T10: =$D$16 -> 0 | U10: =$D$18 -> 0 | V10: =$D$19 -> 0 | W10: =$D$21 -> 0 | X10: =$D$22 -> 0 | Y10: =$H$19 -> 0 | Z10: =$H$36 -> 0 | AA10: =F14 -> 8 | AB10: =G14 -> 0 | AC10: =H14 -> 0 | AD10: =I14 -> 0 | AE10: =F31 -> 8 | AF10: =G31 -> 0 | AG10: =H31 -> 0 | AH10: =I31 -> 0 | AI10: =J31 -> 0 | AJ10: =K31 -> 0
C11: Home / Away | D11: Away | F11: 5 | N11: =$D$5 -> 40706 | O11: =$D$7 -> Stonor (1) | P11: =$D$9 -> Cancelled | Q11: =$D$11 -> Away | R11: =$D$13 -> 0 | S11: =$D$15 -> 0 | T11: =$D$16 -> 0 | U11: =$D$18 -> 0 | V11: =$D$19 -> 0 | W11: =$D$21 -> 0 | X11: =$D$22 -> 0 | Y11: =$H$19 -> 0 | Z11: =$H$36 -> 0 | AA11: =F15 -> 9 | AB11: =G15 -> 0 | AC11: =H15 -> 0 | AD11: =I15 -> 0 | AE11: =F32 -> 9 | AF11: =G32 -> 0 | AG11: =H32 -> 0 | AH11: =I32 -> 0 | AI11: =J32 -> 0 | AJ11: =K32 -> 0
F12: 6 | N12: =$D$5 -> 40706 | O12: =$D$7 -> Stonor (1) | P12: =$D$9 -> Cancelled | Q12: =$D$11 -> Away | R12: =$D$13 -> 0 | S12: =$D$15 -> 0 | T12: =$D$16 -> 0 | U12: =$D$18 -> 0 | V12: =$D$19 -> 0 | W12: =$D$21 -> 0 | X12: =$D$22 -> 0 | Y12: =$H$19 -> 0 | Z12: =$H$36 -> 0 | AA12: =F16 -> 10 | AB12: =G16 -> 0 | AC12: =H16 -> 0 | AD12: =I16 -> 0 | AE12: =F33 -> 10 | AF12: =G33 -> 0 | AG12: =H33 -> 0 | AH12: =I33 -> 0 | AI12: =J33 -> 0 | AJ12: =K33 -> 0
C13: TPCC Batting First | F13: 7 | N13: =$D$5 -> 40706 | O13: =$D$7 -> Stonor (1) | P13: =$D$9 -> Cancelled | Q13: =$D$11 -> Away | R13: =$D$13 -> 0 | S13: =$D$15 -> 0 | T13: =$D$16 -> 0 | U13: =$D$18 -> 0 | V13: =$D$19 -> 0 | W13: =$D$21 -> 0 | X13: =$D$22 -> 0 | Y13: =$H$19 -> 0 | Z13: =$H$36 -> 0 | AA13: =F17 -> 11 | AB13: =G17 -> 0 | AC13: =H17 -> 0 | AD13: =I17 -> 0 | AE13: =F34 -> 11 | AF13: =G34 -> 0 | AG13: =H34 -> 0 | AH13: =I34 -> 0 | AI13: =J34 -> 0 | AJ13: =K34 -> 0
F14: 8
C15: TPCC Team Score | D15: =SUM(H7:H17)+H19 -> 0 | F15: 9
C16: TPCC Team Wickets | D16: =SUM(I7:I17) -> 0 | F16: 10
F17: 11
C18: Opposition Team Score | D18: =SUM(K24:K34)+H36 -> 0
C19: Opposition Team Wickets | D19: =SUM(J24:J34) -> 0 | F19: Batting Extras
C21: TPCC Overs Bowled | D21: =SUM(H24:H34) -> 0
C22: Opposition Overs Bowled | F22: Bowling
F23: Position | G23: Name | H23: Overs | I23: Maidens | J23: Wickets | K23: Runs
F24: 1
F25: 2
F26: 3
F27: 4
F28: 5
F29: 6
F30: 7
F31: 8
F32: 9
F33: 10
F34: 11
F36: Bowling Extras

Sheet Nettlebed
N2: Date | O2: Opposition | P2: Match Status | Q2: Home/Away | R2: TPCC Batting First | S2: TPCC Team Score | T2: TPCC Team Wickets | U2: Opposition Team Score | V2: Opposition Team Wickets | W2: TPCC Overs Bowled | X2: TPCC Overs Faced | Y2: Batting Extras | Z2: Bowling Extras | AA2: Batsmen Position | AB2: Batsmen Name | AC2: Batsmen Runs | AD2: Batsmen Out | AE2: Bowler Position | AF2: Bowler Name | AG2: Bowler Overs | AH2: Bowler Maidens | AI2: Bowler Wickets | AJ2: Bowler Runs
C3: Match Overview | N3: =$D$5 -> 40711 | O3: =$D$7 -> Nettlebed | P3: =$D$9 -> Cancelled | Q3: =$D$11 -> Home | R3: =$D$13 -> 0 | S3: =$D$15 -> 0 | T3: =$D$16 -> 0 | U3: =$D$18 -> 0 | V3: =$D$19 -> 0 | W3: =$D$21 -> 0 | X3: =$D$22 -> 0 | Y3: =$H$19 -> 0 | Z3: =$H$36 -> 0 | AA3: =F7 -> 1 | AB3: =G7 -> 0 | AC3: =H7 -> 0 | AD3: =I7 -> 0 | AE3: =F24 -> 1 | AF3: =G24 -> 0 | AG3: =H24 -> 0 | AH3: =I24 -> 0 | AI3: =J24 -> 0 | AJ3: =K24 -> 0
N4: =$D$5 -> 40711 | O4: =$D$7 -> Nettlebed | P4: =$D$9 -> Cancelled | Q4: =$D$11 -> Home | R4: =$D$13 -> 0 | S4: =$D$15 -> 0 | T4: =$D$16 -> 0 | U4: =$D$18 -> 0 | V4: =$D$19 -> 0 | W4: =$D$21 -> 0 | X4: =$D$22 -> 0 | Y4: =$H$19 -> 0 | Z4: =$H$36 -> 0 | AA4: =F8 -> 2 | AB4: =G8 -> 0 | AC4: =H8 -> 0 | AD4: =I8 -> 0 | AE4: =F25 -> 2 | AF4: =G25 -> 0 | AG4: =H25 -> 0 | AH4: =I25 -> 0 | AI4: =J25 -> 0 | AJ4: =K25 -> 0
C5: Date | D5: 40711 | F5: Batting | N5: =$D$5 -> 40711 | O5: =$D$7 -> Nettlebed | P5: =$D$9 -> Cancelled | Q5: =$D$11 -> Home | R5: =$D$13 -> 0 | S5: =$D$15 -> 0 | T5: =$D$16 -> 0 | U5: =$D$18 -> 0 | V5: =$D$19 -> 0 | W5: =$D$21 -> 0 | X5: =$D$22 -> 0 | Y5: =$H$19 -> 0 | Z5: =$H$36 -> 0 | AA5: =F9 -> 3 | AB5: =G9 -> 0 | AC5: =H9 -> 0 | AD5: =I9 -> 0 | AE5: =F26 -> 3 | AF5: =G26 -> 0 | AG5: =H26 -> 0 | AH5: =I26 -> 0 | AI5: =J26 -> 0 | AJ5: =K26 -> 0
F6: Position | G6: Name | H6: Runs | I6: Out | N6: =$D$5 -> 40711 | O6: =$D$7 -> Nettlebed | P6: =$D$9 -> Cancelled | Q6: =$D$11 -> Home | R6: =$D$13 -> 0 | S6: =$D$15 -> 0 | T6: =$D$16 -> 0 | U6: =$D$18 -> 0 | V6: =$D$19 -> 0 | W6: =$D$21 -> 0 | X6: =$D$22 -> 0 | Y6: =$H$19 -> 0 | Z6: =$H$36 -> 0 | AA6: =F10 -> 4 | AB6: =G10 -> 0 | AC6: =H10 -> 0 | AD6: =I10 -> 0 | AE6: =F27 -> 4 | AF6: =G27 -> 0 | AG6: =H27 -> 0 | AH6: =I27 -> 0 | AI6: =J27 -> 0 | AJ6: =K27 -> 0
C7: Opposition | D7: Nettlebed | F7: 1 | N7: =$D$5 -> 40711 | O7: =$D$7 -> Nettlebed | P7: =$D$9 -> Cancelled | Q7: =$D$11 -> Home | R7: =$D$13 -> 0 | S7: =$D$15 -> 0 | T7: =$D$16 -> 0 | U7: =$D$18 -> 0 | V7: =$D$19 -> 0 | W7: =$D$21 -> 0 | X7: =$D$22 -> 0 | Y7: =$H$19 -> 0 | Z7: =$H$36 -> 0 | AA7: =F11 -> 5 | AB7: =G11 -> 0 | AC7: =H11 -> 0 | AD7: =I11 -> 0 | AE7: =F28 -> 5 | AF7: =G28 -> 0 | AG7: =H28 -> 0 | AH7: =I28 -> 0 | AI7: =J28 -> 0 | AJ7: =K28 -> 0
F8: 2 | N8: =$D$5 -> 40711 | O8: =$D$7 -> Nettlebed | P8: =$D$9 -> Cancelled | Q8: =$D$11 -> Home | R8: =$D$13 -> 0 | S8: =$D$15 -> 0 | T8: =$D$16 -> 0 | U8: =$D$18 -> 0 | V8: =$D$19 -> 0 | W8: =$D$21 -> 0 | X8: =$D$22 -> 0 | Y8: =$H$19 -> 0 | Z8: =$H$36 -> 0 | AA8: =F12 -> 6 | AB8: =G12 -> 0 | AC8: =H12 -> 0 | AD8: =I12 -> 0 | AE8: =F29 -> 6 | AF8: =G29 -> 0 | AG8: =H29 -> 0 | AH8: =I29 -> 0 | AI8: =J29 -> 0 | AJ8: =K29 -> 0
C9: Match Status | D9: Cancelled | F9: 3 | N9: =$D$5 -> 40711 | O9: =$D$7 -> Nettlebed | P9: =$D$9 -> Cancelled | Q9: =$D$11 -> Home | R9: =$D$13 -> 0 | S9: =$D$15 -> 0 | T9: =$D$16 -> 0 | U9: =$D$18 -> 0 | V9: =$D$19 -> 0 | W9: =$D$21 -> 0 | X9: =$D$22 -> 0 | Y9: =$H$19 -> 0 | Z9: =$H$36 -> 0 | AA9: =F13 -> 7 | AB9: =G13 -> 0 | AC9: =H13 -> 0 | AD9: =I13 -> 0 | AE9: =F30 -> 7 | AF9: =G30 -> 0 | AG9: =H30 -> 0 | AH9: =I30 -> 0 | AI9: =J30 -> 0 | AJ9: =K30 -> 0
F10: 4 | N10: =$D$5 -> 40711 | O10: =$D$7 -> Nettlebed | P10: =$D$9 -> Cancelled | Q10: =$D$11 -> Home | R10: =$D$13 -> 0 | S10: =$D$15 -> 0 | T10: =$D$16 -> 0 | U10: =$D$18 -> 0 | V10: =$D$19 -> 0 | W10: =$D$21 -> 0 | X10: =$D$22 -> 0 | Y10: =$H$19 -> 0 | Z10: =$H$36 -> 0 | AA10: =F14 -> 8 | AB10: =G14 -> 0 | AC10: =H14 -> 0 | AD10: =I14 -> 0 | AE10: =F31 -> 8 | AF10: =G31 -> 0 | AG10: =H31 -> 0 | AH10: =I31 -> 0 | AI10: =J31 -> 0 | AJ10: =K31 -> 0
C11: Home / Away | D11: Home | F11: 5 | N11: =$D$5 -> 40711 | O11: =$D$7 -> Nettlebed | P11: =$D$9 -> Cancelled | Q11: =$D$11 -> Home | R11: =$D$13 -> 0 | S11: =$D$15 -> 0 | T11: =$D$16 -> 0 | U11: =$D$18 -> 0 | V11: =$D$19 -> 0 | W11: =$D$21 -> 0 | X11: =$D$22 -> 0 | Y11: =$H$19 -> 0 | Z11: =$H$36 -> 0 | AA11: =F15 -> 9 | AB11: =G15 -> 0 | AC11: =H15 -> 0 | AD11: =I15 -> 0 | AE11: =F32 -> 9 | AF11: =G32 -> 0 | AG11: =H32 -> 0 | AH11: =I32 -> 0 | AI11: =J32 -> 0 | AJ11: =K32 -> 0
F12: 6 | N12: =$D$5 -> 40711 | O12: =$D$7 -> Nettlebed | P12: =$D$9 -> Cancelled | Q12: =$D$11 -> Home | R12: =$D$13 -> 0 | S12: =$D$15 -> 0 | T12: =$D$16 -> 0 | U12: =$D$18 -> 0 | V12: =$D$19 -> 0 | W12: =$D$21 -> 0 | X12: =$D$22 -> 0 | Y12: =$H$19 -> 0 | Z12: =$H$36 -> 0 | AA12: =F16 -> 10 | AB12: =G16 -> 0 | AC12: =H16 -> 0 | AD12: =I16 -> 0 | AE12: =F33 -> 10 | AF12: =G33 -> 0 | AG12: =H33 -> 0 | AH12: =I33 -> 0 | AI12: =J33 -> 0 | AJ12: =K33 -> 0
C13: TPCC Batting First | F13: 7 | N13: =$D$5 -> 40711 | O13: =$D$7 -> Nettlebed | P13: =$D$9 -> Cancelled | Q13: =$D$11 -> Home | R13: =$D$13 -> 0 | S13: =$D$15 -> 0 | T13: =$D$16 -> 0 | U13: =$D$18 -> 0 | V13: =$D$19 -> 0 | W13: =$D$21 -> 0 | X13: =$D$22 -> 0 | Y13: =$H$19 -> 0 | Z13: =$H$36 -> 0 | AA13: =F17 -> 11 | AB13: =G17 -> 0 | AC13: =H17 -> 0 | AD13: =I17 -> 0 | AE13: =F34 -> 11 | AF13: =G34 -> 0 | AG13: =H34 -> 0 | AH13: =I34 -> 0 | AI13: =J34 -> 0 | AJ13: =K34 -> 0
F14: 8
C15: TPCC Team Score | D15: =SUM(H7:H17)+H19 -> 0 | F15: 9
C16: TPCC Team Wickets | D16: =SUM(I7:I17) -> 0 | F16: 10
F17: 11
C18: Opposition Team Score | D18: =SUM(K24:K34)+H36 -> 0
C19: Opposition Team Wickets | D19: =SUM(J24:J34) -> 0 | F19: Batting Extras
C21: TPCC Overs Bowled | D21: =SUM(H24:H34) -> 0
C22: Opposition Overs Bowled | F22: Bowling
F23: Position | G23: Name | H23: Overs | I23: Maidens | J23: Wickets | K23: Runs
F24: 1
F25: 2
F26: 3
F27: 4
F28: 5
F29: 6
F30: 7
F31: 8
F32: 9
F33: 10
F34: 11
F36: Bowling Extras

Sheet Cuxham
N2: Date | O2: Opposition | P2: Match Status | Q2: Home/Away | R2: TPCC Batting First | S2: TPCC Team Score | T2: TPCC Team Wickets | U2: Opposition Team Score | V2: Opposition Team Wickets | W2: TPCC Overs Bowled | X2: TPCC Overs Faced | Y2: Batting Extras | Z2: Bowling Extras | AA2: Batsmen Position | AB2: Batsmen Name | AC2: Batsmen Runs | AD2: Batsmen Out | AE2: Bowler Position | AF2: Bowler Name | AG2: Bowler Overs | AH2: Bowler Maidens | AI2: Bowler Wickets | AJ2: Bowler Runs
C3: Match Overview | N3: =$D$5 -> 40713 | O3: =$D$7 -> Cuxham | P3: =$D$9 -> Draw | Q3: =$D$11 -> Away | R3: =$D$13 -> First | S3: =$D$15 -> 181 | T3: =$D$16 -> 10 | U3: =$D$18 -> 139 | V3: =$D$19 -> 6 | W3: =$D$21 -> 35 | X3: =$D$22 -> 0 | Y3: =$H$19 -> 8 | Z3: =$H$36 -> 13 | AA3: =F7 -> 1 | AB3: =G7 -> S. Bucknell | AC3: =H7 -> 5 | AD3: =I7 -> 1 | AE3: =F24 -> 1 | AF3: =G24 -> T. White | AG3: =H24 -> 7 | AH3: =I24 -> 1 | AI3: =J24 -> 1 | AJ3: =K24 -> 16
N4: =$D$5 -> 40713 | O4: =$D$7 -> Cuxham | P4: =$D$9 -> Draw | Q4: =$D$11 -> Away | R4: =$D$13 -> First | S4: =$D$15 -> 181 | T4: =$D$16 -> 10 | U4: =$D$18 -> 139 | V4: =$D$19 -> 6 | W4: =$D$21 -> 35 | X4: =$D$22 -> 0 | Y4: =$H$19 -> 8 | Z4: =$H$36 -> 13 | AA4: =F8 -> 2 | AB4: =G8 -> S. Beardall | AC4: =H8 -> 37 | AD4: =I8 -> 1 | AE4: =F25 -> 2 | AF4: =G25 -> D. Stockings | AG4: =H25 -> 7 | AH4: =I25 -> 0 | AI4: =J25 -> 1 | AJ4: =K25 -> 47
C5: Date | D5: 40713 | F5: Batting | N5: =$D$5 -> 40713 | O5: =$D$7 -> Cuxham | P5: =$D$9 -> Draw | Q5: =$D$11 -> Away | R5: =$D$13 -> First | S5: =$D$15 -> 181 | T5: =$D$16 -> 10 | U5: =$D$18 -> 139 | V5: =$D$19 -> 6 | W5: =$D$21 -> 35 | X5: =$D$22 -> 0 | Y5: =$H$19 -> 8 | Z5: =$H$36 -> 13 | AA5: =F9 -> 3 | AB5: =G9 -> T. Wade | AC5: =H9 -> 16 | AD5: =I9 -> 1 | AE5: =F26 -> 3 | AF5: =G26 -> J. Moser | AG5: =H26 -> 6 | AH5: =I26 -> 0 | AI5: =J26 -> 0 | AJ5: =K26 -> 16
F6: Position | G6: Name | H6: Runs | I6: Out | N6: =$D$5 -> 40713 | O6: =$D$7 -> Cuxham | P6: =$D$9 -> Draw | Q6: =$D$11 -> Away | R6: =$D$13 -> First | S6: =$D$15 -> 181 | T6: =$D$16 -> 10 | U6: =$D$18 -> 139 | V6: =$D$19 -> 6 | W6: =$D$21 -> 35 | X6: =$D$22 -> 0 | Y6: =$H$19 -> 8 | Z6: =$H$36 -> 13 | AA6: =F10 -> 4 | AB6: =G10 -> R. Dickie | AC6: =H10 -> 0 | AD6: =I10 -> 1 | AE6: =F27 -> 4 | AF6: =G27 -> J. Hancock | AG6: =H27 -> 7 | AH6: =I27 -> 2 | AI6: =J27 -> 1 | AJ6: =K27 -> 9
C7: Opposition | D7: Cuxham | F7: 1 | G7: S. Bucknell | H7: 5 | I7: 1 | N7: =$D$5 -> 40713 | O7: =$D$7 -> Cuxham | P7: =$D$9 -> Draw | Q7: =$D$11 -> Away | R7: =$D$13 -> First | S7: =$D$15 -> 181 | T7: =$D$16 -> 10 | U7: =$D$18 -> 139 | V7: =$D$19 -> 6 | W7: =$D$21 -> 35 | X7: =$D$22 -> 0 | Y7: =$H$19 -> 8 | Z7: =$H$36 -> 13 | AA7: =F11 -> 5 | AB7: =G11 -> J. Hancock | AC7: =H11 -> 81 | AD7: =I11 -> 1 | AE7: =F28 -> 5 | AF7: =G28 -> B. Bucknell | AG7: =H28 -> 5 | AH7: =I28 -> 0 | AI7: =J28 -> 1 | AJ7: =K28 -> 28
F8: 2 | G8: S. Beardall | H8: 37 | I8: 1 | N8: =$D$5 -> 40713 | O8: =$D$7 -> Cuxham | P8: =$D$9 -> Draw | Q8: =$D$11 -> Away | R8: =$D$13 -> First | S8: =$D$15 -> 181 | T8: =$D$16 -> 10 | U8: =$D$18 -> 139 | V8: =$D$19 -> 6 | W8: =$D$21 -> 35 | X8: =$D$22 -> 0 | Y8: =$H$19 -> 8 | Z8: =$H$36 -> 13 | AA8: =F12 -> 6 | AB8: =G12 -> P. Briffett | AC8: =H12 -> 6 | AD8: =I12 -> 1 | AE8: =F29 -> 6 | AF8: =G29 -> P. Briffett | AG8: =H29 -> 3 | AH8: =I29 -> 1 | AI8: =J29 -> 2 | AJ8: =K29 -> 10
C9: Match Status | D9: Draw | F9: 3 | G9: T. Wade | H9: 16 | I9: 1 | N9: =$D$5 -> 40713 | O9: =$D$7 -> Cuxham | P9: =$D$9 -> Draw | Q9: =$D$11 -> Away | R9: =$D$13 -> First | S9: =$D$15 -> 181 | T9: =$D$16 -> 10 | U9: =$D$18 -> 139 | V9: =$D$19 -> 6 | W9: =$D$21 -> 35 | X9: =$D$22 -> 0 | Y9: =$H$19 -> 8 | Z9: =$H$36 -> 13 | AA9: =F13 -> 7 | AB9: =G13 -> H. Beardall | AC9: =H13 -> 2 | AD9: =I13 -> 1 | AE9: =F30 -> 7 | AF9: =G30 -> 0 | AG9: =H30 -> 0 | AH9: =I30 -> 0 | AI9: =J30 -> 0 | AJ9: =K30 -> 0
F10: 4 | G10: R. Dickie | H10: 0 | I10: 1 | N10: =$D$5 -> 40713 | O10: =$D$7 -> Cuxham | P10: =$D$9 -> Draw | Q10: =$D$11 -> Away | R10: =$D$13 -> First | S10: =$D$15 -> 181 | T10: =$D$16 -> 10 | U10: =$D$18 -> 139 | V10: =$D$19 -> 6 | W10: =$D$21 -> 35 | X10: =$D$22 -> 0 | Y10: =$H$19 -> 8 | Z10: =$H$36 -> 13 | AA10: =F14 -> 8 | AB10: =G14 -> D. Stockings | AC10: =H14 -> 0 | AD10: =I14 -> 1 | AE10: =F31 -> 8 | AF10: =G31 -> 0 | AG10: =H31 -> 0 | AH10: =I31 -> 0 | AI10: =J31 -> 0 | AJ10: =K31 -> 0
C11: Home / Away | D11: Away | F11: 5 | G11: J. Hancock | H11: 81 | I11: 1 | N11: =$D$5 -> 40713 | O11: =$D$7 -> Cuxham | P11: =$D$9 -> Draw | Q11: =$D$11 -> Away | R11: =$D$13 -> First | S11: =$D$15 -> 181 | T11: =$D$16 -> 10 | U11: =$D$18 -> 139 | V11: =$D$19 -> 6 | W11: =$D$21 -> 35 | X11: =$D$22 -> 0 | Y11: =$H$19 -> 8 | Z11: =$H$36 -> 13 | AA11: =F15 -> 9 | AB11: =G15 -> B. Bucknell | AC11: =H15 -> 0 | AD11: =I15 -> 1 | AE11: =F32 -> 9 | AF11: =G32 -> 0 | AG11: =H32 -> 0 | AH11: =I32 -> 0 | AI11: =J32 -> 0 | AJ11: =K32 -> 0
F12: 6 | G12: P. Briffett | H12: 6 | I12: 1 | N12: =$D$5 -> 40713 | O12: =$D$7 -> Cuxham | P12: =$D$9 -> Draw | Q12: =$D$11 -> Away | R12: =$D$13 -> First | S12: =$D$15 -> 181 | T12: =$D$16 -> 10 | U12: =$D$18 -> 139 | V12: =$D$19 -> 6 | W12: =$D$21 -> 35 | X12: =$D$22 -> 0 | Y12: =$H$19 -> 8 | Z12: =$H$36 -> 13 | AA12: =F16 -> 10 | AB12: =G16 -> T. White | AC12: =H16 -> 9 | AD12: =I16 -> 1 | AE12: =F33 -> 10 | AF12: =G33 -> 0 | AG12: =H33 -> 0 | AH12: =I33 -> 0 | AI12: =J33 -> 0 | AJ12: =K33 -> 0
C13: TPCC Batting First | D13: First | F13: 7 | G13: H. Beardall | H13: 2 | I13: 1 | N13: =$D$5 -> 40713 | O13: =$D$7 -> Cuxham | P13: =$D$9 -> Draw | Q13: =$D$11 -> Away | R13: =$D$13 -> First | S13: =$D$15 -> 181 | T13: =$D$16 -> 10 | U13: =$D$18 -> 139 | V13: =$D$19 -> 6 | W13: =$D$21 -> 35 | X13: =$D$22 -> 0 | Y13: =$H$19 -> 8 | Z13: =$H$36 -> 13 | AA13: =F17 -> 11 | AB13: =G17 -> J. Moser | AC13: =H17 -> 17 | AD13: =I17 -> 0 | AE13: =F34 -> 11 | AF13: =G34 -> 0 | AG13: =H34 -> 0 | AH13: =I34 -> 0 | AI13: =J34 -> 0 | AJ13: =K34 -> 0
F14: 8 | G14: D. Stockings | H14: 0 | I14: 1
C15: TPCC Team Score | D15: =SUM(H7:H17)+H19 -> 181 | F15: 9 | G15: B. Bucknell | H15: 0 | I15: 1
C16: TPCC Team Wickets | D16: =SUM(I7:I17) -> 10 | F16: 10 | G16: T. White | H16: 9 | I16: 1
F17: 11 | G17: J. Moser | H17: 17 | I17: 0
C18: Opposition Team Score | D18: =SUM(K24:K34)+H36 -> 139
C19: Opposition Team Wickets | D19: =SUM(J24:J34) -> 6 | F19: Batting Extras | H19: 8
C21: TPCC Overs Bowled | D21: =SUM(H24:H34) -> 35
C22: Opposition Overs Bowled | F22: Bowling
F23: Position | G23: Name | H23: Overs | I23: Maidens | J23: Wickets | K23: Runs
F24: 1 | G24: T. White | H24: 7 | I24: 1 | J24: 1 | K24: 16
F25: 2 | G25: D. Stockings | H25: 7 | I25: 0 | J25: 1 | K25: 47
F26: 3 | G26: J. Moser | H26: 6 | I26: 0 | J26: 0 | K26: 16
F27: 4 | G27: J. Hancock | H27: 7 | I27: 2 | J27: 1 | K27: 9
F28: 5 | G28: B. Bucknell | H28: 5 | I28: 0 | J28: 1 | K28: 28
F29: 6 | G29: P. Briffett | H29: 3 | I29: 1 | J29: 2 | K29: 10
F30: 7
F31: 8
F32: 9
F33: 10
F34: 11
F36: Bowling Extras | H36: 13

Sheet Optomists
N2: Date | O2: Opposition | P2: Match Status | Q2: Home/Away | R2: TPCC Batting First | S2: TPCC Team Score | T2: TPCC Team Wickets | U2: Opposition Team Score | V2: Opposition Team Wickets | W2: TPCC Overs Bowled | X2: TPCC Overs Faced | Y2: Batting Extras | Z2: Bowling Extras | AA2: Batsmen Position | AB2: Batsmen Name | AC2: Batsmen Runs | AD2: Batsmen Out | AE2: Bowler Position | AF2: Bowler Name | AG2: Bowler Overs | AH2: Bowler Maidens | AI2: Bowler Wickets | AJ2: Bowler Runs
C3: Match Overview | N3: =$D$5 -> 40719 | O3: =$D$7 -> Optimists | P3: =$D$9 -> Win | Q3: =$D$11 -> Tour | R3: =$D$13 -> Second | S3: =$D$15 -> 128 | T3: =$D$16 -> 2 | U3: =$D$18 -> 124 | V3: =$D$19 -> 10 | W3: =$D$21 -> 37 | X3: =$D$22 -> 29 | Y3: =$H$19 -> 21 | Z3: =$H$36 -> 11 | AA3: =F7 -> 1 | AB3: =G7 -> B. Bazell | AC3: =H7 -> 24 | AD3: =I7 -> 0 | AE3: =F24 -> 1 | AF3: =G24 -> T. White | AG3: =H24 -> 10 | AH3: =I24 -> 0 | AI3: =J24 -> 0 | AJ3: =K24 -> 31
N4: =$D$5 -> 40719 | O4: =$D$7 -> Optimists | P4: =$D$9 -> Win | Q4: =$D$11 -> Tour | R4: =$D$13 -> Second | S4: =$D$15 -> 128 | T4: =$D$16 -> 2 | U4: =$D$18 -> 124 | V4: =$D$19 -> 10 | W4: =$D$21 -> 37 | X4: =$D$22 -> 29 | Y4: =$H$19 -> 21 | Z4: =$H$36 -> 11 | AA4: =F8 -> 2 | AB4: =G8 -> J. Moberly | AC4: =H8 -> 9 | AD4: =I8 -> 1 | AE4: =F25 -> 2 | AF4: =G25 -> T. Farley | AG4: =H25 -> 5 | AH4: =I25 -> 2 | AI4: =J25 -> 1 | AJ4: =K25 -> 10
C5: Date | D5: 40719 | F5: Batting | N5: =$D$5 -> 40719 | O5: =$D$7 -> Optimists | P5: =$D$9 -> Win | Q5: =$D$11 -> Tour | R5: =$D$13 -> Second | S5: =$D$15 -> 128 | T5: =$D$16 -> 2 | U5: =$D$18 -> 124 | V5: =$D$19 -> 10 | W5: =$D$21 -> 37 | X5: =$D$22 -> 29 | Y5: =$H$19 -> 21 | Z5: =$H$36 -> 11 | AA5: =F9 -> 3 | AB5: =G9 -> H. Beardall | AC5: =H9 -> 31 | AD5: =I9 -> 0 | AE5: =F26 -> 3 | AF5: =G26 -> T. Wade | AG5: =H26 -> 3 | AH5: =I26 -> 0 | AI5: =J26 -> 2 | AJ5: =K26 -> 9
F6: Position | G6: Name | H6: Runs | I6: Out | N6: =$D$5 -> 40719 | O6: =$D$7 -> Optimists | P6: =$D$9 -> Win | Q6: =$D$11 -> Tour | R6: =$D$13 -> Second | S6: =$D$15 -> 128 | T6: =$D$16 -> 2 | U6: =$D$18 -> 124 | V6: =$D$19 -> 10 | W6: =$D$21 -> 37 | X6: =$D$22 -> 29 | Y6: =$H$19 -> 21 | Z6: =$H$36 -> 11 | AA6: =F10 -> 4 | AB6: =G10 -> T. Wade | AC6: =H10 -> 35 | AD6: =I10 -> 1 | AE6: =F27 -> 4 | AF6: =G27 -> S. Halfhead | AG6: =H27 -> 5 | AH6: =I27 -> 0 | AI6: =J27 -> 1 | AJ6: =K27 -> 14
C7: Opposition | D7: Optimists | F7: 1 | G7: B. Bazell | H7: 24 | I7: 0 | N7: =$D$5 -> 40719 | O7: =$D$7 -> Optimists | P7: =$D$9 -> Win | Q7: =$D$11 -> Tour | R7: =$D$13 -> Second | S7: =$D$15 -> 128 | T7: =$D$16 -> 2 | U7: =$D$18 -> 124 | V7: =$D$19 -> 10 | W7: =$D$21 -> 37 | X7: =$D$22 -> 29 | Y7: =$H$19 -> 21 | Z7: =$H$36 -> 11 | AA7: =F11 -> 5 | AB7: =G11 -> T. Fost | AC7: =H11 -> 8 | AD7: =I11 -> 0 | AE7: =F28 -> 5 | AF7: =G28 -> P. Briffett | AG7: =H28 -> 7 | AH7: =I28 -> 0 | AI7: =J28 -> 2 | AJ7: =K28 -> 33
F8: 2 | G8: J. Moberly | H8: 9 | I8: 1 | N8: =$D$5 -> 40719 | O8: =$D$7 -> Optimists | P8: =$D$9 -> Win | Q8: =$D$11 -> Tour | R8: =$D$13 -> Second | S8: =$D$15 -> 128 | T8: =$D$16 -> 2 | U8: =$D$18 -> 124 | V8: =$D$19 -> 10 | W8: =$D$21 -> 37 | X8: =$D$22 -> 29 | Y8: =$H$19 -> 21 | Z8: =$H$36 -> 11 | AA8: =F12 -> 6 | AB8: =G12 -> 0 | AC8: =H12 -> 0 | AD8: =I12 -> 0 | AE8: =F29 -> 6 | AF8: =G29 -> T. Foot | AG8: =H29 -> 4 | AH8: =I29 -> 2 | AI8: =J29 -> 2 | AJ8: =K29 -> 8
C9: Match Status | D9: Win | F9: 3 | G9: H. Beardall | H9: 31 | I9: 0 | N9: =$D$5 -> 40719 | O9: =$D$7 -> Optimists | P9: =$D$9 -> Win | Q9: =$D$11 -> Tour | R9: =$D$13 -> Second | S9: =$D$15 -> 128 | T9: =$D$16 -> 2 | U9: =$D$18 -> 124 | V9: =$D$19 -> 10 | W9: =$D$21 -> 37 | X9: =$D$22 -> 29 | Y9: =$H$19 -> 21 | Z9: =$H$36 -> 11 | AA9: =F13 -> 7 | AB9: =G13 -> 0 | AC9: =H13 -> 0 | AD9: =I13 -> 0 | AE9: =F30 -> 7 | AF9: =G30 -> H. Beardall | AG9: =H30 -> 2 | AH9: =I30 -> 0 | AI9: =J30 -> 1 | AJ9: =K30 -> 5
F10: 4 | G10: T. Wade | H10: 35 | I10: 1 | N10: =$D$5 -> 40719 | O10: =$D$7 -> Optimists | P10: =$D$9 -> Win | Q10: =$D$11 -> Tour | R10: =$D$13 -> Second | S10: =$D$15 -> 128 | T10: =$D$16 -> 2 | U10: =$D$18 -> 124 | V10: =$D$19 -> 10 | W10: =$D$21 -> 37 | X10: =$D$22 -> 29 | Y10: =$H$19 -> 21 | Z10: =$H$36 -> 11 | AA10: =F14 -> 8 | AB10: =G14 -> 0 | AC10: =H14 -> 0 | AD10: =I14 -> 0 | AE10: =F31 -> 8 | AF10: =G31 -> B. Bazell | AG10: =H31 -> 1 | AH10: =I31 -> 0 | AI10: =J31 -> 1 | AJ10: =K31 -> 3
C11: Home / Away | D11: Tour | F11: 5 | G11: T. Fost | H11: 8 | I11: 0 | N11: =$D$5 -> 40719 | O11: =$D$7 -> Optimists | P11: =$D$9 -> Win | Q11: =$D$11 -> Tour | R11: =$D$13 -> Second | S11: =$D$15 -> 128 | T11: =$D$16 -> 2 | U11: =$D$18 -> 124 | V11: =$D$19 -> 10 | W11: =$D$21 -> 37 | X11: =$D$22 -> 29 | Y11: =$H$19 -> 21 | Z11: =$H$36 -> 11 | AA11: =F15 -> 9 | AB11: =G15 -> 0 | AC11: =H15 -> 0 | AD11: =I15 -> 0 | AE11: =F32 -> 9 | AF11: =G32 -> 0 | AG11: =H32 -> 0 | AH11: =I32 -> 0 | AI11: =J32 -> 0 | AJ11: =K32 -> 0
F12: 6 | N12: =$D$5 -> 40719 | O12: =$D$7 -> Optimists | P12: =$D$9 -> Win | Q12: =$D$11 -> Tour | R12: =$D$13 -> Second | S12: =$D$15 -> 128 | T12: =$D$16 -> 2 | U12: =$D$18 -> 124 | V12: =$D$19 -> 10 | W12: =$D$21 -> 37 | X12: =$D$22 -> 29 | Y12: =$H$19 -> 21 | Z12: =$H$36 -> 11 | AA12: =F16 -> 10 | AB12: =G16 -> 0 | AC12: =H16 -> 0 | AD12: =I16 -> 0 | AE12: =F33 -> 10 | AF12: =G33 -> 0 | AG12: =H33 -> 0 | AH12: =I33 -> 0 | AI12: =J33 -> 0 | AJ12: =K33 -> 0
C13: TPCC Batting First | D13: Second | F13: 7 | N13: =$D$5 -> 40719 | O13: =$D$7 -> Optimists | P13: =$D$9 -> Win | Q13: =$D$11 -> Tour | R13: =$D$13 -> Second | S13: =$D$15 -> 128 | T13: =$D$16 -> 2 | U13: =$D$18 -> 124 | V13: =$D$19 -> 10 | W13: =$D$21 -> 37 | X13: =$D$22 -> 29 | Y13: =$H$19 -> 21 | Z13: =$H$36 -> 11 | AA13: =F17 -> 11 | AB13: =G17 -> 0 | AC13: =H17 -> 0 | AD13: =I17 -> 0 | AE13: =F34 -> 11 | AF13: =G34 -> 0 | AG13: =H34 -> 0 | AH13: =I34 -> 0 | AI13: =J34 -> 0 | AJ13: =K34 -> 0
F14: 8
C15: TPCC Team Score | D15: =SUM(H7:H17)+H19 -> 128 | F15: 9
C16: TPCC Team Wickets | D16: =SUM(I7:I17) -> 2 | F16: 10
F17: 11
C18: Opposition Team Score | D18: =SUM(K24:K34)+H36 -> 124
C19: Opposition Team Wickets | D19: =SUM(J24:J34) -> 10 | F19: Batting Extras | H19: 21
C21: TPCC Overs Bowled | D21: =SUM(H24:H34) -> 37
C22: Opposition Overs Bowled | D22: 29 | F22: Bowling
F23: Position | G23: Name | H23: Overs | I23: Maidens | J23: Wickets | K23: Runs
F24: 1 | G24: T. White | H24: 10 | I24: 0 | J24: 0 | K24: 31
F25: 2 | G25: T. Farley | H25: 5 | I25: 2 | J25: 1 | K25: 10
F26: 3 | G26: T. Wade | H26: 3 | I26: 0 | J26: 2 | K26: 9
F27: 4 | G27: S. Halfhead | H27: 5 | I27: 0 | J27: 1 | K27: 14
F28: 5 | G28: P. Briffett | H28: 7 | I28: 0 | J28: 2 | K28: 33
F29: 6 | G29: T. Foot | H29: 4 | I29: 2 | J29: 2 | K29: 8
F30: 7 | G30: H. Beardall | H30: 2 | I30: 0 | J30: 1 | K30: 5
F31: 8 | G31: B. Bazell | H31: 1 | I31: 0 | J31: 1 | K31: 3
F32: 9
F33: 10
F34: 11
F36: Bowling Extras | H36: 11

Sheet Luxembourg
N2: Date | O2: Opposition | P2: Match Status | Q2: Home/Away | R2: TPCC Batting First | S2: TPCC Team Score | T2: TPCC Team Wickets | U2: Opposition Team Score | V2: Opposition Team Wickets | W2: TPCC Overs Bowled | X2: TPCC Overs Faced | Y2: Batting Extras | Z2: Bowling Extras | AA2: Batsmen Position | AB2: Batsmen Name | AC2: Batsmen Runs | AD2: Batsmen Out | AE2: Bowler Position | AF2: Bowler Name | AG2: Bowler Overs | AH2: Bowler Maidens | AI2: Bowler Wickets | AJ2: Bowler Runs
C3: Match Overview | N3: =$D$5 -> 40720 | O3: =$D$7 -> Luxembourg | P3: =$D$9 -> Loss | Q3: =$D$11 -> Tour | R3: =$D$13 -> Second | S3: =$D$15 -> 209 | T3: =$D$16 -> 6 | U3: =$D$18 -> 217 | V3: =$D$19 -> 9 | W3: =$D$21 -> 40 | X3: =$D$22 -> 40 | Y3: =$H$19 -> 21 | Z3: =$H$36 -> 10 | AA3: =F7 -> 1 | AB3: =G7 -> C. Simon | AC3: =H7 -> 32 | AD3: =I7 -> 1 | AE3: =F24 -> 1 | AF3: =G24 -> J. Hunt | AG3: =H24 -> 9 | AH3: =I24 -> 0 | AI3: =J24 -> 2 | AJ3: =K24 -> 34
N4: =$D$5 -> 40720 | O4: =$D$7 -> Luxembourg | P4: =$D$9 -> Loss | Q4: =$D$11 -> Tour | R4: =$D$13 -> Second | S4: =$D$15 -> 209 | T4: =$D$16 -> 6 | U4: =$D$18 -> 217 | V4: =$D$19 -> 9 | W4: =$D$21 -> 40 | X4: =$D$22 -> 40 | Y4: =$H$19 -> 21 | Z4: =$H$36 -> 10 | AA4: =F8 -> 2 | AB4: =G8 -> H. Beardall | AC4: =H8 -> 12 | AD4: =I8 -> 1 | AE4: =F25 -> 2 | AF4: =G25 -> T. White | AG4: =H25 -> 10 | AH4: =I25 -> 0 | AI4: =J25 -> 4 | AJ4: =K25 -> 28
C5: Date | D5: 40720 | F5: Batting | N5: =$D$5 -> 40720 | O5: =$D$7 -> Luxembourg | P5: =$D$9 -> Loss | Q5: =$D$11 -> Tour | R5: =$D$13 -> Second | S5: =$D$15 -> 209 | T5: =$D$16 -> 6 | U5: =$D$18 -> 217 | V5: =$D$19 -> 9 | W5: =$D$21 -> 40 | X5: =$D$22 -> 40 | Y5: =$H$19 -> 21 | Z5: =$H$36 -> 10 | AA5: =F9 -> 3 | AB5: =G9 -> J. Hunt | AC5: =H9 -> 79 | AD5: =I9 -> 1 | AE5: =F26 -> 3 | AF5: =G26 -> T. Farley | AG5: =H26 -> 8 | AH5: =I26 -> 0 | AI5: =J26 -> 2 | AJ5: =K26 -> 35
F6: Position | G6: Name | H6: Runs | I6: Out | N6: =$D$5 -> 40720 | O6: =$D$7 -> Luxembourg | P6: =$D$9 -> Loss | Q6: =$D$11 -> Tour | R6: =$D$13 -> Second | S6: =$D$15 -> 209 | T6: =$D$16 -> 6 | U6: =$D$18 -> 217 | V6: =$D$19 -> 9 | W6: =$D$21 -> 40 | X6: =$D$22 -> 40 | Y6: =$H$19 -> 21 | Z6: =$H$36 -> 10 | AA6: =F10 -> 4 | AB6: =G10 -> T. Wade | AC6: =H10 -> 4 | AD6: =I10 -> 1 | AE6: =F27 -> 4 | AF6: =G27 -> T. Wade | AG6: =H27 -> 4 | AH6: =I27 -> 0 | AI6: =J27 -> 0 | AJ6: =K27 -> 25
C7: Opposition | D7: Luxembourg | F7: 1 | G7: C. Simon | H7: 32 | I7: 1 | N7: =$D$5 -> 40720 | O7: =$D$7 -> Luxembourg | P7: =$D$9 -> Loss | Q7: =$D$11 -> Tour | R7: =$D$13 -> Second | S7: =$D$15 -> 209 | T7: =$D$16 -> 6 | U7: =$D$18 -> 217 | V7: =$D$19 -> 9 | W7: =$D$21 -> 40 | X7: =$D$22 -> 40 | Y7: =$H$19 -> 21 | Z7: =$H$36 -> 10 | AA7: =F11 -> 5 | AB7: =G11 -> J. Moberly | AC7: =H11 -> 0 | AD7: =I11 -> 1 | AE7: =F28 -> 5 | AF7: =G28 -> S. Halfhead | AG7: =H28 -> 3 | AH7: =I28 -> 0 | AI7: =J28 -> 0 | AJ7: =K28 -> 42
F8: 2 | G8: H. Beardall | H8: 12 | I8: 1 | N8: =$D$5 -> 40720 | O8: =$D$7 -> Luxembourg | P8: =$D$9 -> Loss | Q8: =$D$11 -> Tour | R8: =$D$13 -> Second | S8: =$D$15 -> 209 | T8: =$D$16 -> 6 | U8: =$D$18 -> 217 | V8: =$D$19 -> 9 | W8: =$D$21 -> 40 | X8: =$D$22 -> 40 | Y8: =$H$19 -> 21 | Z8: =$H$36 -> 10 | AA8: =F12 -> 6 | AB8: =G12 -> T. Foot | AC8: =H12 -> 12 | AD8: =I12 -> 1 | AE8: =F29 -> 6 | AF8: =G29 -> P. Briffett | AG8: =H29 -> 3 | AH8: =I29 -> 0 | AI8: =J29 -> 1 | AJ8: =K29 -> 23
C9: Match Status | D9: Loss | F9: 3 | G9: J. Hunt | H9: 79 | I9: 1 | N9: =$D$5 -> 40720 | O9: =$D$7 -> Luxembourg | P9: =$D$9 -> Loss | Q9: =$D$11 -> Tour | R9: =$D$13 -> Second | S9: =$D$15 -> 209 | T9: =$D$16 -> 6 | U9: =$D$18 -> 217 | V9: =$D$19 -> 9 | W9: =$D$21 -> 40 | X9: =$D$22 -> 40 | Y9: =$H$19 -> 21 | Z9: =$H$36 -> 10 | AA9: =F13 -> 7 | AB9: =G13 -> P. Briffett | AC9: =H13 -> 30 | AD9: =I13 -> 0 | AE9: =F30 -> 7 | AF9: =G30 -> H. Beardall | AG9: =H30 -> 3 | AH9: =I30 -> 0 | AI9: =J30 -> 0 | AJ9: =K30 -> 20
F10: 4 | G10: T. Wade | H10: 4 | I10: 1 | N10: =$D$5 -> 40720 | O10: =$D$7 -> Luxembourg | P10: =$D$9 -> Loss | Q10: =$D$11 -> Tour | R10: =$D$13 -> Second | S10: =$D$15 -> 209 | T10: =$D$16 -> 6 | U10: =$D$18 -> 217 | V10: =$D$19 -> 9 | W10: =$D$21 -> 40 | X10: =$D$22 -> 40 | Y10: =$H$19 -> 21 | Z10: =$H$36 -> 10 | AA10: =F14 -> 8 | AB10: =G14 -> T. Farley | AC10: =H14 -> 19 | AD10: =I14 -> 0 | AE10: =F31 -> 8 | AF10: =G31 -> 0 | AG10: =H31 -> 0 | AH10: =I31 -> 0 | AI10: =J31 -> 0 | AJ10: =K31 -> 0
C11: Home / Away | D11: Tour | F11: 5 | G11: J. Moberly | H11: 0 | I11: 1 | N11: =$D$5 -> 40720 | O11: =$D$7 -> Luxembourg | P11: =$D$9 -> Loss | Q11: =$D$11 -> Tour | R11: =$D$13 -> Second | S11: =$D$15 -> 209 | T11: =$D$16 -> 6 | U11: =$D$18 -> 217 | V11: =$D$19 -> 9 | W11: =$D$21 -> 40 | X11: =$D$22 -> 40 | Y11: =$H$19 -> 21 | Z11: =$H$36 -> 10 | AA11: =F15 -> 9 | AB11: =G15 -> 0 | AC11: =H15 -> 0 | AD11: =I15 -> 0 | AE11: =F32 -> 9 | AF11: =G32 -> 0 | AG11: =H32 -> 0 | AH11: =I32 -> 0 | AI11: =J32 -> 0 | AJ11: =K32 -> 0
F12: 6 | G12: T. Foot | H12: 12 | I12: 1 | N12: =$D$5 -> 40720 | O12: =$D$7 -> Luxembourg | P12: =$D$9 -> Loss | Q12: =$D$11 -> Tour | R12: =$D$13 -> Second | S12: =$D$15 -> 209 | T12: =$D$16 -> 6 | U12: =$D$18 -> 217 | V12: =$D$19 -> 9 | W12: =$D$21 -> 40 | X12: =$D$22 -> 40 | Y12: =$H$19 -> 21 | Z12: =$H$36 -> 10 | AA12: =F16 -> 10 | AB12: =G16 -> 0 | AC12: =H16 -> 0 | AD12: =I16 -> 0 | AE12: =F33 -> 10 | AF12: =G33 -> 0 | AG12: =H33 -> 0 | AH12: =I33 -> 0 | AI12: =J33 -> 0 | AJ12: =K33 -> 0
C13: TPCC Batting First | D13: Second | F13: 7 | G13: P. Briffett | H13: 30 | I13: 0 | N13: =$D$5 -> 40720 | O13: =$D$7 -> Luxembourg | P13: =$D$9 -> Loss | Q13: =$D$11 -> Tour | R13: =$D$13 -> Second | S13: =$D$15 -> 209 | T13: =$D$16 -> 6 | U13: =$D$18 -> 217 | V13: =$D$19 -> 9 | W13: =$D$21 -> 40 | X13: =$D$22 -> 40 | Y13: =$H$19 -> 21 | Z13: =$H$36 -> 10 | AA13: =F17 -> 11 | AB13: =G17 -> 0 | AC13: =H17 -> 0 | AD13: =I17 -> 0 | AE13: =F34 -> 11 | AF13: =G34 -> 0 | AG13: =H34 -> 0 | AH13: =I34 -> 0 | AI13: =J34 -> 0 | AJ13: =K34 -> 0
F14: 8 | G14: T. Farley | H14: 19 | I14: 0
C15: TPCC Team Score | D15: =SUM(H7:H17)+H19 -> 209 | F15: 9
C16: TPCC Team Wickets | D16: =SUM(I7:I17) -> 6 | F16: 10
F17: 11
C18: Opposition Team Score | D18: =SUM(K24:K34)+H36 -> 217
C19: Opposition Team Wickets | D19: =SUM(J24:J34) -> 9 | F19: Batting Extras | H19: 21
C21: TPCC Overs Bowled | D21: =SUM(H24:H34) -> 40
C22: Opposition Overs Bowled | D22: 40 | F22: Bowling
F23: Position | G23: Name | H23: Overs | I23: Maidens | J23: Wickets | K23: Runs
F24: 1 | G24: J. Hunt | H24: 9 | I24: 0 | J24: 2 | K24: 34
F25: 2 | G25: T. White | H25: 10 | I25: 0 | J25: 4 | K25: 28
F26: 3 | G26: T. Farley | H26: 8 | I26: 0 | J26: 2 | K26: 35
F27: 4 | G27: T. Wade | H27: 4 | I27: 0 | J27: 0 | K27: 25
F28: 5 | G28: S. Halfhead | H28: 3 | I28: 0 | J28: 0 | K28: 42
F29: 6 | G29: P. Briffett | H29: 3 | I29: 0 | J29: 1 | K29: 23
F30: 7 | G30: H. Beardall | H30: 3 | I30: 0 | J30: 0 | K30: 20
F31: 8
F32: 9
F33: 10
F34: 11
F36: Bowling Extras | H36: 10

Sheet Woodcote
N2: Date | O2: Opposition | P2: Match Status | Q2: Home/Away | R2: TPCC Batting First | S2: TPCC Team Score | T2: TPCC Team Wickets | U2: Opposition Team Score | V2: Opposition Team Wickets | W2: TPCC Overs Bowled | X2: TPCC Overs Faced | Y2: Batting Extras | Z2: Bowling Extras | AA2: Batsmen Position | AB2: Batsmen Name | AC2: Batsmen Runs | AD2: Batsmen Out | AE2: Bowler Position | AF2: Bowler Name | AG2: Bowler Overs | AH2: Bowler Maidens | AI2: Bowler Wickets | AJ2: Bowler Runs
C3: Match Overview | N3: =$D$5 -> 40725 | O3: =$D$7 -> Woodcote | P3: =$D$9 -> Cancelled | Q3: =$D$11 -> Home | R3: =$D$13 -> 0 | S3: =$D$15 -> 0 | T3: =$D$16 -> 0 | U3: =$D$18 -> 0 | V3: =$D$19 -> 0 | W3: =$D$21 -> 0 | X3: =$D$22 -> 0 | Y3: =$H$19 -> 0 | Z3: =$H$36 -> 0 | AA3: =F7 -> 1 | AB3: =G7 -> 0 | AC3: =H7 -> 0 | AD3: =I7 -> 0 | AE3: =F24 -> 1 | AF3: =G24 -> 0 | AG3: =H24 -> 0 | AH3: =I24 -> 0 | AI3: =J24 -> 0 | AJ3: =K24 -> 0
N4: =$D$5 -> 40725 | O4: =$D$7 -> Woodcote | P4: =$D$9 -> Cancelled | Q4: =$D$11 -> Home | R4: =$D$13 -> 0 | S4: =$D$15 -> 0 | T4: =$D$16 -> 0 | U4: =$D$18 -> 0 | V4: =$D$19 -> 0 | W4: =$D$21 -> 0 | X4: =$D$22 -> 0 | Y4: =$H$19 -> 0 | Z4: =$H$36 -> 0 | AA4: =F8 -> 2 | AB4: =G8 -> 0 | AC4: =H8 -> 0 | AD4: =I8 -> 0 | AE4: =F25 -> 2 | AF4: =G25 -> 0 | AG4: =H25 -> 0 | AH4: =I25 -> 0 | AI4: =J25 -> 0 | AJ4: =K25 -> 0
C5: Date | D5: 40725 | F5: Batting | N5: =$D$5 -> 40725 | O5: =$D$7 -> Woodcote | P5: =$D$9 -> Cancelled | Q5: =$D$11 -> Home | R5: =$D$13 -> 0 | S5: =$D$15 -> 0 | T5: =$D$16 -> 0 | U5: =$D$18 -> 0 | V5: =$D$19 -> 0 | W5: =$D$21 -> 0 | X5: =$D$22 -> 0 | Y5: =$H$19 -> 0 | Z5: =$H$36 -> 0 | AA5: =F9 -> 3 | AB5: =G9 -> 0 | AC5: =H9 -> 0 | AD5: =I9 -> 0 | AE5: =F26 -> 3 | AF5: =G26 -> 0 | AG5: =H26 -> 0 | AH5: =I26 -> 0 | AI5: =J26 -> 0 | AJ5: =K26 -> 0
F6: Position | G6: Name | H6: Runs | I6: Out | N6: =$D$5 -> 40725 | O6: =$D$7 -> Woodcote | P6: =$D$9 -> Cancelled | Q6: =$D$11 -> Home | R6: =$D$13 -> 0 | S6: =$D$15 -> 0 | T6: =$D$16 -> 0 | U6: =$D$18 -> 0 | V6: =$D$19 -> 0 | W6: =$D$21 -> 0 | X6: =$D$22 -> 0 | Y6: =$H$19 -> 0 | Z6: =$H$36 -> 0 | AA6: =F10 -> 4 | AB6: =G10 -> 0 | AC6: =H10 -> 0 | AD6: =I10 -> 0 | AE6: =F27 -> 4 | AF6: =G27 -> 0 | AG6: =H27 -> 0 | AH6: =I27 -> 0 | AI6: =J27 -> 0 | AJ6: =K27 -> 0
C7: Opposition | D7: Woodcote | F7: 1 | N7: =$D$5 -> 40725 | O7: =$D$7 -> Woodcote | P7: =$D$9 -> Cancelled | Q7: =$D$11 -> Home | R7: =$D$13 -> 0 | S7: =$D$15 -> 0 | T7: =$D$16 -> 0 | U7: =$D$18 -> 0 | V7: =$D$19 -> 0 | W7: =$D$21 -> 0 | X7: =$D$22 -> 0 | Y7: =$H$19 -> 0 | Z7: =$H$36 -> 0 | AA7: =F11 -> 5 | AB7: =G11 -> 0 | AC7: =H11 -> 0 | AD7: =I11 -> 0 | AE7: =F28 -> 5 | AF7: =G28 -> 0 | AG7: =H28 -> 0 | AH7: =I28 -> 0 | AI7: =J28 -> 0 | AJ7: =K28 -> 0
F8: 2 | N8: =$D$5 -> 40725 | O8: =$D$7 -> Woodcote | P8: =$D$9 -> Cancelled | Q8: =$D$11 -> Home | R8: =$D$13 -> 0 | S8: =$D$15 -> 0 | T8: =$D$16 -> 0 | U8: =$D$18 -> 0 | V8: =$D$19 -> 0 | W8: =$D$21 -> 0 | X8: =$D$22 -> 0 | Y8: =$H$19 -> 0 | Z8: =$H$36 -> 0 | AA8: =F12 -> 6 | AB8: =G12 -> 0 | AC8: =H12 -> 0 | AD8: =I12 -> 0 | AE8: =F29 -> 6 | AF8: =G29 -> 0 | AG8: =H29 -> 0 | AH8: =I29 -> 0 | AI8: =J29 -> 0 | AJ8: =K29 -> 0
C9: Match Status | D9: Cancelled | F9: 3 | N9: =$D$5 -> 40725 | O9: =$D$7 -> Woodcote | P9: =$D$9 -> Cancelled | Q9: =$D$11 -> Home | R9: =$D$13 -> 0 | S9: =$D$15 -> 0 | T9: =$D$16 -> 0 | U9: =$D$18 -> 0 | V9: =$D$19 -> 0 | W9: =$D$21 -> 0 | X9: =$D$22 -> 0 | Y9: =$H$19 -> 0 | Z9: =$H$36 -> 0 | AA9: =F13 -> 7 | AB9: =G13 -> 0 | AC9: =H13 -> 0 | AD9: =I13 -> 0 | AE9: =F30 -> 7 | AF9: =G30 -> 0 | AG9: =H30 -> 0 | AH9: =I30 -> 0 | AI9: =J30 -> 0 | AJ9: =K30 -> 0
F10: 4 | N10: =$D$5 -> 40725 | O10: =$D$7 -> Woodcote | P10: =$D$9 -> Cancelled | Q10: =$D$11 -> Home | R10: =$D$13 -> 0 | S10: =$D$15 -> 0 | T10: =$D$16 -> 0 | U10: =$D$18 -> 0 | V10: =$D$19 -> 0 | W10: =$D$21 -> 0 | X10: =$D$22 -> 0 | Y10: =$H$19 -> 0 | Z10: =$H$36 -> 0 | AA10: =F14 -> 8 | AB10: =G14 -> 0 | AC10: =H14 -> 0 | AD10: =I14 -> 0 | AE10: =F31 -> 8 | AF10: =G31 -> 0 | AG10: =H31 -> 0 | AH10: =I31 -> 0 | AI10: =J31 -> 0 | AJ10: =K31 -> 0
C11: Home / Away | D11: Home | F11: 5 | N11: =$D$5 -> 40725 | O11: =$D$7 -> Woodcote | P11: =$D$9 -> Cancelled | Q11: =$D$11 -> Home | R11: =$D$13 -> 0 | S11: =$D$15 -> 0 | T11: =$D$16 -> 0 | U11: =$D$18 -> 0 | V11: =$D$19 -> 0 | W11: =$D$21 -> 0 | X11: =$D$22 -> 0 | Y11: =$H$19 -> 0 | Z11: =$H$36 -> 0 | AA11: =F15 -> 9 | AB11: =G15 -> 0 | AC11: =H15 -> 0 | AD11: =I15 -> 0 | AE11: =F32 -> 9 | AF11: =G32 -> 0 | AG11: =H32 -> 0 | AH11: =I32 -> 0 | AI11: =J32 -> 0 | AJ11: =K32 -> 0
F12: 6 | N12: =$D$5 -> 40725 | O12: =$D$7 -> Woodcote | P12: =$D$9 -> Cancelled | Q12: =$D$11 -> Home | R12: =$D$13 -> 0 | S12: =$D$15 -> 0 | T12: =$D$16 -> 0 | U12: =$D$18 -> 0 | V12: =$D$19 -> 0 | W12: =$D$21 -> 0 | X12: =$D$22 -> 0 | Y12: =$H$19 -> 0 | Z12: =$H$36 -> 0 | AA12: =F16 -> 10 | AB12: =G16 -> 0 | AC12: =H16 -> 0 | AD12: =I16 -> 0 | AE12: =F33 -> 10 | AF12: =G33 -> 0 | AG12: =H33 -> 0 | AH12: =I33 -> 0 | AI12: =J33 -> 0 | AJ12: =K33 -> 0
C13: TPCC Batting First | F13: 7 | N13: =$D$5 -> 40725 | O13: =$D$7 -> Woodcote | P13: =$D$9 -> Cancelled | Q13: =$D$11 -> Home | R13: =$D$13 -> 0 | S13: =$D$15 -> 0 | T13: =$D$16 -> 0 | U13: =$D$18 -> 0 | V13: =$D$19 -> 0 | W13: =$D$21 -> 0 | X13: =$D$22 -> 0 | Y13: =$H$19 -> 0 | Z13: =$H$36 -> 0 | AA13: =F17 -> 11 | AB13: =G17 -> 0 | AC13: =H17 -> 0 | AD13: =I17 -> 0 | AE13: =F34 -> 11 | AF13: =G34 -> 0 | AG13: =H34 -> 0 | AH13: =I34 -> 0 | AI13: =J34 -> 0 | AJ13: =K34 -> 0
F14: 8
C15: TPCC Team Score | D15: =SUM(H7:H17)+H19 -> 0 | F15: 9
C16: TPCC Team Wickets | D16: =SUM(I7:I17) -> 0 | F16: 10
F17: 11
C18: Opposition Team Score | D18: =SUM(K24:K34)+H36 -> 0
C19: Opposition Team Wickets | D19: =SUM(J24:J34) -> 0 | F19: Batting Extras
C21: TPCC Overs Bowled | D21: =SUM(H24:H34) -> 0
C22: Opposition Overs Bowled | F22: Bowling
F23: Position | G23: Name | H23: Overs | I23: Maidens | J23: Wickets | K23: Runs
F24: 1
F25: 2
F26: 3
F27: 4
F28: 5
F29: 6
F30: 7
F31: 8
F32: 9
F33: 10
F34: 11
F36: Bowling Extras

Sheet Dorchester
N2: Date | O2: Opposition | P2: Match Status | Q2: Home/Away | R2: TPCC Batting First | S2: TPCC Team Score | T2: TPCC Team Wickets | U2: Opposition Team Score | V2: Opposition Team Wickets | W2: TPCC Overs Bowled | X2: TPCC Overs Faced | Y2: Batting Extras | Z2: Bowling Extras | AA2: Batsmen Position | AB2: Batsmen Name | AC2: Batsmen Runs | AD2: Batsmen Out | AE2: Bowler Position | AF2: Bowler Name | AG2: Bowler Overs | AH2: Bowler Maidens | AI2: Bowler Wickets | AJ2: Bowler Runs
C3: Match Overview | N3: =$D$5 -> 40727 | O3: =$D$7 -> Dorchester | P3: =$D$9 -> Cancelled | Q3: =$D$11 -> Away | R3: =$D$13 -> 0 | S3: =$D$15 -> 0 | T3: =$D$16 -> 0 | U3: =$D$18 -> 0 | V3: =$D$19 -> 0 | W3: =$D$21 -> 0 | X3: =$D$22 -> 0 | Y3: =$H$19 -> 0 | Z3: =$H$36 -> 0 | AA3: =F7 -> 1 | AB3: =G7 -> 0 | AC3: =H7 -> 0 | AD3: =I7 -> 0 | AE3: =F24 -> 1 | AF3: =G24 -> 0 | AG3: =H24 -> 0 | AH3: =I24 -> 0 | AI3: =J24 -> 0 | AJ3: =K24 -> 0
N4: =$D$5 -> 40727 | O4: =$D$7 -> Dorchester | P4: =$D$9 -> Cancelled | Q4: =$D$11 -> Away | R4: =$D$13 -> 0 | S4: =$D$15 -> 0 | T4: =$D$16 -> 0 | U4: =$D$18 -> 0 | V4: =$D$19 -> 0 | W4: =$D$21 -> 0 | X4: =$D$22 -> 0 | Y4: =$H$19 -> 0 | Z4: =$H$36 -> 0 | AA4: =F8 -> 2 | AB4: =G8 -> 0 | AC4: =H8 -> 0 | AD4: =I8 -> 0 | AE4: =F25 -> 2 | AF4: =G25 -> 0 | AG4: =H25 -> 0 | AH4: =I25 -> 0 | AI4: =J25 -> 0 | AJ4: =K25 -> 0
C5: Date | D5: 40727 | F5: Batting | N5: =$D$5 -> 40727 | O5: =$D$7 -> Dorchester | P5: =$D$9 -> Cancelled | Q5: =$D$11 -> Away | R5: =$D$13 -> 0 | S5: =$D$15 -> 0 | T5: =$D$16 -> 0 | U5: =$D$18 -> 0 | V5: =$D$19 -> 0 | W5: =$D$21 -> 0 | X5: =$D$22 -> 0 | Y5: =$H$19 -> 0 | Z5: =$H$36 -> 0 | AA5: =F9 -> 3 | AB5: =G9 -> 0 | AC5: =H9 -> 0 | AD5: =I9 -> 0 | AE5: =F26 -> 3 | AF5: =G26 -> 0 | AG5: =H26 -> 0 | AH5: =I26 -> 0 | AI5: =J26 -> 0 | AJ5: =K26 -> 0
F6: Position | G6: Name | H6: Runs | I6: Out | N6: =$D$5 -> 40727 | O6: =$D$7 -> Dorchester | P6: =$D$9 -> Cancelled | Q6: =$D$11 -> Away | R6: =$D$13 -> 0 | S6: =$D$15 -> 0 | T6: =$D$16 -> 0 | U6: =$D$18 -> 0 | V6: =$D$19 -> 0 | W6: =$D$21 -> 0 | X6: =$D$22 -> 0 | Y6: =$H$19 -> 0 | Z6: =$H$36 -> 0 | AA6: =F10 -> 4 | AB6: =G10 -> 0 | AC6: =H10 -> 0 | AD6: =I10 -> 0 | AE6: =F27 -> 4 | AF6: =G27 -> 0 | AG6: =H27 -> 0 | AH6: =I27 -> 0 | AI6: =J27 -> 0 | AJ6: =K27 -> 0
C7: Opposition | D7: Dorchester | F7: 1 | N7: =$D$5 -> 40727 | O7: =$D$7 -> Dorchester | P7: =$D$9 -> Cancelled | Q7: =$D$11 -> Away | R7: =$D$13 -> 0 | S7: =$D$15 -> 0 | T7: =$D$16 -> 0 | U7: =$D$18 -> 0 | V7: =$D$19 -> 0 | W7: =$D$21 -> 0 | X7: =$D$22 -> 0 | Y7: =$H$19 -> 0 | Z7: =$H$36 -> 0 | AA7: =F11 -> 5 | AB7: =G11 -> 0 | AC7: =H11 -> 0 | AD7: =I11 -> 0 | AE7: =F28 -> 5 | AF7: =G28 -> 0 | AG7: =H28 -> 0 | AH7: =I28 -> 0 | AI7: =J28 -> 0 | AJ7: =K28 -> 0
F8: 2 | N8: =$D$5 -> 40727 | O8: =$D$7 -> Dorchester | P8: =$D$9 -> Cancelled | Q8: =$D$11 -> Away | R8: =$D$13 -> 0 | S8: =$D$15 -> 0 | T8: =$D$16 -> 0 | U8: =$D$18 -> 0 | V8: =$D$19 -> 0 | W8: =$D$21 -> 0 | X8: =$D$22 -> 0 | Y8: =$H$19 -> 0 | Z8: =$H$36 -> 0 | AA8: =F12 -> 6 | AB8: =G12 -> 0 | AC8: =H12 -> 0 | AD8: =I12 -> 0 | AE8: =F29 -> 6 | AF8: =G29 -> 0 | AG8: =H29 -> 0 | AH8: =I29 -> 0 | AI8: =J29 -> 0 | AJ8: =K29 -> 0
C9: Match Status | D9: Cancelled | F9: 3 | N9: =$D$5 -> 40727 | O9: =$D$7 -> Dorchester | P9: =$D$9 -> Cancelled | Q9: =$D$11 -> Away | R9: =$D$13 -> 0 | S9: =$D$15 -> 0 | T9: =$D$16 -> 0 | U9: =$D$18 -> 0 | V9: =$D$19 -> 0 | W9: =$D$21 -> 0 | X9: =$D$22 -> 0 | Y9: =$H$19 -> 0 | Z9: =$H$36 -> 0 | AA9: =F13 -> 7 | AB9: =G13 -> 0 | AC9: =H13 -> 0 | AD9: =I13 -> 0 | AE9: =F30 -> 7 | AF9: =G30 -> 0 | AG9: =H30 -> 0 | AH9: =I30 -> 0 | AI9: =J30 -> 0 | AJ9: =K30 -> 0
F10: 4 | N10: =$D$5 -> 40727 | O10: =$D$7 -> Dorchester | P10: =$D$9 -> Cancelled | Q10: =$D$11 -> Away | R10: =$D$13 -> 0 | S10: =$D$15 -> 0 | T10: =$D$16 -> 0 | U10: =$D$18 -> 0 | V10: =$D$19 -> 0 | W10: =$D$21 -> 0 | X10: =$D$22 -> 0 | Y10: =$H$19 -> 0 | Z10: =$H$36 -> 0 | AA10: =F14 -> 8 | AB10: =G14 -> 0 | AC10: =H14 -> 0 | AD10: =I14 -> 0 | AE10: =F31 -> 8 | AF10: =G31 -> 0 | AG10: =H31 -> 0 | AH10: =I31 -> 0 | AI10: =J31 -> 0 | AJ10: =K31 -> 0
C11: Home / Away | D11: Away | F11: 5 | N11: =$D$5 -> 40727 | O11: =$D$7 -> Dorchester | P11: =$D$9 -> Cancelled | Q11: =$D$11 -> Away | R11: =$D$13 -> 0 | S11: =$D$15 -> 0 | T11: =$D$16 -> 0 | U11: =$D$18 -> 0 | V11: =$D$19 -> 0 | W11: =$D$21 -> 0 | X11: =$D$22 -> 0 | Y11: =$H$19 -> 0 | Z11: =$H$36 -> 0 | AA11: =F15 -> 9 | AB11: =G15 -> 0 | AC11: =H15 -> 0 | AD11: =I15 -> 0 | AE11: =F32 -> 9 | AF11: =G32 -> 0 | AG11: =H32 -> 0 | AH11: =I32 -> 0 | AI11: =J32 -> 0 | AJ11: =K32 -> 0
F12: 6 | N12: =$D$5 -> 40727 | O12: =$D$7 -> Dorchester | P12: =$D$9 -> Cancelled | Q12: =$D$11 -> Away | R12: =$D$13 -> 0 | S12: =$D$15 -> 0 | T12: =$D$16 -> 0 | U12: =$D$18 -> 0 | V12: =$D$19 -> 0 | W12: =$D$21 -> 0 | X12: =$D$22 -> 0 | Y12: =$H$19 -> 0 | Z12: =$H$36 -> 0 | AA12: =F16 -> 10 | AB12: =G16 -> 0 | AC12: =H16 -> 0 | AD12: =I16 -> 0 | AE12: =F33 -> 10 | AF12: =G33 -> 0 | AG12: =H33 -> 0 | AH12: =I33 -> 0 | AI12: =J33 -> 0 | AJ12: =K33 -> 0
C13: TPCC Batting First | F13: 7 | N13: =$D$5 -> 40727 | O13: =$D$7 -> Dorchester | P13: =$D$9 -> Cancelled | Q13: =$D$11 -> Away | R13: =$D$13 -> 0 | S13: =$D$15 -> 0 | T13: =$D$16 -> 0 | U13: =$D$18 -> 0 | V13: =$D$19 -> 0 | W13: =$D$21 -> 0 | X13: =$D$22 -> 0 | Y13: =$H$19 -> 0 | Z13: =$H$36 -> 0 | AA13: =F17 -> 11 | AB13: =G17 -> 0 | AC13: =H17 -> 0 | AD13: =I17 -> 0 | AE13: =F34 -> 11 | AF13: =G34 -> 0 | AG13: =H34 -> 0 | AH13: =I34 -> 0 | AI13: =J34 -> 0 | AJ13: =K34 -> 0
F14: 8
C15: TPCC Team Score | D15: =SUM(H7:H17)+H19 -> 0 | F15: 9
C16: TPCC Team Wickets | D16: =SUM(I7:I17) -> 0 | F16: 10
F17: 11
C18: Opposition Team Score | D18: =SUM(K24:K34)+H36 -> 0
C19: Opposition Team Wickets | D19: =SUM(J24:J34) -> 0 | F19: Batting Extras
C21: TPCC Overs Bowled | D21: =SUM(H24:H34) -> 0
C22: Opposition Overs Bowled | F22: Bowling
F23: Position | G23: Name | H23: Overs | I23: Maidens | J23: Wickets | K23: Runs
F24: 1
F25: 2
F26: 3
F27: 4
F28: 5
F29: 6
F30: 7
F31: 8
F32: 9
F33: 10
F34: 11
F36: Bowling Extras

Sheet Flycatchers
N2: Date | O2: Opposition | P2: Match Status | Q2: Home/Away | R2: TPCC Batting First | S2: TPCC Team Score | T2: TPCC Team Wickets | U2: Opposition Team Score | V2: Opposition Team Wickets | W2: TPCC Overs Bowled | X2: TPCC Overs Faced | Y2: Batting Extras | Z2: Bowling Extras | AA2: Batsmen Position | AB2: Batsmen Name | AC2: Batsmen Runs | AD2: Batsmen Out | AE2: Bowler Position | AF2: Bowler Name | AG2: Bowler Overs | AH2: Bowler Maidens | AI2: Bowler Wickets | AJ2: Bowler Runs
C3: Match Overview | N3: =$D$5 -> 40734 | O3: =$D$7 -> Flycatchers | P3: =$D$9 -> Loss | Q3: =$D$11 -> Home | R3: =$D$13 -> First | S3: =$D$15 -> 209 | T3: =$D$16 -> 7 | U3: =$D$18 -> 212 | V3: =$D$19 -> 5 | W3: =$D$21 -> 39 | X3: =$D$22 -> 46 | Y3: =$H$19 -> 13 | Z3: =$H$36 -> 5 | AA3: =F7 -> 1 | AB3: =G7 -> C. Simon | AC3: =H7 -> 1 | AD3: =I7 -> 1 | AE3: =F24 -> 1 | AF3: =G24 -> J. Leefe | AG3: =H24 -> 7 | AH3: =I24 -> 0 | AI3: =J24 -> 1 | AJ3: =K24 -> 31
N4: =$D$5 -> 40734 | O4: =$D$7 -> Flycatchers | P4: =$D$9 -> Loss | Q4: =$D$11 -> Home | R4: =$D$13 -> First | S4: =$D$15 -> 209 | T4: =$D$16 -> 7 | U4: =$D$18 -> 212 | V4: =$D$19 -> 5 | W4: =$D$21 -> 39 | X4: =$D$22 -> 46 | Y4: =$H$19 -> 13 | Z4: =$H$36 -> 5 | AA4: =F8 -> 2 | AB4: =G8 -> O. Thornton | AC4: =H8 -> 71 | AD4: =I8 -> 1 | AE4: =F25 -> 2 | AF4: =G25 -> J. Thornton | AG4: =H25 -> 9 | AH4: =I25 -> 0 | AI4: =J25 -> 0 | AJ4: =K25 -> 44
C5: Date | D5: 40734 | F5: Batting | N5: =$D$5 -> 40734 | O5: =$D$7 -> Flycatchers | P5: =$D$9 -> Loss | Q5: =$D$11 -> Home | R5: =$D$13 -> First | S5: =$D$15 -> 209 | T5: =$D$16 -> 7 | U5: =$D$18 -> 212 | V5: =$D$19 -> 5 | W5: =$D$21 -> 39 | X5: =$D$22 -> 46 | Y5: =$H$19 -> 13 | Z5: =$H$36 -> 5 | AA5: =F9 -> 3 | AB5: =G9 -> T. Wade | AC5: =H9 -> 6 | AD5: =I9 -> 1 | AE5: =F26 -> 3 | AF5: =G26 -> J. Hancock | AG5: =H26 -> 11 | AH5: =I26 -> 1 | AI5: =J26 -> 2 | AJ5: =K26 -> 56
F6: Position | G6: Name | H6: Runs | I6: Out | N6: =$D$5 -> 40734 | O6: =$D$7 -> Flycatchers | P6: =$D$9 -> Loss | Q6: =$D$11 -> Home | R6: =$D$13 -> First | S6: =$D$15 -> 209 | T6: =$D$16 -> 7 | U6: =$D$18 -> 212 | V6: =$D$19 -> 5 | W6: =$D$21 -> 39 | X6: =$D$22 -> 46 | Y6: =$H$19 -> 13 | Z6: =$H$36 -> 5 | AA6: =F10 -> 4 | AB6: =G10 -> J. Hancock | AC6: =H10 -> 41 | AD6: =I10 -> 1 | AE6: =F27 -> 4 | AF6: =G27 -> S. Beardall | AG6: =H27 -> 5 | AH6: =I27 -> 0 | AI6: =J27 -> 0 | AJ6: =K27 -> 35
C7: Opposition | D7: Flycatchers | F7: 1 | G7: C. Simon | H7: 1 | I7: 1 | N7: =$D$5 -> 40734 | O7: =$D$7 -> Flycatchers | P7: =$D$9 -> Loss | Q7: =$D$11 -> Home | R7: =$D$13 -> First | S7: =$D$15 -> 209 | T7: =$D$16 -> 7 | U7: =$D$18 -> 212 | V7: =$D$19 -> 5 | W7: =$D$21 -> 39 | X7: =$D$22 -> 46 | Y7: =$H$19 -> 13 | Z7: =$H$36 -> 5 | AA7: =F11 -> 5 | AB7: =G11 -> R. Dickie | AC7: =H11 -> 11 | AD7: =I11 -> 1 | AE7: =F28 -> 5 | AF7: =G28 -> O. Thornton | AG7: =H28 -> 7 | AH7: =I28 -> 0 | AI7: =J28 -> 2 | AJ7: =K28 -> 41
F8: 2 | G8: O. Thornton | H8: 71 | I8: 1 | N8: =$D$5 -> 40734 | O8: =$D$7 -> Flycatchers | P8: =$D$9 -> Loss | Q8: =$D$11 -> Home | R8: =$D$13 -> First | S8: =$D$15 -> 209 | T8: =$D$16 -> 7 | U8: =$D$18 -> 212 | V8: =$D$19 -> 5 | W8: =$D$21 -> 39 | X8: =$D$22 -> 46 | Y8: =$H$19 -> 13 | Z8: =$H$36 -> 5 | AA8: =F12 -> 6 | AB8: =G12 -> J. Phillips | AC8: =H12 -> 40 | AD8: =I12 -> 0 | AE8: =F29 -> 6 | AF8: =G29 -> 0 | AG8: =H29 -> 0 | AH8: =I29 -> 0 | AI8: =J29 -> 0 | AJ8: =K29 -> 0
C9: Match Status | D9: Loss | F9: 3 | G9: T. Wade | H9: 6 | I9: 1 | N9: =$D$5 -> 40734 | O9: =$D$7 -> Flycatchers | P9: =$D$9 -> Loss | Q9: =$D$11 -> Home | R9: =$D$13 -> First | S9: =$D$15 -> 209 | T9: =$D$16 -> 7 | U9: =$D$18 -> 212 | V9: =$D$19 -> 5 | W9: =$D$21 -> 39 | X9: =$D$22 -> 46 | Y9: =$H$19 -> 13 | Z9: =$H$36 -> 5 | AA9: =F13 -> 7 | AB9: =G13 -> J. Moberly | AC9: =H13 -> 6 | AD9: =I13 -> 1 | AE9: =F30 -> 7 | AF9: =G30 -> 0 | AG9: =H30 -> 0 | AH9: =I30 -> 0 | AI9: =J30 -> 0 | AJ9: =K30 -> 0
F10: 4 | G10: J. Hancock | H10: 41 | I10: 1 | N10: =$D$5 -> 40734 | O10: =$D$7 -> Flycatchers | P10: =$D$9 -> Loss | Q10: =$D$11 -> Home | R10: =$D$13 -> First | S10: =$D$15 -> 209 | T10: =$D$16 -> 7 | U10: =$D$18 -> 212 | V10: =$D$19 -> 5 | W10: =$D$21 -> 39 | X10: =$D$22 -> 46 | Y10: =$H$19 -> 13 | Z10: =$H$36 -> 5 | AA10: =F14 -> 8 | AB10: =G14 -> R. Gunn | AC10: =H14 -> 16 | AD10: =I14 -> 1 | AE10: =F31 -> 8 | AF10: =G31 -> 0 | AG10: =H31 -> 0 | AH10: =I31 -> 0 | AI10: =J31 -> 0 | AJ10: =K31 -> 0
C11: Home / Away | D11: Home | F11: 5 | G11: R. Dickie | H11: 11 | I11: 1 | N11: =$D$5 -> 40734 | O11: =$D$7 -> Flycatchers | P11: =$D$9 -> Loss | Q11: =$D$11 -> Home | R11: =$D$13 -> First | S11: =$D$15 -> 209 | T11: =$D$16 -> 7 | U11: =$D$18 -> 212 | V11: =$D$19 -> 5 | W11: =$D$21 -> 39 | X11: =$D$22 -> 46 | Y11: =$H$19 -> 13 | Z11: =$H$36 -> 5 | AA11: =F15 -> 9 | AB11: =G15 -> J. Thornton | AC11: =H15 -> 4 | AD11: =I15 -> 0 | AE11: =F32 -> 9 | AF11: =G32 -> 0 | AG11: =H32 -> 0 | AH11: =I32 -> 0 | AI11: =J32 -> 0 | AJ11: =K32 -> 0
F12: 6 | G12: J. Phillips | H12: 40 | I12: 0 | N12: =$D$5 -> 40734 | O12: =$D$7 -> Flycatchers | P12: =$D$9 -> Loss | Q12: =$D$11 -> Home | R12: =$D$13 -> First | S12: =$D$15 -> 209 | T12: =$D$16 -> 7 | U12: =$D$18 -> 212 | V12: =$D$19 -> 5 | W12: =$D$21 -> 39 | X12: =$D$22 -> 46 | Y12: =$H$19 -> 13 | Z12: =$H$36 -> 5 | AA12: =F16 -> 10 | AB12: =G16 -> 0 | AC12: =H16 -> 0 | AD12: =I16 -> 0 | AE12: =F33 -> 10 | AF12: =G33 -> 0 | AG12: =H33 -> 0 | AH12: =I33 -> 0 | AI12: =J33 -> 0 | AJ12: =K33 -> 0
C13: TPCC Batting First | D13: First | F13: 7 | G13: J. Moberly | H13: 6 | I13: 1 | N13: =$D$5 -> 40734 | O13: =$D$7 -> Flycatchers | P13: =$D$9 -> Loss | Q13: =$D$11 -> Home | R13: =$D$13 -> First | S13: =$D$15 -> 209 | T13: =$D$16 -> 7 | U13: =$D$18 -> 212 | V13: =$D$19 -> 5 | W13: =$D$21 -> 39 | X13: =$D$22 -> 46 | Y13: =$H$19 -> 13 | Z13: =$H$36 -> 5 | AA13: =F17 -> 11 | AB13: =G17 -> 0 | AC13: =H17 -> 0 | AD13: =I17 -> 0 | AE13: =F34 -> 11 | AF13: =G34 -> 0 | AG13: =H34 -> 0 | AH13: =I34 -> 0 | AI13: =J34 -> 0 | AJ13: =K34 -> 0
F14: 8 | G14: R. Gunn | H14: 16 | I14: 1
C15: TPCC Team Score | D15: =SUM(H7:H17)+H19 -> 209 | F15: 9 | G15: J. Thornton | H15: 4 | I15: 0
C16: TPCC Team Wickets | D16: =SUM(I7:I17) -> 7 | F16: 10
F17: 11
C18: Opposition Team Score | D18: =SUM(K24:K34)+H36 -> 212
C19: Opposition Team Wickets | D19: =SUM(J24:J34) -> 5 | F19: Batting Extras | H19: 13
C21: TPCC Overs Bowled | D21: =SUM(H24:H34) -> 39
C22: Opposition Overs Bowled | D22: 46 | F22: Bowling
F23: Position | G23: Name | H23: Overs | I23: Maidens | J23: Wickets | K23: Runs
F24: 1 | G24: J. Leefe | H24: 7 | I24: 0 | J24: 1 | K24: 31
F25: 2 | G25: J. Thornton | H25: 9 | I25: 0 | J25: 0 | K25: 44
F26: 3 | G26: J. Hancock | H26: 11 | I26: 1 | J26: 2 | K26: 56
F27: 4 | G27: S. Beardall | H27: 5 | I27: 0 | J27: 0 | K27: 35
F28: 5 | G28: O. Thornton | H28: 7 | I28: 0 | J28: 2 | K28: 41
F29: 6
F30: 7
F31: 8
F32: 9
F33: 10
F34: 11
F36: Bowling Extras | H36: 5

Sheet Crossbatters
N2: Date | O2: Opposition | P2: Match Status | Q2: Home/Away | R2: TPCC Batting First | S2: TPCC Team Score | T2: TPCC Team Wickets | U2: Opposition Team Score | V2: Opposition Team Wickets | W2: TPCC Overs Bowled | X2: TPCC Overs Faced | Y2: Batting Extras | Z2: Bowling Extras | AA2: Batsmen Position | AB2: Batsmen Name | AC2: Batsmen Runs | AD2: Batsmen Out | AE2: Bowler Position | AF2: Bowler Name | AG2: Bowler Overs | AH2: Bowler Maidens | AI2: Bowler Wickets | AJ2: Bowler Runs
C3: Match Overview | N3: =$D$5 -> 40740 | O3: =$D$7 -> Crossbatters | P3: =$D$9 -> Cancelled | Q3: =$D$11 -> Home | R3: =$D$13 -> 0 | S3: =$D$15 -> 0 | T3: =$D$16 -> 0 | U3: =$D$18 -> 0 | V3: =$D$19 -> 0 | W3: =$D$21 -> 0 | X3: =$D$22 -> 0 | Y3: =$H$19 -> 0 | Z3: =$H$36 -> 0 | AA3: =F7 -> 1 | AB3: =G7 -> 0 | AC3: =H7 -> 0 | AD3: =I7 -> 0 | AE3: =F24 -> 1 | AF3: =G24 -> 0 | AG3: =H24 -> 0 | AH3: =I24 -> 0 | AI3: =J24 -> 0 | AJ3: =K24 -> 0
N4: =$D$5 -> 40740 | O4: =$D$7 -> Crossbatters | P4: =$D$9 -> Cancelled | Q4: =$D$11 -> Home | R4: =$D$13 -> 0 | S4: =$D$15 -> 0 | T4: =$D$16 -> 0 | U4: =$D$18 -> 0 | V4: =$D$19 -> 0 | W4: =$D$21 -> 0 | X4: =$D$22 -> 0 | Y4: =$H$19 -> 0 | Z4: =$H$36 -> 0 | AA4: =F8 -> 2 | AB4: =G8 -> 0 | AC4: =H8 -> 0 | AD4: =I8 -> 0 | AE4: =F25 -> 2 | AF4: =G25 -> 0 | AG4: =H25 -> 0 | AH4: =I25 -> 0 | AI4: =J25 -> 0 | AJ4: =K25 -> 0
C5: Date | D5: 40740 | F5: Batting | N5: =$D$5 -> 40740 | O5: =$D$7 -> Crossbatters | P5: =$D$9 -> Cancelled | Q5: =$D$11 -> Home | R5: =$D$13 -> 0 | S5: =$D$15 -> 0 | T5: =$D$16 -> 0 | U5: =$D$18 -> 0 | V5: =$D$19 -> 0 | W5: =$D$21 -> 0 | X5: =$D$22 -> 0 | Y5: =$H$19 -> 0 | Z5: =$H$36 -> 0 | AA5: =F9 -> 3 | AB5: =G9 -> 0 | AC5: =H9 -> 0 | AD5: =I9 -> 0 | AE5: =F26 -> 3 | AF5: =G26 -> 0 | AG5: =H26 -> 0 | AH5: =I26 -> 0 | AI5: =J26 -> 0 | AJ5: =K26 -> 0
F6: Position | G6: Name | H6: Runs | I6: Out | N6: =$D$5 -> 40740 | O6: =$D$7 -> Crossbatters | P6: =$D$9 -> Cancelled | Q6: =$D$11 -> Home | R6: =$D$13 -> 0 | S6: =$D$15 -> 0 | T6: =$D$16 -> 0 | U6: =$D$18 -> 0 | V6: =$D$19 -> 0 | W6: =$D$21 -> 0 | X6: =$D$22 -> 0 | Y6: =$H$19 -> 0 | Z6: =$H$36 -> 0 | AA6: =F10 -> 4 | AB6: =G10 -> 0 | AC6: =H10 -> 0 | AD6: =I10 -> 0 | AE6: =F27 -> 4 | AF6: =G27 -> 0 | AG6: =H27 -> 0 | AH6: =I27 -> 0 | AI6: =J27 -> 0 | AJ6: =K27 -> 0
C7: Opposition | D7: Crossbatters | F7: 1 | N7: =$D$5 -> 40740 | O7: =$D$7 -> Crossbatters | P7: =$D$9 -> Cancelled | Q7: =$D$11 -> Home | R7: =$D$13 -> 0 | S7: =$D$15 -> 0 | T7: =$D$16 -> 0 | U7: =$D$18 -> 0 | V7: =$D$19 -> 0 | W7: =$D$21 -> 0 | X7: =$D$22 -> 0 | Y7: =$H$19 -> 0 | Z7: =$H$36 -> 0 | AA7: =F11 -> 5 | AB7: =G11 -> 0 | AC7: =H11 -> 0 | AD7: =I11 -> 0 | AE7: =F28 -> 5 | AF7: =G28 -> 0 | AG7: =H28 -> 0 | AH7: =I28 -> 0 | AI7: =J28 -> 0 | AJ7: =K28 -> 0
F8: 2 | N8: =$D$5 -> 40740 | O8: =$D$7 -> Crossbatters | P8: =$D$9 -> Cancelled | Q8: =$D$11 -> Home | R8: =$D$13 -> 0 | S8: =$D$15 -> 0 | T8: =$D$16 -> 0 | U8: =$D$18 -> 0 | V8: =$D$19 -> 0 | W8: =$D$21 -> 0 | X8: =$D$22 -> 0 | Y8: =$H$19 -> 0 | Z8: =$H$36 -> 0 | AA8: =F12 -> 6 | AB8: =G12 -> 0 | AC8: =H12 -> 0 | AD8: =I12 -> 0 | AE8: =F29 -> 6 | AF8: =G29 -> 0 | AG8: =H29 -> 0 | AH8: =I29 -> 0 | AI8: =J29 -> 0 | AJ8: =K29 -> 0
C9: Match Status | D9: Cancelled | F9: 3 | N9: =$D$5 -> 40740 | O9: =$D$7 -> Crossbatters | P9: =$D$9 -> Cancelled | Q9: =$D$11 -> Home | R9: =$D$13 -> 0 | S9: =$D$15 -> 0 | T9: =$D$16 -> 0 | U9: =$D$18 -> 0 | V9: =$D$19 -> 0 | W9: =$D$21 -> 0 | X9: =$D$22 -> 0 | Y9: =$H$19 -> 0 | Z9: =$H$36 -> 0 | AA9: =F13 -> 7 | AB9: =G13 -> 0 | AC9: =H13 -> 0 | AD9: =I13 -> 0 | AE9: =F30 -> 7 | AF9: =G30 -> 0 | AG9: =H30 -> 0 | AH9: =I30 -> 0 | AI9: =J30 -> 0 | AJ9: =K30 -> 0
F10: 4 | N10: =$D$5 -> 40740 | O10: =$D$7 -> Crossbatters | P10: =$D$9 -> Cancelled | Q10: =$D$11 -> Home | R10: =$D$13 -> 0 | S10: =$D$15 -> 0 | T10: =$D$16 -> 0 | U10: =$D$18 -> 0 | V10: =$D$19 -> 0 | W10: =$D$21 -> 0 | X10: =$D$22 -> 0 | Y10: =$H$19 -> 0 | Z10: =$H$36 -> 0 | AA10: =F14 -> 8 | AB10: =G14 -> 0 | AC10: =H14 -> 0 | AD10: =I14 -> 0 | AE10: =F31 -> 8 | AF10: =G31 -> 0 | AG10: =H31 -> 0 | AH10: =I31 -> 0 | AI10: =J31 -> 0 | AJ10: =K31 -> 0
C11: Home / Away | D11: Home | F11: 5 | N11: =$D$5 -> 40740 | O11: =$D$7 -> Crossbatters | P11: =$D$9 -> Cancelled | Q11: =$D$11 -> Home | R11: =$D$13 -> 0 | S11: =$D$15 -> 0 | T11: =$D$16 -> 0 | U11: =$D$18 -> 0 | V11: =$D$19 -> 0 | W11: =$D$21 -> 0 | X11: =$D$22 -> 0 | Y11: =$H$19 -> 0 | Z11: =$H$36 -> 0 | AA11: =F15 -> 9 | AB11: =G15 -> 0 | AC11: =H15 -> 0 | AD11: =I15 -> 0 | AE11: =F32 -> 9 | AF11: =G32 -> 0 | AG11: =H32 -> 0 | AH11: =I32 -> 0 | AI11: =J32 -> 0 | AJ11: =K32 -> 0
F12: 6 | N12: =$D$5 -> 40740 | O12: =$D$7 -> Crossbatters | P12: =$D$9 -> Cancelled | Q12: =$D$11 -> Home | R12: =$D$13 -> 0 | S12: =$D$15 -> 0 | T12: =$D$16 -> 0 | U12: =$D$18 -> 0 | V12: =$D$19 -> 0 | W12: =$D$21 -> 0 | X12: =$D$22 -> 0 | Y12: =$H$19 -> 0 | Z12: =$H$36 -> 0 | AA12: =F16 -> 10 | AB12: =G16 -> 0 | AC12: =H16 -> 0 | AD12: =I16 -> 0 | AE12: =F33 -> 10 | AF12: =G33 -> 0 | AG12: =H33 -> 0 | AH12: =I33 -> 0 | AI12: =J33 -> 0 | AJ12: =K33 -> 0
C13: TPCC Batting First | F13: 7 | N13: =$D$5 -> 40740 | O13: =$D$7 -> Crossbatters | P13: =$D$9 -> Cancelled | Q13: =$D$11 -> Home | R13: =$D$13 -> 0 | S13: =$D$15 -> 0 | T13: =$D$16 -> 0 | U13: =$D$18 -> 0 | V13: =$D$19 -> 0 | W13: =$D$21 -> 0 | X13: =$D$22 -> 0 | Y13: =$H$19 -> 0 | Z13: =$H$36 -> 0 | AA13: =F17 -> 11 | AB13: =G17 -> 0 | AC13: =H17 -> 0 | AD13: =I17 -> 0 | AE13: =F34 -> 11 | AF13: =G34 -> 0 | AG13: =H34 -> 0 | AH13: =I34 -> 0 | AI13: =J34 -> 0 | AJ13: =K34 -> 0
F14: 8
C15: TPCC Team Score | D15: =SUM(H7:H17)+H19 -> 0 | F15: 9
C16: TPCC Team Wickets | D16: =SUM(I7:I17) -> 0 | F16: 10
F17: 11
C18: Opposition Team Score | D18: =SUM(K24:K34)+H36 -> 0
C19: Opposition Team Wickets | D19: =SUM(J24:J34) -> 0 | F19: Batting Extras
C21: TPCC Overs Bowled | D21: =SUM(H24:H34) -> 0
C22: Opposition Overs Bowled | F22: Bowling
F23: Position | G23: Name | H23: Overs | I23: Maidens | J23: Wickets | K23: Runs
F24: 1
F25: 2
F26: 3
F27: 4
F28: 5
F29: 6
F30: 7
F31: 8
F32: 9
F33: 10
F34: 11
F36: Bowling Extras

Sheet Theberton
N2: Date | O2: Opposition | P2: Match Status | Q2: Home/Away | R2: TPCC Batting First | S2: TPCC Team Score | T2: TPCC Team Wickets | U2: Opposition Team Score | V2: Opposition Team Wickets | W2: TPCC Overs Bowled | X2: TPCC Overs Faced | Y2: Batting Extras | Z2: Bowling Extras | AA2: Batsmen Position | AB2: Batsmen Name | AC2: Batsmen Runs | AD2: Batsmen Out | AE2: Bowler Position | AF2: Bowler Name | AG2: Bowler Overs | AH2: Bowler Maidens | AI2: Bowler Wickets | AJ2: Bowler Runs
C3: Match Overview | N3: =$D$5 -> 40741 | O3: =$D$7 -> Theberton | P3: =$D$9 -> Cancelled | Q3: =$D$11 -> Home | R3: =$D$13 -> 0 | S3: =$D$15 -> 0 | T3: =$D$16 -> 0 | U3: =$D$18 -> 0 | V3: =$D$19 -> 0 | W3: =$D$21 -> 0 | X3: =$D$22 -> 0 | Y3: =$H$19 -> 0 | Z3: =$H$36 -> 0 | AA3: =F7 -> 1 | AB3: =G7 -> 0 | AC3: =H7 -> 0 | AD3: =I7 -> 0 | AE3: =F24 -> 1 | AF3: =G24 -> 0 | AG3: =H24 -> 0 | AH3: =I24 -> 0 | AI3: =J24 -> 0 | AJ3: =K24 -> 0
N4: =$D$5 -> 40741 | O4: =$D$7 -> Theberton | P4: =$D$9 -> Cancelled | Q4: =$D$11 -> Home | R4: =$D$13 -> 0 | S4: =$D$15 -> 0 | T4: =$D$16 -> 0 | U4: =$D$18 -> 0 | V4: =$D$19 -> 0 | W4: =$D$21 -> 0 | X4: =$D$22 -> 0 | Y4: =$H$19 -> 0 | Z4: =$H$36 -> 0 | AA4: =F8 -> 2 | AB4: =G8 -> 0 | AC4: =H8 -> 0 | AD4: =I8 -> 0 | AE4: =F25 -> 2 | AF4: =G25 -> 0 | AG4: =H25 -> 0 | AH4: =I25 -> 0 | AI4: =J25 -> 0 | AJ4: =K25 -> 0
C5: Date | D5: 40741 | F5: Batting | N5: =$D$5 -> 40741 | O5: =$D$7 -> Theberton | P5: =$D$9 -> Cancelled | Q5: =$D$11 -> Home | R5: =$D$13 -> 0 | S5: =$D$15 -> 0 | T5: =$D$16 -> 0 | U5: =$D$18 -> 0 | V5: =$D$19 -> 0 | W5: =$D$21 -> 0 | X5: =$D$22 -> 0 | Y5: =$H$19 -> 0 | Z5: =$H$36 -> 0 | AA5: =F9 -> 3 | AB5: =G9 -> 0 | AC5: =H9 -> 0 | AD5: =I9 -> 0 | AE5: =F26 -> 3 | AF5: =G26 -> 0 | AG5: =H26 -> 0 | AH5: =I26 -> 0 | AI5: =J26 -> 0 | AJ5: =K26 -> 0
F6: Position | G6: Name | H6: Runs | I6: Out | N6: =$D$5 -> 40741 | O6: =$D$7 -> Theberton | P6: =$D$9 -> Cancelled | Q6: =$D$11 -> Home | R6: =$D$13 -> 0 | S6: =$D$15 -> 0 | T6: =$D$16 -> 0 | U6: =$D$18 -> 0 | V6: =$D$19 -> 0 | W6: =$D$21 -> 0 | X6: =$D$22 -> 0 | Y6: =$H$19 -> 0 | Z6: =$H$36 -> 0 | AA6: =F10 -> 4 | AB6: =G10 -> 0 | AC6: =H10 -> 0 | AD6: =I10 -> 0 | AE6: =F27 -> 4 | AF6: =G27 -> 0 | AG6: =H27 -> 0 | AH6: =I27 -> 0 | AI6: =J27 -> 0 | AJ6: =K27 -> 0
C7: Opposition | D7: Theberton | F7: 1 | N7: =$D$5 -> 40741 | O7: =$D$7 -> Theberton | P7: =$D$9 -> Cancelled | Q7: =$D$11 -> Home | R7: =$D$13 -> 0 | S7: =$D$15 -> 0 | T7: =$D$16 -> 0 | U7: =$D$18 -> 0 | V7: =$D$19 -> 0 | W7: =$D$21 -> 0 | X7: =$D$22 -> 0 | Y7: =$H$19 -> 0 | Z7: =$H$36 -> 0 | AA7: =F11 -> 5 | AB7: =G11 -> 0 | AC7: =H11 -> 0 | AD7: =I11 -> 0 | AE7: =F28 -> 5 | AF7: =G28 -> 0 | AG7: =H28 -> 0 | AH7: =I28 -> 0 | AI7: =J28 -> 0 | AJ7: =K28 -> 0
F8: 2 | N8: =$D$5 -> 40741 | O8: =$D$7 -> Theberton | P8: =$D$9 -> Cancelled | Q8: =$D$11 -> Home | R8: =$D$13 -> 0 | S8: =$D$15 -> 0 | T8: =$D$16 -> 0 | U8: =$D$18 -> 0 | V8: =$D$19 -> 0 | W8: =$D$21 -> 0 | X8: =$D$22 -> 0 | Y8: =$H$19 -> 0 | Z8: =$H$36 -> 0 | AA8: =F12 -> 6 | AB8: =G12 -> 0 | AC8: =H12 -> 0 | AD8: =I12 -> 0 | AE8: =F29 -> 6 | AF8: =G29 -> 0 | AG8: =H29 -> 0 | AH8: =I29 -> 0 | AI8: =J29 -> 0 | AJ8: =K29 -> 0
C9: Match Status | D9: Cancelled | F9: 3 | N9: =$D$5 -> 40741 | O9: =$D$7 -> Theberton | P9: =$D$9 -> Cancelled | Q9: =$D$11 -> Home | R9: =$D$13 -> 0 | S9: =$D$15 -> 0 | T9: =$D$16 -> 0 | U9: =$D$18 -> 0 | V9: =$D$19 -> 0 | W9: =$D$21 -> 0 | X9: =$D$22 -> 0 | Y9: =$H$19 -> 0 | Z9: =$H$36 -> 0 | AA9: =F13 -> 7 | AB9: =G13 -> 0 | AC9: =H13 -> 0 | AD9: =I13 -> 0 | AE9: =F30 -> 7 | AF9: =G30 -> 0 | AG9: =H30 -> 0 | AH9: =I30 -> 0 | AI9: =J30 -> 0 | AJ9: =K30 -> 0
F10: 4 | N10: =$D$5 -> 40741 | O10: =$D$7 -> Theberton | P10: =$D$9 -> Cancelled | Q10: =$D$11 -> Home | R10: =$D$13 -> 0 | S10: =$D$15 -> 0 | T10: =$D$16 -> 0 | U10: =$D$18 -> 0 | V10: =$D$19 -> 0 | W10: =$D$21 -> 0 | X10: =$D$22 -> 0 | Y10: =$H$19 -> 0 | Z10: =$H$36 -> 0 | AA10: =F14 -> 8 | AB10: =G14 -> 0 | AC10: =H14 -> 0 | AD10: =I14 -> 0 | AE10: =F31 -> 8 | AF10: =G31 -> 0 | AG10: =H31 -> 0 | AH10: =I31 -> 0 | AI10: =J31 -> 0 | AJ10: =K31 -> 0
C11: Home / Away | D11: Home | F11: 5 | N11: =$D$5 -> 40741 | O11: =$D$7 -> Theberton | P11: =$D$9 -> Cancelled | Q11: =$D$11 -> Home | R11: =$D$13 -> 0 | S11: =$D$15 -> 0 | T11: =$D$16 -> 0 | U11: =$D$18 -> 0 | V11: =$D$19 -> 0 | W11: =$D$21 -> 0 | X11: =$D$22 -> 0 | Y11: =$H$19 -> 0 | Z11: =$H$36 -> 0 | AA11: =F15 -> 9 | AB11: =G15 -> 0 | AC11: =H15 -> 0 | AD11: =I15 -> 0 | AE11: =F32 -> 9 | AF11: =G32 -> 0 | AG11: =H32 -> 0 | AH11: =I32 -> 0 | AI11: =J32 -> 0 | AJ11: =K32 -> 0
F12: 6 | N12: =$D$5 -> 40741 | O12: =$D$7 -> Theberton | P12: =$D$9 -> Cancelled | Q12: =$D$11 -> Home | R12: =$D$13 -> 0 | S12: =$D$15 -> 0 | T12: =$D$16 -> 0 | U12: =$D$18 -> 0 | V12: =$D$19 -> 0 | W12: =$D$21 -> 0 | X12: =$D$22 -> 0 | Y12: =$H$19 -> 0 | Z12: =$H$36 -> 0 | AA12: =F16 -> 10 | AB12: =G16 -> 0 | AC12: =H16 -> 0 | AD12: =I16 -> 0 | AE12: =F33 -> 10 | AF12: =G33 -> 0 | AG12: =H33 -> 0 | AH12: =I33 -> 0 | AI12: =J33 -> 0 | AJ12: =K33 -> 0
C13: TPCC Batting First | F13: 7 | N13: =$D$5 -> 40741 | O13: =$D$7 -> Theberton | P13: =$D$9 -> Cancelled | Q13: =$D$11 -> Home | R13: =$D$13 -> 0 | S13: =$D$15 -> 0 | T13: =$D$16 -> 0 | U13: =$D$18 -> 0 | V13: =$D$19 -> 0 | W13: =$D$21 -> 0 | X13: =$D$22 -> 0 | Y13: =$H$19 -> 0 | Z13: =$H$36 -> 0 | AA13: =F17 -> 11 | AB13: =G17 -> 0 | AC13: =H17 -> 0 | AD13: =I17 -> 0 | AE13: =F34 -> 11 | AF13: =G34 -> 0 | AG13: =H34 -> 0 | AH13: =I34 -> 0 | AI13: =J34 -> 0 | AJ13: =K34 -> 0
F14: 8
C15: TPCC Team Score | D15: =SUM(H7:H17)+H19 -> 0 | F15: 9
C16: TPCC Team Wickets | D16: =SUM(I7:I17) -> 0 | F16: 10
F17: 11
C18: Opposition Team Score | D18: =SUM(K24:K34)+H36 -> 0
C19: Opposition Team Wickets | D19: =SUM(J24:J34) -> 0 | F19: Batting Extras
C21: TPCC Overs Bowled | D21: =SUM(H24:H34) -> 0
C22: Opposition Overs Bowled | F22: Bowling
F23: Position | G23: Name | H23: Overs | I23: Maidens | J23: Wickets | K23: Runs
F24: 1
F25: 2
F26: 3
F27: 4
F28: 5
F29: 6
F30: 7
F31: 8
F32: 9
F33: 10
F34: 11
F36: Bowling Extras

Sheet Penywern Taverners
N2: Date | O2: Opposition | P2: Match Status | Q2: Home/Away | R2: TPCC Batting First | S2: TPCC Team Score | T2: TPCC Team Wickets | U2: Opposition Team Score | V2: Opposition Team Wickets | W2: TPCC Overs Bowled | X2: TPCC Overs Faced | Y2: Batting Extras | Z2: Bowling Extras | AA2: Batsmen Position | AB2: Batsmen Name | AC2: Batsmen Runs | AD2: Batsmen Out | AE2: Bowler Position | AF2: Bowler Name | AG2: Bowler Overs | AH2: Bowler Maidens | AI2: Bowler Wickets | AJ2: Bowler Runs
C3: Match Overview | N3: =$D$5 -> 40748 | O3: =$D$7 -> Penywern Taverners | P3: =$D$9 -> Cancelled | Q3: =$D$11 -> Home | R3: =$D$13 -> 0 | S3: =$D$15 -> 0 | T3: =$D$16 -> 0 | U3: =$D$18 -> 0 | V3: =$D$19 -> 0 | W3: =$D$21 -> 0 | X3: =$D$22 -> 0 | Y3: =$H$19 -> 0 | Z3: =$H$36 -> 0 | AA3: =F7 -> 1 | AB3: =G7 -> 0 | AC3: =H7 -> 0 | AD3: =I7 -> 0 | AE3: =F24 -> 1 | AF3: =G24 -> 0 | AG3: =H24 -> 0 | AH3: =I24 -> 0 | AI3: =J24 -> 0 | AJ3: =K24 -> 0
N4: =$D$5 -> 40748 | O4: =$D$7 -> Penywern Taverners | P4: =$D$9 -> Cancelled | Q4: =$D$11 -> Home | R4: =$D$13 -> 0 | S4: =$D$15 -> 0 | T4: =$D$16 -> 0 | U4: =$D$18 -> 0 | V4: =$D$19 -> 0 | W4: =$D$21 -> 0 | X4: =$D$22 -> 0 | Y4: =$H$19 -> 0 | Z4: =$H$36 -> 0 | AA4: =F8 -> 2 | AB4: =G8 -> 0 | AC4: =H8 -> 0 | AD4: =I8 -> 0 | AE4: =F25 -> 2 | AF4: =G25 -> 0 | AG4: =H25 -> 0 | AH4: =I25 -> 0 | AI4: =J25 -> 0 | AJ4: =K25 -> 0
C5: Date | D5: 40748 | F5: Batting | N5: =$D$5 -> 40748 | O5: =$D$7 -> Penywern Taverners | P5: =$D$9 -> Cancelled | Q5: =$D$11 -> Home | R5: =$D$13 -> 0 | S5: =$D$15 -> 0 | T5: =$D$16 -> 0 | U5: =$D$18 -> 0 | V5: =$D$19 -> 0 | W5: =$D$21 -> 0 | X5: =$D$22 -> 0 | Y5: =$H$19 -> 0 | Z5: =$H$36 -> 0 | AA5: =F9 -> 3 | AB5: =G9 -> 0 | AC5: =H9 -> 0 | AD5: =I9 -> 0 | AE5: =F26 -> 3 | AF5: =G26 -> 0 | AG5: =H26 -> 0 | AH5: =I26 -> 0 | AI5: =J26 -> 0 | AJ5: =K26 -> 0
F6: Position | G6: Name | H6: Runs | I6: Out | N6: =$D$5 -> 40748 | O6: =$D$7 -> Penywern Taverners | P6: =$D$9 -> Cancelled | Q6: =$D$11 -> Home | R6: =$D$13 -> 0 | S6: =$D$15 -> 0 | T6: =$D$16 -> 0 | U6: =$D$18 -> 0 | V6: =$D$19 -> 0 | W6: =$D$21 -> 0 | X6: =$D$22 -> 0 | Y6: =$H$19 -> 0 | Z6: =$H$36 -> 0 | AA6: =F10 -> 4 | AB6: =G10 -> 0 | AC6: =H10 -> 0 | AD6: =I10 -> 0 | AE6: =F27 -> 4 | AF6: =G27 -> 0 | AG6: =H27 -> 0 | AH6: =I27 -> 0 | AI6: =J27 -> 0 | AJ6: =K27 -> 0
C7: Opposition | D7: Penywern Taverners | F7: 1 | N7: =$D$5 -> 40748 | O7: =$D$7 -> Penywern Taverners | P7: =$D$9 -> Cancelled | Q7: =$D$11 -> Home | R7: =$D$13 -> 0 | S7: =$D$15 -> 0 | T7: =$D$16 -> 0 | U7: =$D$18 -> 0 | V7: =$D$19 -> 0 | W7: =$D$21 -> 0 | X7: =$D$22 -> 0 | Y7: =$H$19 -> 0 | Z7: =$H$36 -> 0 | AA7: =F11 -> 5 | AB7: =G11 -> 0 | AC7: =H11 -> 0 | AD7: =I11 -> 0 | AE7: =F28 -> 5 | AF7: =G28 -> 0 | AG7: =H28 -> 0 | AH7: =I28 -> 0 | AI7: =J28 -> 0 | AJ7: =K28 -> 0
F8: 2 | N8: =$D$5 -> 40748 | O8: =$D$7 -> Penywern Taverners | P8: =$D$9 -> Cancelled | Q8: =$D$11 -> Home | R8: =$D$13 -> 0 | S8: =$D$15 -> 0 | T8: =$D$16 -> 0 | U8: =$D$18 -> 0 | V8: =$D$19 -> 0 | W8: =$D$21 -> 0 | X8: =$D$22 -> 0 | Y8: =$H$19 -> 0 | Z8: =$H$36 -> 0 | AA8: =F12 -> 6 | AB8: =G12 -> 0 | AC8: =H12 -> 0 | AD8: =I12 -> 0 | AE8: =F29 -> 6 | AF8: =G29 -> 0 | AG8: =H29 -> 0 | AH8: =I29 -> 0 | AI8: =J29 -> 0 | AJ8: =K29 -> 0
C9: Match Status | D9: Cancelled | F9: 3 | N9: =$D$5 -> 40748 | O9: =$D$7 -> Penywern Taverners | P9: =$D$9 -> Cancelled | Q9: =$D$11 -> Home | R9: =$D$13 -> 0 | S9: =$D$15 -> 0 | T9: =$D$16 -> 0 | U9: =$D$18 -> 0 | V9: =$D$19 -> 0 | W9: =$D$21 -> 0 | X9: =$D$22 -> 0 | Y9: =$H$19 -> 0 | Z9: =$H$36 -> 0 | AA9: =F13 -> 7 | AB9: =G13 -> 0 | AC9: =H13 -> 0 | AD9: =I13 -> 0 | AE9: =F30 -> 7 | AF9: =G30 -> 0 | AG9: =H30 -> 0 | AH9: =I30 -> 0 | AI9: =J30 -> 0 | AJ9: =K30 -> 0
F10: 4 | N10: =$D$5 -> 40748 | O10: =$D$7 -> Penywern Taverners | P10: =$D$9 -> Cancelled | Q10: =$D$11 -> Home | R10: =$D$13 -> 0 | S10: =$D$15 -> 0 | T10: =$D$16 -> 0 | U10: =$D$18 -> 0 | V10: =$D$19 -> 0 | W10: =$D$21 -> 0 | X10: =$D$22 -> 0 | Y10: =$H$19 -> 0 | Z10: =$H$36 -> 0 | AA10: =F14 -> 8 | AB10: =G14 -> 0 | AC10: =H14 -> 0 | AD10: =I14 -> 0 | AE10: =F31 -> 8 | AF10: =G31 -> 0 | AG10: =H31 -> 0 | AH10: =I31 -> 0 | AI10: =J31 -> 0 | AJ10: =K31 -> 0
C11: Home / Away | D11: Home | F11: 5 | N11: =$D$5 -> 40748 | O11: =$D$7 -> Penywern Taverners | P11: =$D$9 -> Cancelled | Q11: =$D$11 -> Home | R11: =$D$13 -> 0 | S11: =$D$15 -> 0 | T11: =$D$16 -> 0 | U11: =$D$18 -> 0 | V11: =$D$19 -> 0 | W11: =$D$21 -> 0 | X11: =$D$22 -> 0 | Y11: =$H$19 -> 0 | Z11: =$H$36 -> 0 | AA11: =F15 -> 9 | AB11: =G15 -> 0 | AC11: =H15 -> 0 | AD11: =I15 -> 0 | AE11: =F32 -> 9 | AF11: =G32 -> 0 | AG11: =H32 -> 0 | AH11: =I32 -> 0 | AI11: =J32 -> 0 | AJ11: =K32 -> 0
F12: 6 | N12: =$D$5 -> 40748 | O12: =$D$7 -> Penywern Taverners | P12: =$D$9 -> Cancelled | Q12: =$D$11 -> Home | R12: =$D$13 -> 0 | S12: =$D$15 -> 0 | T12: =$D$16 -> 0 | U12: =$D$18 -> 0 | V12: =$D$19 -> 0 | W12: =$D$21 -> 0 | X12: =$D$22 -> 0 | Y12: =$H$19 -> 0 | Z12: =$H$36 -> 0 | AA12: =F16 -> 10 | AB12: =G16 -> 0 | AC12: =H16 -> 0 | AD12: =I16 -> 0 | AE12: =F33 -> 10 | AF12: =G33 -> 0 | AG12: =H33 -> 0 | AH12: =I33 -> 0 | AI12: =J33 -> 0 | AJ12: =K33 -> 0
C13: TPCC Batting First | F13: 7 | N13: =$D$5 -> 40748 | O13: =$D$7 -> Penywern Taverners | P13: =$D$9 -> Cancelled | Q13: =$D$11 -> Home | R13: =$D$13 -> 0 | S13: =$D$15 -> 0 | T13: =$D$16 -> 0 | U13: =$D$18 -> 0 | V13: =$D$19 -> 0 | W13: =$D$21 -> 0 | X13: =$D$22 -> 0 | Y13: =$H$19 -> 0 | Z13: =$H$36 -> 0 | AA13: =F17 -> 11 | AB13: =G17 -> 0 | AC13: =H17 -> 0 | AD13: =I17 -> 0 | AE13: =F34 -> 11 | AF13: =G34 -> 0 | AG13: =H34 -> 0 | AH13: =I34 -> 0 | AI13: =J34 -> 0 | AJ13: =K34 -> 0
F14: 8
C15: TPCC Team Score | D15: =SUM(H7:H17)+H19 -> 0 | F15: 9
C16: TPCC Team Wickets | D16: =SUM(I7:I17) -> 0 | F16: 10
F17: 11
C18: Opposition Team Score | D18: =SUM(K24:K34)+H36 -> 0
C19: Opposition Team Wickets | D19: =SUM(J24:J34) -> 0 | F19: Batting Extras
C21: TPCC Overs Bowled | D21: =SUM(H24:H34) -> 0
C22: Opposition Overs Bowled | F22: Bowling
F23: Position | G23: Name | H23: Overs | I23: Maidens | J23: Wickets | K23: Runs
F24: 1
F25: 2
F26: 3
F27: 4
F28: 5
F29: 6
F30: 7
F31: 8
F32: 9
F33: 10
F34: 11
F36: Bowling Extras

Sheet Henley
N2: Date | O2: Opposition | P2: Match Status | Q2: Home/Away | R2: TPCC Batting First | S2: TPCC Team Score | T2: TPCC Team Wickets | U2: Opposition Team Score | V2: Opposition Team Wickets | W2: TPCC Overs Bowled | X2: TPCC Overs Faced | Y2: Batting Extras | Z2: Bowling Extras | AA2: Batsmen Position | AB2: Batsmen Name | AC2: Batsmen Runs | AD2: Batsmen Out | AE2: Bowler Position | AF2: Bowler Name | AG2: Bowler Overs | AH2: Bowler Maidens | AI2: Bowler Wickets | AJ2: Bowler Runs
C3: Match Overview | N3: =$D$5 -> 40755 | O3: =$D$7 -> Henley | P3: =$D$9 -> Win | Q3: =$D$11 -> Home | R3: =$D$13 -> Second | S3: =$D$15 -> 244 | T3: =$D$16 -> 4 | U3: =$D$18 -> 237 | V3: =$D$19 -> 2 | W3: =$D$21 -> 45 | X3: =$D$22 -> 28 | Y3: =$H$19 -> 16 | Z3: =$H$36 -> 11 | AA3: =F7 -> 1 | AB3: =G7 -> O. Thornton | AC3: =H7 -> 29 | AD3: =I7 -> 1 | AE3: =F24 -> 1 | AF3: =G24 -> A. Eykyn | AG3: =H24 -> 7 | AH3: =I24 -> 0 | AI3: =J24 -> 0 | AJ3: =K24 -> 33
