Workbook

Sheet Pivots
A3: Date | B3: Opposition | C3: Home/Away | D3: Match Status | F3: Row Labels | G3: Count of Opposition
A4: 40650 | B4: Penn Street | C4: Home | D4: Win | F4: Win | G4: 7
A5: 40656 | B5: White Waltham | C5: Away | D5: Loss | F5: Draw | G5: 7
A6: 40664 | B6: Brightwell-Cum-Sotwell | C6: Home | D6: Win | F6: Loss | G6: 10
A7: 40670 | B7: Greys Green (1) | C7: Home | D7: Loss | F7: Cancelled | G7: 9
A8: 40677 | B8: Crazies Hill | C8: Away | D8: Draw | F8: Grand Total | G8: 33
A9: 40678 | B9: Britwell Salome | C9: Away | D9: Draw
A10: 40684 | B10: BBC Caversham | C10: Away | D10: Cancelled
A11: 40685 | B11: Checkendon | C11: Home | D11: Loss | F11: Home/Away | G11: Home | I11: Home/Away | J11: Away
A12: 40692 | B12: Odney | C12: Away | D12: Draw | L12: Home/Away | M12: Tour
A13: 40698 | B13: Harpsden (1) | C13: Home | D13: Win | F13: Row Labels | G13: Count of Opposition | I13: Row Labels | J13: Count of Opposition
A14: 40699 | B14: Warborough | C14: Away | D14: Loss | F14: Win | G14: 6 | I14: Draw | J14: 6 | L14: Row Labels | M14: Count of Opposition
A15: 40705 | B15: Invalids | C15: Home | D15: Win | F15: Draw | G15: 1 | I15: Loss | J15: 5 | L15: Win | M15: 1
A16: 40706 | B16: Stonor (1) | C16: Away | D16: Cancelled | F16: Loss | G16: 4 | I16: Cancelled | J16: 3 | L16: Loss | M16: 1
A17: 40711 | B17: Nettlebed | C17: Home | D17: Cancelled | F17: Cancelled | G17: 6 | I17: Grand Total | J17: 14 | L17: Grand Total | M17: 2
A18: 40713 | B18: Cuxham | C18: Away | D18: Draw | F18: Grand Total | G18: 17
A19: 40719 | B19: Optimists | C19: Tour | D19: Win
A20: 40720 | B20: Luxembourg | C20: Tour | D20: Loss
A21: 40725 | B21: Woodcote | C21: Home | D21: Cancelled
A22: 40727 | B22: Dorchester | C22: Away | D22: Cancelled
A23: 40734 | B23: Flycatchers | C23: Home | D23: Loss
A24: 40740 | B24: Crossbatters | C24: Home | D24: Cancelled
A25: 40741 | B25: Theberton | C25: Home | D25: Cancelled
A26: 40748 | B26: Penywern Taverners | C26: Home | D26: Cancelled
A27: 40755 | B27: Henley | C27: Home | D27: Win
A28: 40761 | B28: West Wycombe | C28: Away | D28: Draw
A29: 40769 | B29: Privateers | C29: Home | D29: Draw
A30: 40776 | B30: Bledlow Village | C30: Home | D30: Loss
... A36: 40810 | B36: Greys Green (2) | C36: Away | D36: Loss
A37: Grand Total

Sheet Fixture Summary
B2: =Pivots!A3 -> Date | C2: =Pivots!B3 -> Opposition | D2: =Pivots!C3 -> Home/Away | E2: =Pivots!D3 -> Match Status | G2: Overall Match Summary | J2: Home Fixtures
B3: =Pivots!A4 -> 40650 | C3: =Pivots!B4 -> Penn Street | D3: =Pivots!C4 -> Home | E3: =Pivots!D4 -> Win | G3: =Pivots!F4 -> Win | H3: =Pivots!G4 -> 7 | J3: =Pivots!F14 -> Win | K3: =Pivots!G14 -> 6
B4: =Pivots!A5 -> 40656 | C4: =Pivots!B5 -> White Waltham | D4: =Pivots!C5 -> Away | E4: =Pivots!D5 -> Loss | G4: =Pivots!F5 -> Draw | H4: =Pivots!G5 -> 7 | J4: =Pivots!F15 -> Draw | K4: =Pivots!G15 -> 1
B5: =Pivots!A6 -> 40664 | C5: =Pivots!B6 -> Brightwell-Cum-Sotwell | D5: =Pivots!C6 -> Home | E5: =Pivots!D6 -> Win | G5: =Pivots!F6 -> Loss | H5: =Pivots!G6 -> 10 | J5: =Pivots!F16 -> Loss | K5: =Pivots!G16 -> 4
B6: =Pivots!A7 -> 40670 | C6: =Pivots!B7 -> Greys Green (1) | D6: =Pivots!C7 -> Home | E6: =Pivots!D7 -> Loss | G6: =Pivots!F7 -> Cancelled | H6: =Pivots!G7 -> 9 | J6: =Pivots!F17 -> Cancelled | K6: =Pivots!G17 -> 6
B7: =Pivots!A8 -> 40677 | C7: =Pivots!B8 -> Crazies Hill | D7: =Pivots!C8 -> Away | E7: =Pivots!D8 -> Draw
B8: =Pivots!A9 -> 40678 | C8: =Pivots!B9 -> Britwell Salome | D8: =Pivots!C9 -> Away | E8: =Pivots!D9 -> Draw
B9: =Pivots!A10 -> 40684 | C9: =Pivots!B10 -> BBC Caversham | D9: =Pivots!C10 -> Away | E9: =Pivots!D10 -> Cancelled
B10: =Pivots!A11 -> 40685 | C10: =Pivots!B11 -> Checkendon | D10: =Pivots!C11 -> Home | E10: =Pivots!D11 -> Loss
B11: =Pivots!A12 -> 40692 | C11: =Pivots!B12 -> Odney | D11: =Pivots!C12 -> Away | E11: =Pivots!D12 -> Draw
B12: =Pivots!A13 -> 40698 | C12: =Pivots!B13 -> Harpsden (1) | D12: =Pivots!C13 -> Home | E12: =Pivots!D13 -> Win
B13: =Pivots!A14 -> 40699 | C13: =Pivots!B14 -> Warborough | D13: =Pivots!C14 -> Away | E13: =Pivots!D14 -> Loss
B14: =Pivots!A15 -> 40705 | C14: =Pivots!B15 -> Invalids | D14: =Pivots!C15 -> Home | E14: =Pivots!D15 -> Win
B15: =Pivots!A16 -> 40706 | C15: =Pivots!B16 -> Stonor (1) | D15: =Pivots!C16 -> Away | E15: =Pivots!D16 -> Cancelled
B16: =Pivots!A17 -> 40711 | C16: =Pivots!B17 -> Nettlebed | D16: =Pivots!C17 -> Home | E16: =Pivots!D17 -> Cancelled
B17: =Pivots!A18 -> 40713 | C17: =Pivots!B18 -> Cuxham | D17: =Pivots!C18 -> Away | E17: =Pivots!D18 -> Draw
B18: =Pivots!A19 -> 40719 | C18: =Pivots!B19 -> Optimists | D18: =Pivots!C19 -> Tour | E18: =Pivots!D19 -> Win
B19: =Pivots!A20 -> 40720 | C19: =Pivots!B20 -> Luxembourg | D19: =Pivots!C20 -> Tour | E19: =Pivots!D20 -> Loss | G19: Away Fixtures | J19: Tour Fixtures
B20: =Pivots!A21 -> 40725 | C20: =Pivots!B21 -> Woodcote | D20: =Pivots!C21 -> Home | E20: =Pivots!D21 -> Cancelled | G20: =Pivots!I14 -> Draw | H20: =Pivots!J14 -> 6 | J20: =Pivots!L15 -> Win | K20: =Pivots!M15 -> 1
B21: =Pivots!A22 -> 40727 | C21: =Pivots!B22 -> Dorchester | D21: =Pivots!C22 -> Away | E21: =Pivots!D22 -> Cancelled | G21: =Pivots!I15 -> Loss | H21: =Pivots!J15 -> 5 | J21: =Pivots!L16 -> Loss | K21: =Pivots!M16 -> 1
B22: =Pivots!A23 -> 40734 | C22: =Pivots!B23 -> Flycatchers | D22: =Pivots!C23 -> Home | E22: =Pivots!D23 -> Loss | G22: =Pivots!I16 -> Cancelled | H22: =Pivots!J16 -> 3
B23: =Pivots!A24 -> 40740 | C23: =Pivots!B24 -> Crossbatters | D23: =Pivots!C24 -> Home | E23: =Pivots!D24 -> Cancelled
B24: =Pivots!A25 -> 40741 | C24: =Pivots!B25 -> Theberton | D24: =Pivots!C25 -> Home | E24: =Pivots!D25 -> Cancelled
B25: =Pivots!A26 -> 40748 | C25: =Pivots!B26 -> Penywern Taverners | D25: =Pivots!C26 -> Home | E25: =Pivots!D26 -> Cancelled
B26: =Pivots!A27 -> 40755 | C26: =Pivots!B27 -> Henley | D26: =Pivots!C27 -> Home | E26: =Pivots!D27 -> Win
B27: =Pivots!A28 -> 40761 | C27: =Pivots!B28 -> West Wycombe | D27: =Pivots!C28 -> Away | E27: =Pivots!D28 -> Draw
B28: =Pivots!A29 -> 40769 | C28: =Pivots!B29 -> Privateers | D28: =Pivots!C29 -> Home | E28: =Pivots!D29 -> Draw
B29: =Pivots!A30 -> 40776 | C29: =Pivots!B30 -> Bledlow Village | D29: =Pivots!C30 -> Home | E29: =Pivots!D30 -> Loss
B30: =Pivots!A31 -> 40782 | C30: =Pivots!B31 -> Stonor (2) | D30: =Pivots!C31 -> Home | E30: =Pivots!D31 -> Cancelled
B31: =Pivots!A32 -> 40783 | C31: =Pivots!B32 -> Ipsden | D31: =Pivots!C32 -> Home | E31: =Pivots!D32 -> Win
B32: =Pivots!A33 -> 40790 | C32: =Pivots!B33 -> Middleton Stoney | D32: =Pivots!C33 -> Away | E32: =Pivots!D33 -> Loss
B33: =Pivots!A34 -> 40797 | C33: =Pivots!B34 -> Medmenham | D33: =Pivots!C34 -> Away | E33: =Pivots!D34 -> Draw
B34: =Pivots!A35 -> 40804 | C34: =Pivots!B35 -> Harpsden (2) | D34: =Pivots!C35 -> Away | E34: =Pivots!D35 -> Loss
B35: =Pivots!A36 -> 40810 | C35: =Pivots!B36 -> Greys Green (2) | D35: =Pivots!C36 -> Away | E35: =Pivots!D36 -> Loss

Sheet Batting Summary
A1: Player | B1: Runs | D1: Player | E1: Runs | Q1: Home/Away | R1: (All)
A2: J. Hunt | B2: 523 | D2: J. Hunt | E2: 523 | U2: Home Batting Average by Position
A3: J. Hancock | B3: 454 | D3: J. Hancock | E3: 454 | S3: Values
A4: S. Beardall | B4: 338 | D4: S. Beardall | E4: 338 | Q4: Batsmen Name | R4: Bowler Position | S4: Sum of Batsmen Runs | T4: Sum of Batsmen Out | U4: Player | V4: Position | W4: Average
A5: O. Thornton | B5: 276 | D5: O. Thornton | E5: 276 | Q5: A. Bignell | R5: 2 | S5: 0 | T5: 1 | U5: =IF(Q5="",U4,Q5) -> A. Bignell | V5: =R5 -> 2 | W5: =S5/T5 -> 0
A6: R. Gunn | B6: 223 | D6: R. Gunn | E6: 223 | R6: 5 | S6: 0 | T6: 1 | U6: =IF(Q6="",U5,Q6) -> A. Bignell | V6: =R6 -> 5 | W6: =S6/T6 -> 0
A7: T. Wade | B7: 188 | D7: T. Wade | E7: 188 | Q7: A. Eykyn | R7: 7 | S7: 22 | T7: 1 | U7: =IF(Q7="",U6,Q7) -> A. Eykyn | V7: =R7 -> 7 | W7: =S7/T7 -> 22
A8: C. Beardall | B8: 187 | D8: C. Beardall | E8: 187 | Q8: A. Harvey-Thompson | R8: 10 | S8: 5 | T8: 2 | U8: =IF(Q8="",U7,Q8) -> A. Harvey-Thompson | V8: =R8 -> 10 | W8: =S8/T8 -> 2.5
A9: H. Beardall | B9: 168 | D9: H. Beardall | E9: 168 | R9: 11 | S9: 2 | T9: 1 | U9: =IF(Q9="",U8,Q9) -> A. Harvey-Thompson | V9: =R9 -> 11 | W9: =S9/T9 -> 2
A10: C. Simon | B10: 132 | D10: C. Simon | E10: 132 | Q10: B. Bazell | R10: 1 | S10: 24 | T10: 0 | U10: =IF(Q10="",U9,Q10) -> B. Bazell | V10: =R10 -> 1 | W10: =S10/T10 -> #DIV/0!
A11: B. Bazell | B11: 127 | D11: B. Bazell | E11: 127 | R11: 6 | S11: 61 | T11: 1 | U11: =IF(Q11="",U10,Q11) -> B. Bazell | V11: =R11 -> 6 | W11: =S11/T11 -> 61
A12: P. Briffett | B12: 119 | D12: P. Briffett | E12: 119 | R12: 7 | S12: 20 | T12: 0 | U12: =IF(Q12="",U11,Q12) -> B. Bazell | V12: =R12 -> 7 | W12: =S12/T12 -> #DIV/0!
A13: J. Leefe | B13: 72 | D13: Other | E13: 845 | R13: 9 | S13: 22 | T13: 1 | U13: =IF(Q13="",U12,Q13) -> B. Bazell | V13: =R13 -> 9 | W13: =S13/T13 -> 22
A14: P. De Zulueta | B14: 70 | R14: 10 | S14: 0 | T14: 0 | U14: =IF(Q14="",U13,Q14) -> B. Bazell | V14: =R14 -> 10 | W14: =S14/T14 -> #DIV/0!
A15: R. Dickie | B15: 66 | R15: 11 | S15: 0 | T15: 1 | U15: =IF(Q15="",U14,Q15) -> B. Bazell | V15: =R15 -> 11 | W15: =S15/T15 -> 0
A16: O. Brett | B16: 61 | Q16: B. Bucknell | R16: 9 | S16: 0 | T16: 1 | U16: =IF(Q16="",U15,Q16) -> B. Bucknell | V16: =R16 -> 9 | W16: =S16/T16 -> 0
A17: N. Henry | B17: 56 | Q17: B. Bucknill | R17: 9 | S17: 1 | T17: 1 | U17: =IF(Q17="",U16,Q17) -> B. Bucknill | V17: =R17 -> 9 | W17: =S17/T17 -> 1
A18: S. Halfhead | B18: 54 | Q18: B. West | R18: 10 | S18: 12 | T18: 2 | U18: =IF(Q18="",U17,Q18) -> B. West | V18: =R18 -> 10 | W18: =S18/T18 -> 6
A19: S. Bucknill | B19: 42 | Q19: C. Beardall | R19: 2 | S19: 119 | T19: 0 | U19: =IF(Q19="",U18,Q19) -> C. Beardall | V19: =R19 -> 2 | W19: =S19/T19 -> #DIV/0!
A20: J. Phillips | B20: 40 | R20: 3 | S20: 68 | T20: 2 | U20: =IF(Q20="",U19,Q20) -> C. Beardall | V20: =R20 -> 3 | W20: =S20/T20 -> 34
A21: M. Kiernan | B21: 40 | Q21: C. Henry | R21: 8 | S21: 0 | T21: 2 | U21: =IF(Q21="",U20,Q21) -> C. Henry | V21: =R21 -> 8 | W21: =S21/T21 -> 0
A22: T. White | B22: 39 | Q22: C. Seigal | R22: 4 | S22: 0 | T22: 1 | U22: =IF(Q22="",U21,Q22) -> C. Seigal | V22: =R22 -> 4 | W22: =S22/T22 -> 0
A23: J. Moberly | B23: 37 | R23: 7 | S23: 4 | T23: 1 | U23: =IF(Q23="",U22,Q23) -> C. Seigal | V23: =R23 -> 7 | W23: =S23/T23 -> 4
A24: J. Moser | B24: 37 | R24: 10 | S24: 4 | T24: 1 | U24: =IF(Q24="",U23,Q24) -> C. Seigal | V24: =R24 -> 10 | W24: =S24/T24 -> 4
A25: D. Mackintosh | B25: 28 | Q25: C. Simon | R25: 1 | S25: 55 | T25: 7 | U25: =IF(Q25="",U24,Q25) -> C. Simon | V25: =R25 -> 1 | W25: =S25/T25 -> 7.8571429
A26: T. Farley | B26: 28 | R26: 2 | S26: 11 | T26: 1 | U26: =IF(Q26="",U25,Q26) -> C. Simon | V26: =R26 -> 2 | W26: =S26/T26 -> 11
A27: D. Stockings | B27: 27 | R27: 3 | S27: 46 | T27: 0 | U27: =IF(Q27="",U26,Q27) -> C. Simon | V27: =R27 -> 3 | W27: =S27/T27 -> #DIV/0!
A28: N. Runkell | B28: 27 | R28: 6 | S28: 19 | T28: 1 | U28: =IF(Q28="",U27,Q28) -> C. Simon | V28: =R28 -> 6 | W28: =S28/T28 -> 19
A29: A. Eykyn | B29: 22 | R29: 8 | S29: 1 | T29: 1 | U29: =IF(Q29="",U28,Q29) -> C. Simon | V29: =R29 -> 8 | W29: =S29/T29 -> 1
A30: D. Hyman | B30: 14 | Q30: D. Hyman | R30: 6 | S30: 14 | T30: 1 | U30: =IF(Q30="",U29,Q30) -> D. Hyman | V30: =R30 -> 6 | W30: =S30/T30 -> 14
A31: W. Strickland | B31: 13 | Q31: D. Mackintosh | R31: 4 | S31: 28 | T31: 0 | U31: =IF(Q31="",U30,Q31) -> D. Mackintosh | V31: =R31 -> 4 | W31: =S31/T31 -> #DIV/0!
A32: B. West | B32: 12 | Q32: D. Stockings | R32: 5 | S32: 17 | T32: 1 | U32: =IF(Q32="",U31,Q32) -> D. Stockings | V32: =R32 -> 5 | W32: =S32/T32 -> 17
A33: T. Foot | B33: 12 | R33: 7 | S33: 10 | T33: 1 | U33: =IF(Q33="",U32,Q33) -> D. Stockings | V33: =R33 -> 7 | W33: =S33/T33 -> 10
A34: S. Bucknell | B34: 11 | R34: 8 | S34: 0 | T34: 1 | U34: =IF(Q34="",U33,Q34) -> D. Stockings | V34: =R34 -> 8 | W34: =S34/T34 -> 0
A35: C. Seigal | B35: 8 | Q35: H. Beardall | R35: 1 | S35: 35 | T35: 2 | U35: =IF(Q35="",U34,Q35) -> H. Beardall | V35: =R35 -> 1 | W35: =S35/T35 -> 17.5
A36: T. Fost | B36: 8 | R36: 2 | S36: 12 | T36: 1 | U36: =IF(Q36="",U35,Q36) -> H. Beardall | V36: =R36 -> 2 | W36: =S36/T36 -> 12
A37: A. Harvey-Thompson | B37: 7 | R37: 3 | S37: 31 | T37: 0 | U37: =IF(Q37="",U36,Q37) -> H. Beardall | V37: =R37 -> 3 | W37: =S37/T37 -> #DIV/0!
A38: J. Thornton | B38: 4 | R38: 5 | S38: 39 | T38: 1 | U38: =IF(Q38="",U37,Q38) -> H. Beardall | V38: =R38 -> 5 | W38: =S38/T38 -> 39
A39: R. Hunt | B39: 4 | R39: 6 | S39: 16 | T39: 2 | U39: =IF(Q39="",U38,Q39) -> H. Beardall | V39: =R39 -> 6 | W39: =S39/T39 -> 8
A40: S. Flakelar | B40: 3 | R40: 7 | S40: 35 | T40: 2 | U40: =IF(Q40="",U39,Q40) -> H. Beardall | V40: =R40 -> 7 | W40: =S40/T40 -> 17.5
...

Sheet Bowling Summary
A1: Bowler | B1: Wickets
A2: N. Henry | B2: 22 | D2: N. Henry | E2: 22
A3: A. Harvey-Thompson | B3: 17 | D3: A. Harvey-Thompson | E3: 17
A4: T. White | B4: 17 | D4: T. White | E4: 17
A5: J. Hunt | B5: 16 | D5: J. Hunt | E5: 16
A6: N. Runkell | B6: 16 | D6: N. Runkell | E6: 16
A7: J. Hancock | B7: 13 | D7: J. Hancock | E7: 13
A8: O. Thornton | B8: 12 | D8: O. Thornton | E8: 12
A9: J. Leefe | B9: 11 | D9: J. Leefe | E9: 11
A10: P. Briffett | B10: 9 | D10: P. Briffett | E10: 9
A11: J. Rogers | B11: 8 | D11: J. Rogers | E11: 8
A12: S. Beardall | B12: 7 | D12: S. Beardall | E12: 7
A13: A. Bignell | B13: 5 | D13: A. Bignell | E13: 5
... A17: T. Farley | B17: 3 | D17: Other | E17: 21
A18: A. Eykyn | B18: 2
A19: B. West | B19: 2
A20: C. Beardall | B20: 2
A21: T. Foot | B21: 2
A22: T. Wade | B22: 2
A23: B. Bazell | B23: 1
A24: B. Bucknell | B24: 1
A25: D. Mackintosh | B25: 1
A26: D. Stockings | B26: 1
A27: H. Beardall | B27: 1
A28: J. Thornton | B28: 1
A29: M. Kiernan | B29: 1
... A38: W. Strickland | B38: 0

Sheet Combined Data
A1: Ctrl+q
A4: Date | B4: Opposition | C4: Match Status | D4: Home/Away | E4: TPCC Batting First | F4: TPCC Team Score | G4: TPCC Team Wickets | H4: Opposition Team Score | I4: Opposition Team Wickets | J4: TPCC Overs Bowled | K4: TPCC Overs Faced | L4: Batting Extras | M4: Bowling Extras | N4: Batsmen Position | O4: Batsmen Name | P4: Batsmen Runs | Q4: Batsmen Out | R4: Bowler Position | S4: Bowler Name | T4: Bowler Overs | U4: Bowler Maidens | V4: Bowler Wickets | W4: Bowler Runs
A5: 40650 | B5: Penn Street | C5: Win | D5: Home | E5: First | F5: 84 | G5: 3 | H5: 83 | I5: 9 | J5: 30.5 | K5: 18 | L5: 10 | M5: 6 | N5: 1 | O5: H. Beardall | P5: 32 | Q5: 1 | R5: 1 | S5: J. Hunt | T5: 5 | U5: 2 | V5: 1 | W5: 13
A6: 40650 | B6: Penn Street | C6: Win | D6: Home | E6: First | F6: 84 | G6: 3 | H6: 83 | I6: 9 | J6: 30.5 | K6: 18 | L6: 10 | M6: 6 | N6: 2 | O6: S. Bucknill | P6: 34 | Q6: 0 | R6: 2 | S6: J. Leefe | T6: 7 | U6: 3 | V6: 2 | W6: 13
A7: 40650 | B7: Penn Street | C7: Win | D7: Home | E7: First | F7: 84 | G7: 3 | H7: 83 | I7: 9 | J7: 30.5 | K7: 18 | L7: 10 | M7: 6 | N7: 3 | O7: P. Briffett | P7: 8 | Q7: 1 | R7: 3 | S7: N. Henry | T7: 6 | U7: 2 | V7: 4 | W7: 11
A8: 40650 | B8: Penn Street | C8: Win | D8: Home | E8: First | F8: 84 | G8: 3 | H8: 83 | I8: 9 | J8: 30.5 | K8: 18 | L8: 10 | M8: 6 | N8: 4 | O8: S. Beardall | P8: 0 | Q8: 1 | R8: 4 | S8: J. Moser | T8: 6 | U8: 0 | V8: 0 | W8: 30
A9: 40650 | B9: Penn Street | C9: Win | D9: Home | E9: First | F9: 84 | G9: 3 | H9: 83 | I9: 9 | J9: 30.5 | K9: 18 | L9: 10 | M9: 6 | N9: 5 | O9: J. Moser | P9: 0 | Q9: 0 | R9: 5 | S9: A. Harvey-Thompson | T9: 5 | U9: 3 | V9: 0 | W9: 7
A10: 40650 | B10: Penn Street | C10: Win | D10: Home | E10: First | F10: 84 | G10: 3 | H10: 83 | I10: 9 | J10: 30.5 | K10: 18 | L10: 10 | M10: 6 | N10: 6 | O10: 0 | P10: 0 | Q10: 0 | R10: 6 | S10: T. White | T10: 1.5 | U10: 0 | V10: 2 | W10: 3
A11: 40650 | B11: Penn Street | C11: Win | D11: Home | E11: First | F11: 84 | G11: 3 | H11: 83 | I11: 9 | J11: 30.5 | K11: 18 | L11: 10 | M11: 6 | N11: 7 | O11: 0 | P11: 0 | Q11: 0 | R11: 7 | S11: 0 | T11: 0 | U11: 0 | V11: 0 | W11: 0
A12: 40650 | B12: Penn Street | C12: Win | D12: Home | E12: First | F12: 84 | G12: 3 | H12: 83 | I12: 9 | J12: 30.5 | K12: 18 | L12: 10 | M12: 6 | N12: 8 | O12: 0 | P12: 0 | Q12: 0 | R12: 8 | S12: 0 | T12: 0 | U12: 0 | V12: 0 | W12: 0
A13: 40650 | B13: Penn Street | C13: Win | D13: Home | E13: First | F13: 84 | G13: 3 | H13: 83 | I13: 9 | J13: 30.5 | K13: 18 | L13: 10 | M13: 6 | N13: 9 | O13: 0 | P13: 0 | Q13: 0 | R13: 9 | S13: 0 | T13: 0 | U13: 0 | V13: 0 | W13: 0
A14: 40650 | B14: Penn Street | C14: Win | D14: Home | E14: First | F14: 84 | G14: 3 | H14: 83 | I14: 9 | J14: 30.5 | K14: 18 | L14: 10 | M14: 6 | N14: 10 | O14: 0 | P14: 0 | Q14: 0 | R14: 10 | S14: 0 | T14: 0 | U14: 0 | V14: 0 | W14: 0
A15: 40650 | B15: Penn Street | C15: Win | D15: Home | E15: First | F15: 84 | G15: 3 | H15: 83 | I15: 9 | J15: 30.5 | K15: 18 | L15: 10 | M15: 6 | N15: 11 | O15: 0 | P15: 0 | Q15: 0 | R15: 11 | S15: 0 | T15: 0 | U15: 0 | V15: 0 | W15: 0
A16: 40656 | B16: White Waltham | C16: Loss | D16: Away | E16: Second | F16: 68 | G16: 10 | H16: 192 | I16: 10 | J16: 36 | K16: 22 | L16: 19 | M16: 0 | N16: 1 | O16: R. Dickie | P16: 17 | Q16: 1 | R16: 1 | S16: J. Leefe | T16: 7 | U16: 0 | V16: 0 | W16: 50
A17: 40656 | B17: White Waltham | C17: Loss | D17: Away | E17: Second | F17: 68 | G17: 10 | H17: 192 | I17: 10 | J17: 36 | K17: 22 | L17: 19 | M17: 0 | N17: 2 | O17: J. Hunt | P17: 0 | Q17: 1 | R17: 2 | S17: T. White | T17: 9 | U17: 1 | V17: 0 | W17: 49
A18: 40656 | B18: White Waltham | C18: Loss | D18: Away | E18: Second | F18: 68 | G18: 10 | H18: 192 | I18: 10 | J18: 36 | K18: 22 | L18: 19 | M18: 0 | N18: 3 | O18: S. Halfhead | P18: 0 | Q18: 1 | R18: 3 | S18: J. Hunt | T18: 5 | U18: 1 | V18: 1 | W18: 18
A19: 40656 | B19: White Waltham | C19: Loss | D19: Away | E19: Second | F19: 68 | G19: 10 | H19: 192 | I19: 10 | J19: 36 | K19: 22 | L19: 19 | M19: 0 | N19: 4 | O19: C. Seigal | P19: 0 | Q19: 1 | R19: 4 | S19: N. Runkell | T19: 9 | U19: 1 | V19: 6 | W19: 44
A20: 40656 | B20: White Waltham | C20: Loss | D20: Away | E20: Second | F20: 68 | G20: 10 | H20: 192 | I20: 10 | J20: 36 | K20: 22 | L20: 19 | M20: 0 | N20: 5 | O20: P. Briffett | P20: 0 | Q20: 1 | R20: 5 | S20: N. Henry | T20: 6 | U20: 0 | V20: 1 | W20: 31
A21: 40656 | B21: White Waltham | C21: Loss | D21: Away | E21: Second | F21: 68 | G21: 10 | H21: 192 | I21: 10 | J21: 36 | K21: 22 | L21: 19 | M21: 0 | N21: 6 | O21: J. Leefe | P21: 13 | Q21: 1 | R21: 6 | S21: Run Out | T21: 0 | U21: 0 | V21: 1 | W21: 0
A22: 40656 | B22: White Waltham | C22: Loss | D22: Away | E22: Second | F22: 68 | G22: 10 | H22: 192 | I22: 10 | J22: 36 | K22: 22 | L22: 19 | M22: 0 | N22: 7 | O22: N. Henry | P22: 13 | Q22: 1 | R22: 7 | S22: Retired | T22: 0 | U22: 0 | V22: 1 | W22: 0
A23: 40656 | B23: White Waltham | C23: Loss | D23: Away | E23: Second | F23: 68 | G23: 10 | H23: 192 | I23: 10 | J23: 36 | K23: 22 | L23: 19 | M23: 0 | N23: 8 | O23: R. Hunt | P23: 4 | Q23: 1 | R23: 8 | S23: 0 | T23: 0 | U23: 0 | V23: 0 | W23: 0
A24: 40656 | B24: White Waltham | C24: Loss | D24: Away | E24: Second | F24: 68 | G24: 10 | H24: 192 | I24: 10 | J24: 36 | K24: 22 | L24: 19 | M24: 0 | N24: 9 | O24: T. White | P24: 0 | Q24: 1 | R24: 9 | S24: 0 | T24: 0 | U24: 0 | V24: 0 | W24: 0
A25: 40656 | B25: White Waltham | C25: Loss | D25: Away | E25: Second | F25: 68 | G25: 10 | H25: 192 | I25: 10 | J25: 36 | K25: 22 | L25: 19 | M25: 0 | N25: 10 | O25: Ra. Dickie | P25: 0 | Q25: 0 | R25: 10 | S25: 0 | T25: 0 | U25: 0 | V25: 0 | W25: 0
A26: 40656 | B26: White Waltham | C26: Loss | D26: Away | E26: Second | F26: 68 | G26: 10 | H26: 192 | I26: 10 | J26: 36 | K26: 22 | L26: 19 | M26: 0 | N26: 11 | O26: N. Runkell | P26: 2 | Q26: 1 | R26: 11 | S26: 0 | T26: 0 | U26: 0 | V26: 0 | W26: 0
A27: 40664 | B27: Brightwell-Cum-Sotwell | C27: Win | D27: Home | E27: Second | F27: 135 | G27: 2 | H27: 132 | I27: 7 | J27: 48 | K27: 26 | L27: 7 | M27: 3 | N27: 1 | O27: S. Beardall | P27: 84 | Q27: 0 | R27: 1 | S27: J. Hunt | T27: 8 | U27: 1 | V27: 1 | W27: 13
A28: 40664 | B28: Brightwell-Cum-Sotwell | C28: Win | D28: Home | E28: Second | F28: 135 | G28: 2 | H28: 132 | I28: 7 | J28: 48 | K28: 26 | L28: 7 | M28: 3 | N28: 2 | O28: P. Briffett | P28: 16 | Q28: 1 | R28: 2 | S28: N. Henry | T28: 7 | U28: 2 | V28: 1 | W28: 6
A29: 40664 | B29: Brightwell-Cum-Sotwell | C29: Win | D29: Home | E29: Second | F29: 135 | G29: 2 | H29: 132 | I29: 7 | J29: 48 | K29: 26 | L29: 7 | M29: 3 | N29: 3 | O29: R. Dickie | P29: 19 | Q29: 1 | R29: 3 | S29: T. White | T29: 6 | U29: 1 | V29: 2 | W29: 6
A30: 40664 | B30: Brightwell-Cum-Sotwell | C30: Win | D30: Home | E30: Second | F30: 135 | G30: 2 | H30: 132 | I30: 7 | J30: 48 | K30: 26 | L30: 7 | M30: 3 | N30: 4 | O30: J. Hunt | P30: 9 | Q30: 0 | R30: 4 | S30: J. Thornton | T30: 5 | U30: 3 | V30: 0 | W30: 4
A31: 40664 | B31: Brightwell-Cum-Sotwell | C31: Win | D31: Home | E31: Second | F31: 135 | G31: 2 | H31: 132 | I31: 7 | J31: 48 | K31: 26 | L31: 7 | M31: 3 | N31: 5 | O31: 0 | P31: 0 | Q31: 0 | R31: 5 | S31: J. Rogers | T31: 11 | U31: 2 | V31: 2 | W31: 24
A32: 40664 | B32: Brightwell-Cum-Sotwell | C32: Win | D32: Home | E32: Second | F32: 135 | G32: 2 | H32: 132 | I32: 7 | J32: 48 | K32: 26 | L32: 7 | M32: 3 | N32: 6 | O32: 0 | P32: 0 | Q32: 0 | R32: 6 | S32: R. Dickie | T32: 3 | U32: 0 | V32: 0 | W32: 26
A33: 40664 | B33: Brightwell-Cum-Sotwell | C33: Win | D33: Home | E33: Second | F33: 135 | G33: 2 | H33: 132 | I33: 7 | J33: 48 | K33: 26 | L33: 7 | M33: 3 | N33: 7 | O33: 0 | P33: 0 | Q33: 0 | R33: 7 | S33: P. Briffett | T33: 4 | U33: 0 | V33: 1 | W33: 32
A34: 40664 | B34: Brightwell-Cum-Sotwell | C34: Win | D34: Home | E34: Second | F34: 135 | G34: 2 | H34: 132 | I34: 7 | J34: 48 | K34: 26 | L34: 7 | M34: 3 | N34: 8 | O34: 0 | P34: 0 | Q34: 0 | R34: 8 | S34: C. Rogers | T34: 3 | U34: 0 | V34: 0 | W34: 12
A35: 40664 | B35: Brightwell-Cum-Sotwell | C35: Win | D35: Home | E35: Second | F35: 135 | G35: 2 | H35: 132 | I35: 7 | J35: 48 | K35: 26 | L35: 7 | M35: 3 | N35: 9 | O35: 0 | P35: 0 | Q35: 0 | R35: 9 | S35: S. Beardall | T35: 1 | U35: 0 | V35: 0 | W35: 6
A36: 40664 | B36: Brightwell-Cum-Sotwell | C36: Win | D36: Home | E36: Second | F36: 135 | G36: 2 | H36: 132 | I36: 7 | J36: 48 | K36: 26 | L36: 7 | M36: 3 | N36: 10 | O36: 0 | P36: 0 | Q36: 0 | R36: 10 | S36: 0 | T36: 0 | U36: 0 | V36: 0 | W36: 0
A37: 40664 | B37: Brightwell-Cum-Sotwell | C37: Win | D37: Home | E37: Second | F37: 135 | G37: 2 | H37: 132 | I37: 7 | J37: 48 | K37: 26 | L37: 7 | M37: 3 | N37: 11 | O37: 0 | P37: 0 | Q37: 0 | R37: 11 | S37: 0 | T37: 0 | U37: 0 | V37: 0 | W37: 0
A38: 40670 | B38: Greys Green (1) | C38: Loss | D38: Home | E38: Second | F38: 86 | G38: 10 | H38: 122 | I38: 7 | J38: 48 | K38: 28 | L38: 7 | M38: 3 | N38: 1 | O38: C. Simon | P38: 0 | Q38: 1 | R38: 1 | S38: J. Leefe | T38: 8 | U38: 1 | V38: 0 | W38: 17
A39: 40670 | B39: Greys Green (1) | C39: Loss | D39: Home | E39: Second | F39: 86 | G39: 10 | H39: 122 | I39: 7 | J39: 48 | K39: 28 | L39: 7 | M39: 3 | N39: 2 | O39: J. Hunt | P39: 19 | Q39: 1 | R39: 2 | S39: J. Hunt | T39: 5 | U39: 3 | V39: 1 | W39: 2
A40: 40670 | B40: Greys Green (1) | C40: Loss | D40: Home | E40: Second | F40: 86 | G40: 10 | H40: 122 | I40: 7 | J40: 48 | K40: 28 | L40: 7 | M40: 3 | N40: 3 | O40: R. Gunn | P40: 0 | Q40: 1 | R40: 3 | S40: N. Henry | T40: 17 | U40: 5 | V40: 4 | W40: 39
A41: 40670 | B41: Greys Green (1) | C41: Loss | D41: Home | E41: Second | F41: 86 | G41: 10 | H41: 122 | I41: 7 | J41: 48 | K41: 28 | L41: 7 | M41: 3 | N41: 4 | O41: P. Briffett | P41: 15 | Q41: 1 | R41: 4 | S41: T. White | T41: 14 | U41: 1 | V41: 1 | W41: 37
A42: 40670 | B42: Greys Green (1) | C42: Loss | D42: Home | E42: Second | F42: 86 | G42: 10 | H42: 122 | I42: 7 | J42: 48 | K42: 28 | L42: 7 | M42: 3 | N42: 5 | O42: D. Stockings | P42: 17 | Q42: 1 | R42: 5 | S42: S. Beardall | T42: 4 | U42: 0 | V42: 1 | W42: 24
...

Sheet Penn Street
N2: Date | O2: Opposition | P2: Match Status | Q2: Home/Away | R2: TPCC Batting First | S2: TPCC Team Score | T2: TPCC Team Wickets | U2: Opposition Team Score | V2: Opposition Team Wickets | W2: TPCC Overs Bowled | X2: TPCC Overs Faced | Y2: Batting Extras | Z2: Bowling Extras | AA2: Batsmen Position | AB2: Batsmen Name | AC2: Batsmen Runs | AD2: Batsmen Out | AE2: Bowler Position | AF2: Bowler Name | AG2: Bowler Overs | AH2: Bowler Maidens | AI2: Bowler Wickets | AJ2: Bowler Runs
C3: Match Overview | N3: =$D$5 -> 40650 | O3: =$D$7 -> Penn Street | P3: =$D$9 -> Win | Q3: =$D$11 -> Home | R3: =$D$13 -> First | S3: =$D$15 -> 84 | T3: =$D$16 -> 3 | U3: =$D$18 -> 83 | V3: =$D$19 -> 9 | W3: =$D$21 -> 30.5 | X3: =$D$22 -> 18 | Y3: =$H$19 -> 10 | Z3: =$H$36 -> 6 | AA3: =F7 -> 1 | AB3: =G7 -> H. Beardall | AC3: =H7 -> 32 | AD3: =I7 -> 1 | AE3: =F24 -> 1 | AF3: =G24 -> J. Hunt | AG3: =H24 -> 5 | AH3: =I24 -> 2 | AI3: =J24 -> 1 | AJ3: =K24 -> 13
N4: =$D$5 -> 40650 | O4: =$D$7 -> Penn Street | P4: =$D$9 -> Win | Q4: =$D$11 -> Home | R4: =$D$13 -> First | S4: =$D$15 -> 84 | T4: =$D$16 -> 3 | U4: =$D$18 -> 83 | V4: =$D$19 -> 9 | W4: =$D$21 -> 30.5 | X4: =$D$22 -> 18 | Y4: =$H$19 -> 10 | Z4: =$H$36 -> 6 | AA4: =F8 -> 2 | AB4: =G8 -> S. Bucknill | AC4: =H8 -> 34 | AD4: =I8 -> 0 | AE4: =F25 -> 2 | AF4: =G25 -> J. Leefe | AG4: =H25 -> 7 | AH4: =I25 -> 3 | AI4: =J25 -> 2 | AJ4: =K25 -> 13
C5: Date | D5: 40650 | F5: Batting | N5: =$D$5 -> 40650 | O5: =$D$7 -> Penn Street | P5: =$D$9 -> Win | Q5: =$D$11 -> Home | R5: =$D$13 -> First | S5: =$D$15 -> 84 | T5: =$D$16 -> 3 | U5: =$D$18 -> 83 | V5: =$D$19 -> 9 | W5: =$D$21 -> 30.5 | X5: =$D$22 -> 18 | Y5: =$H$19 -> 10 | Z5: =$H$36 -> 6 | AA5: =F9 -> 3 | AB5: =G9 -> P. Briffett | AC5: =H9 -> 8 | AD5: =I9 -> 1 | AE5: =F26 -> 3 | AF5: =G26 -> N. Henry | AG5: =H26 -> 6 | AH5: =I26 -> 2 | AI5: =J26 -> 4 | AJ5: =K26 -> 11
F6: Position | G6: Name | H6: Runs | I6: Out | N6: =$D$5 -> 40650 | O6: =$D$7 -> Penn Street | P6: =$D$9 -> Win | Q6: =$D$11 -> Home | R6: =$D$13 -> First | S6: =$D$15 -> 84 | T6: =$D$16 -> 3 | U6: =$D$18 -> 83 | V6: =$D$19 -> 9 | W6: =$D$21 -> 30.5 | X6: =$D$22 -> 18 | Y6: =$H$19 -> 10 | Z6: =$H$36 -> 6 | AA6: =F10 -> 4 | AB6: =G10 -> S. Beardall | AC6: =H10 -> 0 | AD6: =I10 -> 1 | AE6: =F27 -> 4 | AF6: =G27 -> J. Moser | AG6: =H27 -> 6 | AH6: =I27 -> 0 | AI6: =J27 -> 0 | AJ6: =K27 -> 30
C7: Opposition | D7: Penn Street | F7: 1 | G7: H. Beardall | H7: 32 | I7: 1 | N7: =$D$5 -> 40650 | O7: =$D$7 -> Penn Street | P7: =$D$9 -> Win | Q7: =$D$11 -> Home | R7: =$D$13 -> First | S7: =$D$15 -> 84 | T7: =$D$16 -> 3 | U7: =$D$18 -> 83 | V7: =$D$19 -> 9 | W7: =$D$21 -> 30.5 | X7: =$D$22 -> 18 | Y7: =$H$19 -> 10 | Z7: =$H$36 -> 6 | AA7: =F11 -> 5 | AB7: =G11 -> J. Moser | AC7: =H11 -> 0 | AD7: =I11 -> 0 | AE7: =F28 -> 5 | AF7: =G28 -> A. Harvey-Thompson | AG7: =H28 -> 5 | AH7: =I28 -> 3 | AI7: =J28 -> 0 | AJ7: =K28 -> 7
F8: 2 | G8: S. Bucknill | H8: 34 | I8: 0 | N8: =$D$5 -> 40650 | O8: =$D$7 -> Penn Street | P8: =$D$9 -> Win | Q8: =$D$11 -> Home | R8: =$D$13 -> First | S8: =$D$15 -> 84 | T8: =$D$16 -> 3 | U8: =$D$18 -> 83 | V8: =$D$19 -> 9 | W8: =$D$21 -> 30.5 | X8: =$D$22 -> 18 | Y8: =$H$19 -> 10 | Z8: =$H$36 -> 6 | AA8: =F12 -> 6 | AB8: =G12 -> 0 | AC8: =H12 -> 0 | AD8: =I12 -> 0 | AE8: =F29 -> 6 | AF8: =G29 -> T. White | AG8: =H29 -> 1.5 | AH8: =I29 -> 0 | AI8: =J29 -> 2 | AJ8: =K29 -> 3
C9: Match Status | D9: Win | F9: 3 | G9: P. Briffett | H9: 8 | I9: 1 | N9: =$D$5 -> 40650 | O9: =$D$7 -> Penn Street | P9: =$D$9 -> Win | Q9: =$D$11 -> Home | R9: =$D$13 -> First | S9: =$D$15 -> 84 | T9: =$D$16 -> 3 | U9: =$D$18 -> 83 | V9: =$D$19 -> 9 | W9: =$D$21 -> 30.5 | X9: =$D$22 -> 18 | Y9: =$H$19 -> 10 | Z9: =$H$36 -> 6 | AA9: =F13 -> 7 | AB9: =G13 -> 0 | AC9: =H13 -> 0 | AD9: =I13 -> 0 | AE9: =F30 -> 7 | AF9: =G30 -> 0 | AG9: =H30 -> 0 | AH9: =I30 -> 0 | AI9: =J30 -> 0 | AJ9: =K30 -> 0
F10: 4 | G10: S. Beardall | H10: 0 | I10: 1 | N10: =$D$5 -> 40650 | O10: =$D$7 -> Penn Street | P10: =$D$9 -> Win | Q10: =$D$11 -> Home | R10: =$D$13 -> First | S10: =$D$15 -> 84 | T10: =$D$16 -> 3 | U10: =$D$18 -> 83 | V10: =$D$19 -> 9 | W10: =$D$21 -> 30.5 | X10: =$D$22 -> 18 | Y10: =$H$19 -> 10 | Z10: =$H$36 -> 6 | AA10: =F14 -> 8 | AB10: =G14 -> 0 | AC10: =H14 -> 0 | AD10: =I14 -> 0 | AE10: =F31 -> 8 | AF10: =G31 -> 0 | AG10: =H31 -> 0 | AH10: =I31 -> 0 | AI10: =J31 -> 0 | AJ10: =K31 -> 0
C11: Home / Away | D11: Home | F11: 5 | G11: J. Moser | H11: 0 | I11: 0 | N11: =$D$5 -> 40650 | O11: =$D$7 -> Penn Street | P11: =$D$9 -> Win | Q11: =$D$11 -> Home | R11: =$D$13 -> First | S11: =$D$15 -> 84 | T11: =$D$16 -> 3 | U11: =$D$18 -> 83 | V11: =$D$19 -> 9 | W11: =$D$21 -> 30.5 | X11: =$D$22 -> 18 | Y11: =$H$19 -> 10 | Z11: =$H$36 -> 6 | AA11: =F15 -> 9 | AB11: =G15 -> 0 | AC11: =H15 -> 0 | AD11: =I15 -> 0 | AE11: =F32 -> 9 | AF11: =G32 -> 0 | AG11: =H32 -> 0 | AH11: =I32 -> 0 | AI11: =J32 -> 0 | AJ11: =K32 -> 0
F12: 6 | N12: =$D$5 -> 40650 | O12: =$D$7 -> Penn Street | P12: =$D$9 -> Win | Q12: =$D$11 -> Home | R12: =$D$13 -> First | S12: =$D$15 -> 84 | T12: =$D$16 -> 3 | U12: =$D$18 -> 83 | V12: =$D$19 -> 9 | W12: =$D$21 -> 30.5 | X12: =$D$22 -> 18 | Y12: =$H$19 -> 10 | Z12: =$H$36 -> 6 | AA12: =F16 -> 10 | AB12: =G16 -> 0 | AC12: =H16 -> 0 | AD12: =I16 -> 0 | AE12: =F33 -> 10 | AF12: =G33 -> 0 | AG12: =H33 -> 0 | AH12: =I33 -> 0 | AI12: =J33 -> 0 | AJ12: =K33 -> 0
C13: TPCC Batting First | D13: First | F13: 7 | N13: =$D$5 -> 40650 | O13: =$D$7 -> Penn Street | P13: =$D$9 -> Win | Q13: =$D$11 -> Home | R13: =$D$13 -> First | S13: =$D$15 -> 84 | T13: =$D$16 -> 3 | U13: =$D$18 -> 83 | V13: =$D$19 -> 9 | W13: =$D$21 -> 30.5 | X13: =$D$22 -> 18 | Y13: =$H$19 -> 10 | Z13: =$H$36 -> 6 | AA13: =F17 -> 11 | AB13: =G17 -> 0 | AC13: =H17 -> 0 | AD13: =I17 -> 0 | AE13: =F34 -> 11 | AF13: =G34 -> 0 | AG13: =H34 -> 0 | AH13: =I34 -> 0 | AI13: =J34 -> 0 | AJ13: =K34 -> 0
F14: 8
C15: TPCC Team Score | D15: =SUM(H7:H17)+H19 -> 84 | F15: 9
C16: TPCC Team Wickets | D16: =SUM(I7:I17) -> 3 | F16: 10
F17: 11
C18: Opposition Team Score | D18: =SUM(K24:K34)+H36 -> 83
C19: Opposition Team Wickets | D19: =SUM(J24:J34) -> 9 | F19: Total Extras | H19: 10
C21: TPCC Overs Bowled | D21: =SUM(H24:H34) -> 30.5
C22: Opposition Overs Bowled | D22: 18 | F22: Bowling
F23: Position | G23: Name | H23: Overs | I23: Maidens | J23: Wickets | K23: Runs
F24: 1 | G24: J. Hunt | H24: 5 | I24: 2 | J24: 1 | K24: 13
F25: 2 | G25: J. Leefe | H25: 7 | I25: 3 | J25: 2 | K25: 13
F26: 3 | G26: N. Henry | H26: 6 | I26: 2 | J26: 4 | K26: 11
F27: 4 | G27: J. Moser | H27: 6 | I27: 0 | J27: 0 | K27: 30
F28: 5 | G28: A. Harvey-Thompson | H28: 5 | I28: 3 | J28: 0 | K28: 7
F29: 6 | G29: T. White | H29: 1.5 | I29: 0 | J29: 2 | K29: 3
F30: 7
F31: 8
F32: 9
F33: 10
F34: 11
F36: Bowling Extras | H36: 6

Sheet White Waltham
N2: Date | O2: Opposition | P2: Match Status | Q2: Home/Away | R2: TPCC Batting First | S2: TPCC Team Score | T2: TPCC Team Wickets | U2: Opposition Team Score | V2: Opposition Team Wickets | W2: TPCC Overs Bowled | X2: TPCC Overs Faced | Y2: Batting Extras | Z2: Bowling Extras | AA2: Batsmen Position | AB2: Batsmen Name | AC2: Batsmen Runs | AD2: Batsmen Out | AE2: Bowler Position | AF2: Bowler Name | AG2: Bowler Overs | AH2: Bowler Maidens | AI2: Bowler Wickets | AJ2: Bowler Runs
C3: Match Overview | N3: =$D$5 -> 40656 | O3: =$D$7 -> White Waltham | P3: =$D$9 -> Loss | Q3: =$D$11 -> Away | R3: =$D$13 -> Second | S3: =$D$15 -> 68 | T3: =$D$16 -> 10 | U3: =$D$18 -> 192 | V3: =$D$19 -> 10 | W3: =$D$21 -> 36 | X3: =$D$22 -> 22 | Y3: =$H$19 -> 19 | Z3: =$H$36 -> 0 | AA3: =F7 -> 1 | AB3: =G7 -> R. Dickie | AC3: =H7 -> 17 | AD3: =I7 -> 1 | AE3: =F24 -> 1 | AF3: =G24 -> J. Leefe | AG3: =H24 -> 7 | AH3: =I24 -> 0 | AI3: =J24 -> 0 | AJ3: =K24 -> 50
N4: =$D$5 -> 40656 | O4: =$D$7 -> White Waltham | P4: =$D$9 -> Loss | Q4: =$D$11 -> Away | R4: =$D$13 -> Second | S4: =$D$15 -> 68 | T4: =$D$16 -> 10 | U4: =$D$18 -> 192 | V4: =$D$19 -> 10 | W4: =$D$21 -> 36 | X4: =$D$22 -> 22 | Y4: =$H$19 -> 19 | Z4: =$H$36 -> 0 | AA4: =F8 -> 2 | AB4: =G8 -> J. Hunt | AC4: =H8 -> 0 | AD4: =I8 -> 1 | AE4: =F25 -> 2 | AF4: =G25 -> T. White | AG4: =H25 -> 9 | AH4: =I25 -> 1 | AI4: =J25 -> 0 | AJ4: =K25 -> 49
C5: Date | D5: 40656 | F5: Batting | N5: =$D$5 -> 40656 | O5: =$D$7 -> White Waltham | P5: =$D$9 -> Loss | Q5: =$D$11 -> Away | R5: =$D$13 -> Second | S5: =$D$15 -> 68 | T5: =$D$16 -> 10 | U5: =$D$18 -> 192 | V5: =$D$19 -> 10 | W5: =$D$21 -> 36 | X5: =$D$22 -> 22 | Y5: =$H$19 -> 19 | Z5: =$H$36 -> 0 | AA5: =F9 -> 3 | AB5: =G9 -> S. Halfhead | AC5: =H9 -> 0 | AD5: =I9 -> 1 | AE5: =F26 -> 3 | AF5: =G26 -> J. Hunt | AG5: =H26 -> 5 | AH5: =I26 -> 1 | AI5: =J26 -> 1 | AJ5: =K26 -> 18
F6: Position | G6: Name | H6: Runs | I6: Out | N6: =$D$5 -> 40656 | O6: =$D$7 -> White Waltham | P6: =$D$9 -> Loss | Q6: =$D$11 -> Away | R6: =$D$13 -> Second | S6: =$D$15 -> 68 | T6: =$D$16 -> 10 | U6: =$D$18 -> 192 | V6: =$D$19 -> 10 | W6: =$D$21 -> 36 | X6: =$D$22 -> 22 | Y6: =$H$19 -> 19 | Z6: =$H$36 -> 0 | AA6: =F10 -> 4 | AB6: =G10 -> C. Seigal | AC6: =H10 -> 0 | AD6: =I10 -> 1 | AE6: =F27 -> 4 | AF6: =G27 -> N. Runkell | AG6: =H27 -> 9 | AH6: =I27 -> 1 | AI6: =J27 -> 6 | AJ6: =K27 -> 44
C7: Opposition | D7: White Waltham | F7: 1 | G7: R. Dickie | H7: 17 | I7: 1 | N7: =$D$5 -> 40656 | O7: =$D$7 -> White Waltham | P7: =$D$9 -> Loss | Q7: =$D$11 -> Away | R7: =$D$13 -> Second | S7: =$D$15 -> 68 | T7: =$D$16 -> 10 | U7: =$D$18 -> 192 | V7: =$D$19 -> 10 | W7: =$D$21 -> 36 | X7: =$D$22 -> 22 | Y7: =$H$19 -> 19 | Z7: =$H$36 -> 0 | AA7: =F11 -> 5 | AB7: =G11 -> P. Briffett | AC7: =H11 -> 0 | AD7: =I11 -> 1 | AE7: =F28 -> 5 | AF7: =G28 -> N. Henry | AG7: =H28 -> 6 | AH7: =I28 -> 0 | AI7: =J28 -> 1 | AJ7: =K28 -> 31
F8: 2 | G8: J. Hunt | H8: 0 | I8: 1 | N8: =$D$5 -> 40656 | O8: =$D$7 -> White Waltham | P8: =$D$9 -> Loss | Q8: =$D$11 -> Away | R8: =$D$13 -> Second | S8: =$D$15 -> 68 | T8: =$D$16 -> 10 | U8: =$D$18 -> 192 | V8: =$D$19 -> 10 | W8: =$D$21 -> 36 | X8: =$D$22 -> 22 | Y8: =$H$19 -> 19 | Z8: =$H$36 -> 0 | AA8: =F12 -> 6 | AB8: =G12 -> J. Leefe | AC8: =H12 -> 13 | AD8: =I12 -> 1 | AE8: =F29 -> 6 | AF8: =G29 -> Run Out | AG8: =H29 -> 0 | AH8: =I29 -> 0 | AI8: =J29 -> 1 | AJ8: =K29 -> 0
C9: Match Status | D9: Loss | F9: 3 | G9: S. Halfhead | H9: 0 | I9: 1 | N9: =$D$5 -> 40656 | O9: =$D$7 -> White Waltham | P9: =$D$9 -> Loss | Q9: =$D$11 -> Away | R9: =$D$13 -> Second | S9: =$D$15 -> 68 | T9: =$D$16 -> 10 | U9: =$D$18 -> 192 | V9: =$D$19 -> 10 | W9: =$D$21 -> 36 | X9: =$D$22 -> 22 | Y9: =$H$19 -> 19 | Z9: =$H$36 -> 0 | AA9: =F13 -> 7 | AB9: =G13 -> N. Henry | AC9: =H13 -> 13 | AD9: =I13 -> 1 | AE9: =F30 -> 7 | AF9: =G30 -> Retired | AG9: =H30 -> 0 | AH9: =I30 -> 0 | AI9: =J30 -> 1 | AJ9: =K30 -> 0
F10: 4 | G10: C. Seigal | H10: 0 | I10: 1 | N10: =$D$5 -> 40656 | O10: =$D$7 -> White Waltham | P10: =$D$9 -> Loss | Q10: =$D$11 -> Away | R10: =$D$13 -> Second | S10: =$D$15 -> 68 | T10: =$D$16 -> 10 | U10: =$D$18 -> 192 | V10: =$D$19 -> 10 | W10: =$D$21 -> 36 | X10: =$D$22 -> 22 | Y10: =$H$19 -> 19 | Z10: =$H$36 -> 0 | AA10: =F14 -> 8 | AB10: =G14 -> R. Hunt | AC10: =H14 -> 4 | AD10: =I14 -> 1 | AE10: =F31 -> 8 | AF10: =G31 -> 0 | AG10: =H31 -> 0 | AH10: =I31 -> 0 | AI10: =J31 -> 0 | AJ10: =K31 -> 0
C11: Home / Away | D11: Away | F11: 5 | G11: P. Briffett | H11: 0 | I11: 1 | N11: =$D$5 -> 40656 | O11: =$D$7 -> White Waltham | P11: =$D$9 -> Loss | Q11: =$D$11 -> Away | R11: =$D$13 -> Second | S11: =$D$15 -> 68 | T11: =$D$16 -> 10 | U11: =$D$18 -> 192 | V11: =$D$19 -> 10 | W11: =$D$21 -> 36 | X11: =$D$22 -> 22 | Y11: =$H$19 -> 19 | Z11: =$H$36 -> 0 | AA11: =F15 -> 9 | AB11: =G15 -> T. White | AC11: =H15 -> 0 | AD11: =I15 -> 1 | AE11: =F32 -> 9 | AF11: =G32 -> 0 | AG11: =H32 -> 0 | AH11: =I32 -> 0 | AI11: =J32 -> 0 | AJ11: =K32 -> 0
F12: 6 | G12: J. Leefe | H12: 13 | I12: 1 | N12: =$D$5 -> 40656 | O12: =$D$7 -> White Waltham | P12: =$D$9 -> Loss | Q12: =$D$11 -> Away | R12: =$D$13 -> Second | S12: =$D$15 -> 68 | T12: =$D$16 -> 10 | U12: =$D$18 -> 192 | V12: =$D$19 -> 10 | W12: =$D$21 -> 36 | X12: =$D$22 -> 22 | Y12: =$H$19 -> 19 | Z12: =$H$36 -> 0 | AA12: =F16 -> 10 | AB12: =G16 -> Ra. Dickie | AC12: =H16 -> 0 | AD12: =I16 -> 0 | AE12: =F33 -> 10 | AF12: =G33 -> 0 | AG12: =H33 -> 0 | AH12: =I33 -> 0 | AI12: =J33 -> 0 | AJ12: =K33 -> 0
C13: TPCC Batting First | D13: Second | F13: 7 | G13: N. Henry | H13: 13 | I13: 1 | N13: =$D$5 -> 40656 | O13: =$D$7 -> White Waltham | P13: =$D$9 -> Loss | Q13: =$D$11 -> Away | R13: =$D$13 -> Second | S13: =$D$15 -> 68 | T13: =$D$16 -> 10 | U13: =$D$18 -> 192 | V13: =$D$19 -> 10 | W13: =$D$21 -> 36 | X13: =$D$22 -> 22 | Y13: =$H$19 -> 19 | Z13: =$H$36 -> 0 | AA13: =F17 -> 11 | AB13: =G17 -> N. Runkell | AC13: =H17 -> 2 | AD13: =I17 -> 1 | AE13: =F34 -> 11 | AF13: =G34 -> 0 | AG13: =H34 -> 0 | AH13: =I34 -> 0 | AI13: =J34 -> 0 | AJ13: =K34 -> 0
F14: 8 | G14: R. Hunt | H14: 4 | I14: 1
C15: TPCC Team Score | D15: =SUM(H7:H17)+H19 -> 68 | F15: 9 | G15: T. White | H15: 0 | I15: 1
C16: TPCC Team Wickets | D16: =SUM(I7:I17) -> 10 | F16: 10 | G16: Ra. Dickie | H16: 0 | I16: 0
F17: 11 | G17: N. Runkell | H17: 2 | I17: 1
C18: Opposition Team Score | D18: =SUM(K24:K34)+H36 -> 192
C19: Opposition Team Wickets | D19: =SUM(J24:J34) -> 10 | F19: Batting Extras | H19: 19
C21: TPCC Overs Bowled | D21: =SUM(H24:H34) -> 36
C22: Opposition Overs Bowled | D22: 22 | F22: Bowling
F23: Position | G23: Name | H23: Overs | I23: Maidens | J23: Wickets | K23: Runs
F24: 1 | G24: J. Leefe | H24: 7 | I24: 0 | J24: 0 | K24: 50
F25: 2 | G25: T. White | H25: 9 | I25: 1 | J25: 0 | K25: 49
F26: 3 | G26: J. Hunt | H26: 5 | I26: 1 | J26: 1 | K26: 18
F27: 4 | G27: N. Runkell | H27: 9 | I27: 1 | J27: 6 | K27: 44
F28: 5 | G28: N. Henry | H28: 6 | I28: 0 | J28: 1 | K28: 31
F29: 6 | G29: Run Out | J29: 1
F30: 7 | G30: Retired | J30: 1
F31: 8
F32: 9
F33: 10
F34: 11
F36: Bowling Extras | H36: 0

Sheet Brightwell-Cum-Sotwell
N2: Date | O2: Opposition | P2: Match Status | Q2: Home/Away | R2: TPCC Batting First | S2: TPCC Team Score | T2: TPCC Team Wickets | U2: Opposition Team Score | V2: Opposition Team Wickets | W2: TPCC Overs Bowled | X2: TPCC Overs Faced | Y2: Batting Extras | Z2: Bowling Extras | AA2: Batsmen Position | AB2: Batsmen Name | AC2: Batsmen Runs | AD2: Batsmen Out | AE2: Bowler Position | AF2: Bowler Name | AG2: Bowler Overs | AH2: Bowler Maidens | AI2: Bowler Wickets | AJ2: Bowler Runs
C3: Match Overview | N3: =$D$5 -> 40664 | O3: =$D$7 -> Brightwell-Cum-Sotwell | P3: =$D$9 -> Win | Q3: =$D$11 -> Home | R3: =$D$13 -> Second | S3: =$D$15 -> 135 | T3: =$D$16 -> 2 | U3: =$D$18 -> 132 | V3: =$D$19 -> 7 | W3: =$D$21 -> 48 | X3: =$D$22 -> 26 | Y3: =$H$19 -> 7 | Z3: =$H$36 -> 3 | AA3: =F7 -> 1 | AB3: =G7 -> S. Beardall | AC3: =H7 -> 84 | AD3: =I7 -> 0 | AE3: =F24 -> 1 | AF3: =G24 -> J. Hunt | AG3: =H24 -> 8 | AH3: =I24 -> 1 | AI3: =J24 -> 1 | AJ3: =K24 -> 13
N4: =$D$5 -> 40664 | O4: =$D$7 -> Brightwell-Cum-Sotwell | P4: =$D$9 -> Win | Q4: =$D$11 -> Home | R4: =$D$13 -> Second | S4: =$D$15 -> 135 | T4: =$D$16 -> 2 | U4: =$D$18 -> 132 | V4: =$D$19 -> 7 | W4: =$D$21 -> 48 | X4: =$D$22 -> 26 | Y4: =$H$19 -> 7 | Z4: =$H$36 -> 3 | AA4: =F8 -> 2 | AB4: =G8 -> P. Briffett | AC4: =H8 -> 16 | AD4: =I8 -> 1 | AE4: =F25 -> 2 | AF4: =G25 -> N. Henry | AG4: =H25 -> 7 | AH4: =I25 -> 2 | AI4: =J25 -> 1 | AJ4: =K25 -> 6
C5: Date | D5: 40664 | F5: Batting | N5: =$D$5 -> 40664 | O5: =$D$7 -> Brightwell-Cum-Sotwell | P5: =$D$9 -> Win | Q5: =$D$11 -> Home | R5: =$D$13 -> Second | S5: =$D$15 -> 135 | T5: =$D$16 -> 2 | U5: =$D$18 -> 132 | V5: =$D$19 -> 7 | W5: =$D$21 -> 48 | X5: =$D$22 -> 26 | Y5: =$H$19 -> 7 | Z5: =$H$36 -> 3 | AA5: =F9 -> 3 | AB5: =G9 -> R. Dickie | AC5: =H9 -> 19 | AD5: =I9 -> 1 | AE5: =F26 -> 3 | AF5: =G26 -> T. White | AG5: =H26 -> 6 | AH5: =I26 -> 1 | AI5: =J26 -> 2 | AJ5: =K26 -> 6
F6: Position | G6: Name | H6: Runs | I6: Out | N6: =$D$5 -> 40664 | O6: =$D$7 -> Brightwell-Cum-Sotwell | P6: =$D$9 -> Win | Q6: =$D$11 -> Home | R6: =$D$13 -> Second | S6: =$D$15 -> 135 | T6: =$D$16 -> 2 | U6: =$D$18 -> 132 | V6: =$D$19 -> 7 | W6: =$D$21 -> 48 | X6: =$D$22 -> 26 | Y6: =$H$19 -> 7 | Z6: =$H$36 -> 3 | AA6: =F10 -> 4 | AB6: =G10 -> J. Hunt | AC6: =H10 -> 9 | AD6: =I10 -> 0 | AE6: =F27 -> 4 | AF6: =G27 -> J. Thornton | AG6: =H27 -> 5 | AH6: =I27 -> 3 | AI6: =J27 -> 0 | AJ6: =K27 -> 4
C7: Opposition | D7: Brightwell-Cum-Sotwell | F7: 1 | G7: S. Beardall | H7: 84 | I7: 0 | N7: =$D$5 -> 40664 | O7: =$D$7 -> Brightwell-Cum-Sotwell | P7: =$D$9 -> Win | Q7: =$D$11 -> Home | R7: =$D$13 -> Second | S7: =$D$15 -> 135 | T7: =$D$16 -> 2 | U7: =$D$18 -> 132 | V7: =$D$19 -> 7 | W7: =$D$21 -> 48 | X7: =$D$22 -> 26 | Y7: =$H$19 -> 7 | Z7: =$H$36 -> 3 | AA7: =F11 -> 5 | AB7: =G11 -> 0 | AC7: =H11 -> 0 | AD7: =I11 -> 0 | AE7: =F28 -> 5 | AF7: =G28 -> J. Rogers | AG7: =H28 -> 11 | AH7: =I28 -> 2 | AI7: =J28 -> 2 | AJ7: =K28 -> 24
F8: 2 | G8: P. Briffett | H8: 16 | I8: 1 | N8: =$D$5 -> 40664 | O8: =$D$7 -> Brightwell-Cum-Sotwell | P8: =$D$9 -> Win | Q8: =$D$11 -> Home | R8: =$D$13 -> Second | S8: =$D$15 -> 135 | T8: =$D$16 -> 2 | U8: =$D$18 -> 132 | V8: =$D$19 -> 7 | W8: =$D$21 -> 48 | X8: =$D$22 -> 26 | Y8: =$H$19 -> 7 | Z8: =$H$36 -> 3 | AA8: =F12 -> 6 | AB8: =G12 -> 0 | AC8: =H12 -> 0 | AD8: =I12 -> 0 | AE8: =F29 -> 6 | AF8: =G29 -> R. Dickie | AG8: =H29 -> 3 | AH8: =I29 -> 0 | AI8: =J29 -> 0 | AJ8: =K29 -> 26
C9: Match Status | D9: Win | F9: 3 | G9: R. Dickie | H9: 19 | I9: 1 | N9: =$D$5 -> 40664 | O9: =$D$7 -> Brightwell-Cum-Sotwell | P9: =$D$9 -> Win | Q9: =$D$11 -> Home | R9: =$D$13 -> Second | S9: =$D$15 -> 135 | T9: =$D$16 -> 2 | U9: =$D$18 -> 132 | V9: =$D$19 -> 7 | W9: =$D$21 -> 48 | X9: =$D$22 -> 26 | Y9: =$H$19 -> 7 | Z9: =$H$36 -> 3 | AA9: =F13 -> 7 | AB9: =G13 -> 0 | AC9: =H13 -> 0 | AD9: =I13 -> 0 | AE9: =F30 -> 7 | AF9: =G30 -> P. Briffett | AG9: =H30 -> 4 | AH9: =I30 -> 0 | AI9: =J30 -> 1 | AJ9: =K30 -> 32
F10: 4 | G10: J. Hunt | H10: 9 | I10: 0 | N10: =$D$5 -> 40664 | O10: =$D$7 -> Brightwell-Cum-Sotwell | P10: =$D$9 -> Win | Q10: =$D$11 -> Home | R10: =$D$13 -> Second | S10: =$D$15 -> 135 | T10: =$D$16 -> 2 | U10: =$D$18 -> 132 | V10: =$D$19 -> 7 | W10: =$D$21 -> 48 | X10: =$D$22 -> 26 | Y10: =$H$19 -> 7 | Z10: =$H$36 -> 3 | AA10: =F14 -> 8 | AB10: =G14 -> 0 | AC10: =H14 -> 0 | AD10: =I14 -> 0 | AE10: =F31 -> 8 | AF10: =G31 -> C. Rogers | AG10: =H31 -> 3 | AH10: =I31 -> 0 | AI10: =J31 -> 0 | AJ10: =K31 -> 12
C11: Home / Away | D11: Home | F11: 5 | N11: =$D$5 -> 40664 | O11: =$D$7 -> Brightwell-Cum-Sotwell | P11: =$D$9 -> Win | Q11: =$D$11 -> Home | R11: =$D$13 -> Second | S11: =$D$15 -> 135 | T11: =$D$16 -> 2 | U11: =$D$18 -> 132 | V11: =$D$19 -> 7 | W11: =$D$21 -> 48 | X11: =$D$22 -> 26 | Y11: =$H$19 -> 7 | Z11: =$H$36 -> 3 | AA11: =F15 -> 9 | AB11: =G15 -> 0 | AC11: =H15 -> 0 | AD11: =I15 -> 0 | AE11: =F32 -> 9 | AF11: =G32 -> S. Beardall | AG11: =H32 -> 1 | AH11: =I32 -> 0 | AI11: =J32 -> 0 | AJ11: =K32 -> 6
F12: 6 | N12: =$D$5 -> 40664 | O12: =$D$7 -> Brightwell-Cum-Sotwell | P12: =$D$9 -> Win | Q12: =$D$11 -> Home | R12: =$D$13 -> Second | S12: =$D$15 -> 135 | T12: =$D$16 -> 2 | U12: =$D$18 -> 132 | V12: =$D$19 -> 7 | W12: =$D$21 -> 48 | X12: =$D$22 -> 26 | Y12: =$H$19 -> 7 | Z12: =$H$36 -> 3 | AA12: =F16 -> 10 | AB12: =G16 -> 0 | AC12: =H16 -> 0 | AD12: =I16 -> 0 | AE12: =F33 -> 10 | AF12: =G33 -> 0 | AG12: =H33 -> 0 | AH12: =I33 -> 0 | AI12: =J33 -> 0 | AJ12: =K33 -> 0
C13: TPCC Batting First | D13: Second | F13: 7 | N13: =$D$5 -> 40664 | O13: =$D$7 -> Brightwell-Cum-Sotwell | P13: =$D$9 -> Win | Q13: =$D$11 -> Home | R13: =$D$13 -> Second | S13: =$D$15 -> 135 | T13: =$D$16 -> 2 | U13: =$D$18 -> 132 | V13: =$D$19 -> 7 | W13: =$D$21 -> 48 | X13: =$D$22 -> 26 | Y13: =$H$19 -> 7 | Z13: =$H$36 -> 3 | AA13: =F17 -> 11 | AB13: =G17 -> 0 | AC13: =H17 -> 0 | AD13: =I17 -> 0 | AE13: =F34 -> 11 | AF13: =G34 -> 0 | AG13: =H34 -> 0 | AH13: =I34 -> 0 | AI13: =J34 -> 0 | AJ13: =K34 -> 0
F14: 8
C15: TPCC Team Score | D15: =SUM(H7:H17)+H19 -> 135 | F15: 9
C16: TPCC Team Wickets | D16: =SUM(I7:I17) -> 2 | F16: 10
F17: 11
C18: Opposition Team Score | D18: =SUM(K24:K34)+H36 -> 132
C19: Opposition Team Wickets | D19: =SUM(J24:J34) -> 7 | F19: Batting Extras | H19: 7
C21: TPCC Overs Bowled | D21: =SUM(H24:H34) -> 48
C22: Opposition Overs Bowled | D22: 26 | F22: Bowling
F23: Position | G23: Name | H23: Overs | I23: Maidens | J23: Wickets | K23: Runs
F24: 1 | G24: J. Hunt | H24: 8 | I24: 1 | J24: 1 | K24: 13
F25: 2 | G25: N. Henry | H25: 7 | I25: 2 | J25: 1 | K25: 6
F26: 3 | G26: T. White | H26: 6 | I26: 1 | J26: 2 | K26: 6
F27: 4 | G27: J. Thornton | H27: 5 | I27: 3 | J27: 0 | K27: 4
F28: 5 | G28: J. Rogers | H28: 11 | I28: 2 | J28: 2 | K28: 24
F29: 6 | G29: R. Dickie | H29: 3 | I29: 0 | J29: 0 | K29: 26
F30: 7 | G30: P. Briffett | H30: 4 | I30: 0 | J30: 1 | K30: 32
F31: 8 | G31: C. Rogers | H31: 3 | I31: 0 | J31: 0 | K31: 12
F32: 9 | G32: S. Beardall | H32: 1 | I32: 0 | J32: 0 | K32: 6
F33: 10
F34: 11
F36: Bowling Extras | H36: 3

Sheet Greys Green (1)
N2: Date | O2: Opposition | P2: Match Status | Q2: Home/Away | R2: TPCC Batting First | S2: TPCC Team Score | T2: TPCC Team Wickets | U2: Opposition Team Score | V2: Opposition Team Wickets | W2: TPCC Overs Bowled | X2: TPCC Overs Faced | Y2: Batting Extras | Z2: Bowling Extras | AA2: Batsmen Position | AB2: Batsmen Name | AC2: Batsmen Runs | AD2: Batsmen Out | AE2: Bowler Position | AF2: Bowler Name | AG2: Bowler Overs | AH2: Bowler Maidens | AI2: Bowler Wickets | AJ2: Bowler Runs
C3: Match Overview | N3: =$D$5 -> 40670 | O3: =$D$7 -> Greys Green (1) | P3: =$D$9 -> Loss | Q3: =$D$11 -> Home | R3: =$D$13 -> Second | S3: =$D$15 -> 86 | T3: =$D$16 -> 10 | U3: =$D$18 -> 122 | V3: =$D$19 -> 7 | W3: =$D$21 -> 48 | X3: =$D$22 -> 28 | Y3: =$H$19 -> 7 | Z3: =$H$36 -> 3 | AA3: =F7 -> 1 | AB3: =G7 -> C. Simon | AC3: =H7 -> 0 | AD3: =I7 -> 1 | AE3: =F24 -> 1 | AF3: =G24 -> J. Leefe | AG3: =H24 -> 8 | AH3: =I24 -> 1 | AI3: =J24 -> 0 | AJ3: =K24 -> 17
N4: =$D$5 -> 40670 | O4: =$D$7 -> Greys Green (1) | P4: =$D$9 -> Loss | Q4: =$D$11 -> Home | R4: =$D$13 -> Second | S4: =$D$15 -> 86 | T4: =$D$16 -> 10 | U4: =$D$18 -> 122 | V4: =$D$19 -> 7 | W4: =$D$21 -> 48 | X4: =$D$22 -> 28 | Y4: =$H$19 -> 7 | Z4: =$H$36 -> 3 | AA4: =F8 -> 2 | AB4: =G8 -> J. Hunt | AC4: =H8 -> 19 | AD4: =I8 -> 1 | AE4: =F25 -> 2 | AF4: =G25 -> J. Hunt | AG4: =H25 -> 5 | AH4: =I25 -> 3 | AI4: =J25 -> 1 | AJ4: =K25 -> 2
C5: Date | D5: 40670 | F5: Batting | N5: =$D$5 -> 40670 | O5: =$D$7 -> Greys Green (1) | P5: =$D$9 -> Loss | Q5: =$D$11 -> Home | R5: =$D$13 -> Second | S5: =$D$15 -> 86 | T5: =$D$16 -> 10 | U5: =$D$18 -> 122 | V5: =$D$19 -> 7 | W5: =$D$21 -> 48 | X5: =$D$22 -> 28 | Y5: =$H$19 -> 7 | Z5: =$H$36 -> 3 | AA5: =F9 -> 3 | AB5: =G9 -> R. Gunn | AC5: =H9 -> 0 | AD5: =I9 -> 1 | AE5: =F26 -> 3 | AF5: =G26 -> N. Henry | AG5: =H26 -> 17 | AH5: =I26 -> 5 | AI5: =J26 -> 4 | AJ5: =K26 -> 39
F6: Position | G6: Name | H6: Runs | I6: Out | N6: =$D$5 -> 40670 | O6: =$D$7 -> Greys Green (1) | P6: =$D$9 -> Loss | Q6: =$D$11 -> Home | R6: =$D$13 -> Second | S6: =$D$15 -> 86 | T6: =$D$16 -> 10 | U6: =$D$18 -> 122 | V6: =$D$19 -> 7 | W6: =$D$21 -> 48 | X6: =$D$22 -> 28 | Y6: =$H$19 -> 7 | Z6: =$H$36 -> 3 | AA6: =F10 -> 4 | AB6: =G10 -> P. Briffett | AC6: =H10 -> 15 | AD6: =I10 -> 1 | AE6: =F27 -> 4 | AF6: =G27 -> T. White | AG6: =H27 -> 14 | AH6: =I27 -> 1 | AI6: =J27 -> 1 | AJ6: =K27 -> 37
C7: Opposition | D7: Greys Green (1) | F7: 1 | G7: C. Simon | H7: 0 | I7: 1 | N7: =$D$5 -> 40670 | O7: =$D$7 -> Greys Green (1) | P7: =$D$9 -> Loss | Q7: =$D$11 -> Home | R7: =$D$13 -> Second | S7: =$D$15 -> 86 | T7: =$D$16 -> 10 | U7: =$D$18 -> 122 | V7: =$D$19 -> 7 | W7: =$D$21 -> 48 | X7: =$D$22 -> 28 | Y7: =$H$19 -> 7 | Z7: =$H$36 -> 3 | AA7: =F11 -> 5 | AB7: =G11 -> D. Stockings | AC7: =H11 -> 17 | AD7: =I11 -> 1 | AE7: =F28 -> 5 | AF7: =G28 -> S. Beardall | AG7: =H28 -> 4 | AH7: =I28 -> 0 | AI7: =J28 -> 1 | AJ7: =K28 -> 24
F8: 2 | G8: J. Hunt | H8: 19 | I8: 1 | N8: =$D$5 -> 40670 | O8: =$D$7 -> Greys Green (1) | P8: =$D$9 -> Loss | Q8: =$D$11 -> Home | R8: =$D$13 -> Second | S8: =$D$15 -> 86 | T8: =$D$16 -> 10 | U8: =$D$18 -> 122 | V8: =$D$19 -> 7 | W8: =$D$21 -> 48 | X8: =$D$22 -> 28 | Y8: =$H$19 -> 7 | Z8: =$H$36 -> 3 | AA8: =F12 -> 6 | AB8: =G12 -> H. Beardall | AC8: =H12 -> 13 | AD8: =I12 -> 1 | AE8: =F29 -> 6 | AF8: =G29 -> 0 | AG8: =H29 -> 0 | AH8: =I29 -> 0 | AI8: =J29 -> 0 | AJ8: =K29 -> 0
C9: Match Status | D9: Loss | F9: 3 | G9: R. Gunn | H9: 0 | I9: 1 | N9: =$D$5 -> 40670 | O9: =$D$7 -> Greys Green (1) | P9: =$D$9 -> Loss | Q9: =$D$11 -> Home | R9: =$D$13 -> Second | S9: =$D$15 -> 86 | T9: =$D$16 -> 10 | U9: =$D$18 -> 122 | V9: =$D$19 -> 7 | W9: =$D$21 -> 48 | X9: =$D$22 -> 28 | Y9: =$H$19 -> 7 | Z9: =$H$36 -> 3 | AA9: =F13 -> 7 | AB9: =G13 -> S. Beardall | AC9: =H13 -> 6 | AD9: =I13 -> 1 | AE9: =F30 -> 7 | AF9: =G30 -> 0 | AG9: =H30 -> 0 | AH9: =I30 -> 0 | AI9: =J30 -> 0 | AJ9: =K30 -> 0
F10: 4 | G10: P. Briffett | H10: 15 | I10: 1 | N10: =$D$5 -> 40670 | O10: =$D$7 -> Greys Green (1) | P10: =$D$9 -> Loss | Q10: =$D$11 -> Home | R10: =$D$13 -> Second | S10: =$D$15 -> 86 | T10: =$D$16 -> 10 | U10: =$D$18 -> 122 | V10: =$D$19 -> 7 | W10: =$D$21 -> 48 | X10: =$D$22 -> 28 | Y10: =$H$19 -> 7 | Z10: =$H$36 -> 3 | AA10: =F14 -> 8 | AB10: =G14 -> J. Leefe | AC10: =H14 -> 3 | AD10: =I14 -> 1 | AE10: =F31 -> 8 | AF10: =G31 -> 0 | AG10: =H31 -> 0 | AH10: =I31 -> 0 | AI10: =J31 -> 0 | AJ10: =K31 -> 0
C11: Home / Away | D11: Home | F11: 5 | G11: D. Stockings | H11: 17 | I11: 1 | N11: =$D$5 -> 40670 | O11: =$D$7 -> Greys Green (1) | P11: =$D$9 -> Loss | Q11: =$D$11 -> Home | R11: =$D$13 -> Second | S11: =$D$15 -> 86 | T11: =$D$16 -> 10 | U11: =$D$18 -> 122 | V11: =$D$19 -> 7 | W11: =$D$21 -> 48 | X11: =$D$22 -> 28 | Y11: =$H$19 -> 7 | Z11: =$H$36 -> 3 | AA11: =F15 -> 9 | AB11: =G15 -> N. Henry | AC11: =H15 -> 6 | AD11: =I15 -> 1 | AE11: =F32 -> 9 | AF11: =G32 -> 0 | AG11: =H32 -> 0 | AH11: =I32 -> 0 | AI11: =J32 -> 0 | AJ11: =K32 -> 0
F12: 6 | G12: H. Beardall | H12: 13 | I12: 1 | N12: =$D$5 -> 40670 | O12: =$D$7 -> Greys Green (1) | P12: =$D$9 -> Loss | Q12: =$D$11 -> Home | R12: =$D$13 -> Second | S12: =$D$15 -> 86 | T12: =$D$16 -> 10 | U12: =$D$18 -> 122 | V12: =$D$19 -> 7 | W12: =$D$21 -> 48 | X12: =$D$22 -> 28 | Y12: =$H$19 -> 7 | Z12: =$H$36 -> 3 | AA12: =F16 -> 10 | AB12: =G16 -> T. White | AC12: =H16 -> 0 | AD12: =I16 -> 0 | AE12: =F33 -> 10 | AF12: =G33 -> 0 | AG12: =H33 -> 0 | AH12: =I33 -> 0 | AI12: =J33 -> 0 | AJ12: =K33 -> 0
C13: TPCC Batting First | D13: Second | F13: 7 | G13: S. Beardall | H13: 6 | I13: 1 | N13: =$D$5 -> 40670 | O13: =$D$7 -> Greys Green (1) | P13: =$D$9 -> Loss | Q13: =$D$11 -> Home | R13: =$D$13 -> Second | S13: =$D$15 -> 86 | T13: =$D$16 -> 10 | U13: =$D$18 -> 122 | V13: =$D$19 -> 7 | W13: =$D$21 -> 48 | X13: =$D$22 -> 28 | Y13: =$H$19 -> 7 | Z13: =$H$36 -> 3 | AA13: =F17 -> 11 | AB13: =G17 -> B. Bazell | AC13: =H17 -> 0 | AD13: =I17 -> 1 | AE13: =F34 -> 11 | AF13: =G34 -> 0 | AG13: =H34 -> 0 | AH13: =I34 -> 0 | AI13: =J34 -> 0 | AJ13: =K34 -> 0
F14: 8 | G14: J. Leefe | H14: 3 | I14: 1
C15: TPCC Team Score | D15: =SUM(H7:H17)+H19 -> 86 | F15: 9 | G15: N. Henry | H15: 6 | I15: 1
C16: TPCC Team Wickets | D16: =SUM(I7:I17) -> 10 | F16: 10 | G16: T. White | H16: 0 | I16: 0
F17: 11 | G17: B. Bazell | H17: 0 | I17: 1
C18: Opposition Team Score | D18: =SUM(K24:K34)+H36 -> 122
C19: Opposition Team Wickets | D19: =SUM(J24:J34) -> 7 | F19: Batting Extras | H19: 7
C21: TPCC Overs Bowled | D21: =SUM(H24:H34) -> 48
C22: Opposition Overs Bowled | D22: 28 | F22: Bowling
F23: Position | G23: Name | H23: Overs | I23: Maidens | J23: Wickets | K23: Runs
F24: 1 | G24: J. Leefe | H24: 8 | I24: 1 | J24: 0 | K24: 17
F25: 2 | G25: J. Hunt | H25: 5 | I25: 3 | J25: 1 | K25: 2
F26: 3 | G26: N. Henry | H26: 17 | I26: 5 | J26: 4 | K26: 39
F27: 4 | G27: T. White | H27: 14 | I27: 1 | J27: 1 | K27: 37
F28: 5 | G28: S. Beardall | H28: 4 | I28: 0 | J28: 1 | K28: 24
F29: 6
F30: 7
F31: 8
F32: 9
F33: 10
F34: 11
F36: Bowling Extras | H36: 3

Sheet Crazies Hill & Cockpole Green
N2: Date | O2: Opposition | P2: Match Status | Q2: Home/Away | R2: TPCC Batting First | S2: TPCC Team Score | T2: TPCC Team Wickets | U2: Opposition Team Score | V2: Opposition Team Wickets | W2: TPCC Overs Bowled | X2: TPCC Overs Faced | Y2: Batting Extras | Z2: Bowling Extras | AA2: Batsmen Position | AB2: Batsmen Name | AC2: Batsmen Runs | AD2: Batsmen Out | AE2: Bowler Position | AF2: Bowler Name | AG2: Bowler Overs | AH2: Bowler Maidens | AI2: Bowler Wickets | AJ2: Bowler Runs
C3: Match Overview | N3: =$D$5 -> 40677 | O3: =$D$7 -> Crazies Hill | P3: =$D$9 -> Draw | Q3: =$D$11 -> Away | R3: =$D$13 -> Second | S3: =$D$15 -> 123 | T3: =$D$16 -> 6 | U3: =$D$18 -> 222 | V3: =$D$19 -> 6 | W3: =$D$21 -> 36 | X3: =$D$22 -> 36 | Y3: =$H$19 -> 10 | Z3: =$H$36 -> 4 | AA3: =F7 -> 1 | AB3: =G7 -> C. Simon | AC3: =H7 -> 7 | AD3: =I7 -> 1 | AE3: =F24 -> 1 | AF3: =G24 -> J. Leefe | AG3: =H24 -> 9 | AH3: =I24 -> 0 | AI3: =J24 -> 2 | AJ3: =K24 -> 35
N4: =$D$5 -> 40677 | O4: =$D$7 -> Crazies Hill | P4: =$D$9 -> Draw | Q4: =$D$11 -> Away | R4: =$D$13 -> Second | S4: =$D$15 -> 123 | T4: =$D$16 -> 6 | U4: =$D$18 -> 222 | V4: =$D$19 -> 6 | W4: =$D$21 -> 36 | X4: =$D$22 -> 36 | Y4: =$H$19 -> 10 | Z4: =$H$36 -> 4 | AA4: =F8 -> 2 | AB4: =G8 -> S. Bucknill | AC4: =H8 -> 1 | AD4: =I8 -> 1 | AE4: =F25 -> 2 | AF4: =G25 -> S. Beardall | AG4: =H25 -> 9 | AH4: =I25 -> 0 | AI4: =J25 -> 2 | AJ4: =K25 -> 66
C5: Date | D5: 40677 | F5: Batting | N5: =$D$5 -> 40677 | O5: =$D$7 -> Crazies Hill | P5: =$D$9 -> Draw | Q5: =$D$11 -> Away | R5: =$D$13 -> Second | S5: =$D$15 -> 123 | T5: =$D$16 -> 6 | U5: =$D$18 -> 222 | V5: =$D$19 -> 6 | W5: =$D$21 -> 36 | X5: =$D$22 -> 36 | Y5: =$H$19 -> 10 | Z5: =$H$36 -> 4 | AA5: =F9 -> 3 | AB5: =G9 -> S. Beardall | AC5: =H9 -> 14 | AD5: =I9 -> 1 | AE5: =F26 -> 3 | AF5: =G26 -> A. Harvey-Thompson | AG5: =H26 -> 13 | AH5: =I26 -> 1 | AI5: =J26 -> 2 | AJ5: =K26 -> 62
F6: Position | G6: Name | H6: Runs | I6: Out | N6: =$D$5 -> 40677 | O6: =$D$7 -> Crazies Hill | P6: =$D$9 -> Draw | Q6: =$D$11 -> Away | R6: =$D$13 -> Second | S6: =$D$15 -> 123 | T6: =$D$16 -> 6 | U6: =$D$18 -> 222 | V6: =$D$19 -> 6 | W6: =$D$21 -> 36 | X6: =$D$22 -> 36 | Y6: =$H$19 -> 10 | Z6: =$H$36 -> 4 | AA6: =F10 -> 4 | AB6: =G10 -> R. Dickie | AC6: =H10 -> 7 | AD6: =I10 -> 1 | AE6: =F27 -> 4 | AF6: =G27 -> N. Runkell | AG6: =H27 -> 4 | AH6: =I27 -> 0 | AI6: =J27 -> 0 | AJ6: =K27 -> 48
C7: Opposition | D7: Crazies Hill | F7: 1 | G7: C. Simon | H7: 7 | I7: 1 | N7: =$D$5 -> 40677 | O7: =$D$7 -> Crazies Hill | P7: =$D$9 -> Draw | Q7: =$D$11 -> Away | R7: =$D$13 -> Second | S7: =$D$15 -> 123 | T7: =$D$16 -> 6 | U7: =$D$18 -> 222 | V7: =$D$19 -> 6 | W7: =$D$21 -> 36 | X7: =$D$22 -> 36 | Y7: =$H$19 -> 10 | Z7: =$H$36 -> 4 | AA7: =F11 -> 5 | AB7: =G11 -> O. Brett | AC7: =H11 -> 21 | AD7: =I11 -> 1 | AE7: =F28 -> 5 | AF7: =G28 -> O. Brett | AG7: =H28 -> 1 | AH7: =I28 -> 0 | AI7: =J28 -> 0 | AJ7: =K28 -> 7
F8: 2 | G8: S. Bucknill | H8: 1 | I8: 1 | N8: =$D$5 -> 40677 | O8: =$D$7 -> Crazies Hill | P8: =$D$9 -> Draw | Q8: =$D$11 -> Away | R8: =$D$13 -> Second | S8: =$D$15 -> 123 | T8: =$D$16 -> 6 | U8: =$D$18 -> 222 | V8: =$D$19 -> 6 | W8: =$D$21 -> 36 | X8: =$D$22 -> 36 | Y8: =$H$19 -> 10 | Z8: =$H$36 -> 4 | AA8: =F12 -> 6 | AB8: =G12 -> B. Bazell | AC8: =H12 -> 61 | AD8: =I12 -> 1 | AE8: =F29 -> 6 | AF8: =G29 -> 0 | AG8: =H29 -> 0 | AH8: =I29 -> 0 | AI8: =J29 -> 0 | AJ8: =K29 -> 0
C9: Match Status | D9: Draw | F9: 3 | G9: S. Beardall | H9: 14 | I9: 1 | N9: =$D$5 -> 40677 | O9: =$D$7 -> Crazies Hill | P9: =$D$9 -> Draw | Q9: =$D$11 -> Away | R9: =$D$13 -> Second | S9: =$D$15 -> 123 | T9: =$D$16 -> 6 | U9: =$D$18 -> 222 | V9: =$D$19 -> 6 | W9: =$D$21 -> 36 | X9: =$D$22 -> 36 | Y9: =$H$19 -> 10 | Z9: =$H$36 -> 4 | AA9: =F13 -> 7 | AB9: =G13 -> J. Leefe | AC9: =H13 -> 1 | AD9: =I13 -> 0 | AE9: =F30 -> 7 | AF9: =G30 -> 0 | AG9: =H30 -> 0 | AH9: =I30 -> 0 | AI9: =J30 -> 0 | AJ9: =K30 -> 0
F10: 4 | G10: R. Dickie | H10: 7 | I10: 1 | N10: =$D$5 -> 40677 | O10: =$D$7 -> Crazies Hill | P10: =$D$9 -> Draw | Q10: =$D$11 -> Away | R10: =$D$13 -> Second | S10: =$D$15 -> 123 | T10: =$D$16 -> 6 | U10: =$D$18 -> 222 | V10: =$D$19 -> 6 | W10: =$D$21 -> 36 | X10: =$D$22 -> 36 | Y10: =$H$19 -> 10 | Z10: =$H$36 -> 4 | AA10: =F14 -> 8 | AB10: =G14 -> Ra. Dickie | AC10: =H14 -> 1 | AD10: =I14 -> 0 | AE10: =F31 -> 8 | AF10: =G31 -> 0 | AG10: =H31 -> 0 | AH10: =I31 -> 0 | AI10: =J31 -> 0 | AJ10: =K31 -> 0
C11: Home / Away | D11: Away | F11: 5 | G11: O. Brett | H11: 21 | I11: 1 | N11: =$D$5 -> 40677 | O11: =$D$7 -> Crazies Hill | P11: =$D$9 -> Draw | Q11: =$D$11 -> Away | R11: =$D$13 -> Second | S11: =$D$15 -> 123 | T11: =$D$16 -> 6 | U11: =$D$18 -> 222 | V11: =$D$19 -> 6 | W11: =$D$21 -> 36 | X11: =$D$22 -> 36 | Y11: =$H$19 -> 10 | Z11: =$H$36 -> 4 | AA11: =F15 -> 9 | AB11: =G15 -> 0 | AC11: =H15 -> 0 | AD11: =I15 -> 0 | AE11: =F32 -> 9 | AF11: =G32 -> 0 | AG11: =H32 -> 0 | AH11: =I32 -> 0 | AI11: =J32 -> 0 | AJ11: =K32 -> 0
F12: 6 | G12: B. Bazell | H12: 61 | I12: 1 | N12: =$D$5 -> 40677 | O12: =$D$7 -> Crazies Hill | P12: =$D$9 -> Draw | Q12: =$D$11 -> Away | R12: =$D$13 -> Second | S12: =$D$15 -> 123 | T12: =$D$16 -> 6 | U12: =$D$18 -> 222 | V12: =$D$19 -> 6 | W12: =$D$21 -> 36 | X12: =$D$22 -> 36 | Y12: =$H$19 -> 10 | Z12: =$H$36 -> 4 | AA12: =F16 -> 10 | AB12: =G16 -> 0 | AC12: =H16 -> 0 | AD12: =I16 -> 0 | AE12: =F33 -> 10 | AF12: =G33 -> 0 | AG12: =H33 -> 0 | AH12: =I33 -> 0 | AI12: =J33 -> 0 | AJ12: =K33 -> 0
C13: TPCC Batting First | D13: Second | F13: 7 | G13: J. Leefe | H13: 1 | I13: 0 | N13: =$D$5 -> 40677 | O13: =$D$7 -> Crazies Hill | P13: =$D$9 -> Draw | Q13: =$D$11 -> Away | R13: =$D$13 -> Second | S13: =$D$15 -> 123 | T13: =$D$16 -> 6 | U13: =$D$18 -> 222 | V13: =$D$19 -> 6 | W13: =$D$21 -> 36 | X13: =$D$22 -> 36 | Y13: =$H$19 -> 10 | Z13: =$H$36 -> 4 | AA13: =F17 -> 11 | AB13: =G17 -> 0 | AC13: =H17 -> 0 | AD13: =I17 -> 0 | AE13: =F34 -> 11 | AF13: =G34 -> 0 | AG13: =H34 -> 0 | AH13: =I34 -> 0 | AI13: =J34 -> 0 | AJ13: =K34 -> 0
F14: 8 | G14: Ra. Dickie | H14: 1 | I14: 0
C15: TPCC Team Score | D15: =SUM(H7:H17)+H19 -> 123 | F15: 9
C16: TPCC Team Wickets | D16: =SUM(I7:I17) -> 6 | F16: 10
F17: 11
C18: Opposition Team Score | D18: =SUM(K24:K34)+H36 -> 222
C19: Opposition Team Wickets | D19: =SUM(J24:J34) -> 6 | F19: Batting Extras | H19: 10
C21: TPCC Overs Bowled | D21: =SUM(H24:H34) -> 36
C22: Opposition Overs Bowled | D22: 36 | F22: Bowling
F23: Position | G23: Name | H23: Overs | I23: Maidens | J23: Wickets | K23: Runs
F24: 1 | G24: J. Leefe | H24: 9 | I24: 0 | J24: 2 | K24: 35
F25: 2 | G25: S. Beardall | H25: 9 | I25: 0 | J25: 2 | K25: 66
F26: 3 | G26: A. Harvey-Thompson | H26: 13 | I26: 1 | J26: 2 | K26: 62
F27: 4 | G27: N. Runkell | H27: 4 | I27: 0 | J27: 0 | K27: 48
F28: 5 | G28: O. Brett | H28: 1 | I28: 0 | J28: 0 | K28: 7
F29: 6
F30: 7
F31: 8
F32: 9
F33: 10
F34: 11
F36: Bowling Extras | H36: 4

Sheet Britwell Salome
N2: Date | O2: Opposition | P2: Match Status | Q2: Home/Away | R2: TPCC Batting First | S2: TPCC Team Score | T2: TPCC Team Wickets | U2: Opposition Team Score | V2: Opposition Team Wickets | W2: TPCC Overs Bowled | X2: TPCC Overs Faced | Y2: Batting Extras | Z2: Bowling Extras | AA2: Batsmen Position | AB2: Batsmen Name | AC2: Batsmen Runs | AD2: Batsmen Out | AE2: Bowler Position | AF2: Bowler Name | AG2: Bowler Overs | AH2: Bowler Maidens | AI2: Bowler Wickets | AJ2: Bowler Runs
C3: Match Overview | N3: =$D$5 -> 40678 | O3: =$D$7 -> Britwell Salome | P3: =$D$9 -> Draw | Q3: =$D$11 -> Away | R3: =$D$13 -> First | S3: =$D$15 -> 297 | T3: =$D$16 -> 6 | U3: =$D$18 -> 163 | V3: =$D$19 -> 8 | W3: =$D$21 -> 39 | X3: =$D$22 -> 34 | Y3: =$H$19 -> 19 | Z3: =$H$36 -> 25 | AA3: =F7 -> 1 | AB3: =G7 -> P. Briffett | AC3: =H7 -> 2 | AD3: =I7 -> 1 | AE3: =F24 -> 1 | AF3: =G24 -> J. Leefe | AG3: =H24 -> 10 | AH3: =I24 -> 0 | AI3: =J24 -> 3 | AJ3: =K24 -> 42
N4: =$D$5 -> 40678 | O4: =$D$7 -> Britwell Salome | P4: =$D$9 -> Draw | Q4: =$D$11 -> Away | R4: =$D$13 -> First | S4: =$D$15 -> 297 | T4: =$D$16 -> 6 | U4: =$D$18 -> 163 | V4: =$D$19 -> 8 | W4: =$D$21 -> 39 | X4: =$D$22 -> 34 | Y4: =$H$19 -> 19 | Z4: =$H$36 -> 25 | AA4: =F8 -> 2 | AB4: =G8 -> A. Bignell | AC4: =H8 -> 0 | AD4: =I8 -> 1 | AE4: =F25 -> 2 | AF4: =G25 -> S. Beardall | AG4: =H25 -> 7 | AH4: =I25 -> 1 | AI4: =J25 -> 1 | AJ4: =K25 -> 28
